From mboxrd@z Thu Jan  1 00:00:00 1970
Return-Path: <test-report-bounces@dpdk.org>
Received: from mails.dpdk.org (mails.dpdk.org [217.70.189.124])
	by inbox.dpdk.org (Postfix) with ESMTP id ECB6543EE9
	for <public@inbox.dpdk.org>; Tue, 23 Apr 2024 13:55:35 +0200 (CEST)
Received: from mails.dpdk.org (localhost [127.0.0.1])
	by mails.dpdk.org (Postfix) with ESMTP id E80E740E54;
	Tue, 23 Apr 2024 13:55:35 +0200 (CEST)
Received: from mail-il1-f228.google.com (mail-il1-f228.google.com
 [209.85.166.228])
 by mails.dpdk.org (Postfix) with ESMTP id 562C3402AB
 for <test-report@dpdk.org>; Tue, 23 Apr 2024 13:55:32 +0200 (CEST)
Received: by mail-il1-f228.google.com with SMTP id
 e9e14a558f8ab-36bff60429cso15345715ab.2
 for <test-report@dpdk.org>; Tue, 23 Apr 2024 04:55:32 -0700 (PDT)
DKIM-Signature: v=1; a=rsa-sha256; c=relaxed/relaxed;
 d=iol.unh.edu; s=unh-iol; t=1713873331; x=1714478131; darn=dpdk.org;
 h=references:in-reply-to:cc:to:from:subject:message-id:date:from:to
 :cc:subject:date:message-id:reply-to;
 bh=BnaMP3xvs3uRqI4g+yKgMfPmHMas+LxIM+yweAcSKi4=;
 b=XwgiwZzWNkDTXoKba6O/3RMJJqoszxZQnrUypOOI/+88yzIcE8zrgwEr6AwXZL/5Y8
 YcqbveMpDE8GtnBsjiX/PPeudl8DdMNHwsmczA/Za3OWLXIwMJiy5q6Agp9hlJEeYvjB
 d/0WSeOhDMvat8Sv1kLkfVYvZoRaRN70Ap/ZE=
X-Google-DKIM-Signature: v=1; a=rsa-sha256; c=relaxed/relaxed;
 d=1e100.net; s=20230601; t=1713873331; x=1714478131;
 h=references:in-reply-to:cc:to:from:subject:message-id:date
 :x-gm-message-state:from:to:cc:subject:date:message-id:reply-to;
 bh=BnaMP3xvs3uRqI4g+yKgMfPmHMas+LxIM+yweAcSKi4=;
 b=Gf/OlXcH2g6gawC7LiudCRklItVJRfbqnW7RD7IUdQsPCf/DSO6qTvvjr+KfUvgA6C
 7YbF5558lRYTcULu906OLz1tqntwnrkEeDra8HvjYnNj7H4LUrgBQihryrWKjTRKhkEQ
 FtBUZxeqCuqlFkb/wECX7b+1gUVioRqo0ymExyXGlcVv0nbOXx9rUr0sXYR5mm4EZyHH
 pXNMi88ZeOJKmNMpEydfdGGbaffuWgXa7CrdqExoKuSutygyAZFHK/eRHPeon93+8rvQ
 B5GKuxbgD0jXwd0NUbueL4D6lUEQWJb3vIvq9Nvax8Kdlp+4ScG7D5vwcyqDXLqKYivN
 QuPg==
X-Gm-Message-State: AOJu0YyRWlmmSh3SNOc1Cj8gPUiXAUaBvdNxk/vEacJy6R7AEunjpUBU
 bBwewG9FhA4KutJV0P+maXiIcuUQm+JeEr8KEgH++Kjak5kL6D01f4wd6JH7AfdnL0HbP09+mGG
 zkczXGxDIx4h10BcPyfqWndMuQ505c3RBx9GT/3VI
X-Google-Smtp-Source: AGHT+IE3wuU0Ks82kcU8TePIzUXpapiN1LqtzDWmyzdS1hn9pz+PO+ot9pfdUHLDObo3PdzMaz8Pj8+CUZJF
X-Received: by 2002:a05:6e02:1ca7:b0:36b:26df:cce9 with SMTP id
 x7-20020a056e021ca700b0036b26dfcce9mr17676204ill.22.1713873331828; 
 Tue, 23 Apr 2024 04:55:31 -0700 (PDT)
Received: from postal.iol.unh.edu (postal.iol.unh.edu. [132.177.123.84])
 by smtp-relay.gmail.com with ESMTPS id
 a3-20020a92d583000000b0036b389e90cbsm571011iln.35.2024.04.23.04.55.31
 (version=TLS1_2 cipher=ECDHE-ECDSA-AES128-GCM-SHA256 bits=128/128);
 Tue, 23 Apr 2024 04:55:31 -0700 (PDT)
X-Relaying-Domain: iol.unh.edu
Date: Tue, 23 Apr 2024 04:55:31 -0700 (PDT)
Message-ID: <6627a1b3.920a0220.8ec8d.0e05SMTPIN_ADDED_MISSING@mx.google.com>
Received: from [172.21.0.7] (unknown [172.18.0.240])
 by postal.iol.unh.edu (Postfix) with ESMTP id 70AEC6052514;
 Tue, 23 Apr 2024 07:55:31 -0400 (EDT)
Subject: |SUCCESS| pw139628-139636 [PATCH] [v1,9/9] test/bbdev: remove unnece
From: dpdklab@iol.unh.edu
To: Test Report <test-report@dpdk.org>
Cc: dpdk-test-reports@iol.unh.edu
In-Reply-To: <20240422190800.123027-10-hernan.vargas@intel.com>
References: <20240422190800.123027-10-hernan.vargas@intel.com>
Content-Type: text/plain
X-BeenThere: test-report@dpdk.org
X-Mailman-Version: 2.1.29
Precedence: list
List-Id: automatic DPDK test reports <test-report.dpdk.org>
List-Unsubscribe: <https://mails.dpdk.org/options/test-report>,
 <mailto:test-report-request@dpdk.org?subject=unsubscribe>
List-Archive: <http://mails.dpdk.org/archives/test-report/>
List-Post: <mailto:test-report@dpdk.org>
List-Help: <mailto:test-report-request@dpdk.org?subject=help>
List-Subscribe: <https://mails.dpdk.org/listinfo/test-report>,
 <mailto:test-report-request@dpdk.org?subject=subscribe>
Errors-To: test-report-bounces@dpdk.org

Test-Label: iol-compile-amd64-testing
Test-Status: SUCCESS
http://dpdk.org/patch/139636

_Testing PASS_

Submitter: Hernan Vargas <hernan.vargas@intel.com>
Date: Monday, April 22 2024 19:08:00 
DPDK git baseline: Repo:dpdk
  Branch: master
  CommitID:98b4ecb4e4d73e93fdfa53f552b48d71104b445f

139628-139636 --> testing pass

Test environment and result as below:

+---------------------+--------------------+----------------------+-------------------+
|     Environment     | dpdk_meson_compile | dpdk_mingw64_compile | dpdk_msvc_compile |
+=====================+====================+======================+===================+
| FreeBSD 13.2        | PASS               | SKIPPED              | SKIPPED           |
+---------------------+--------------------+----------------------+-------------------+
| Windows Server 2022 | PASS               | PASS                 | PASS              |
+---------------------+--------------------+----------------------+-------------------+
| Windows Server 2019 | PASS               | PASS                 | SKIPPED           |
+---------------------+--------------------+----------------------+-------------------+


FreeBSD 13.2
	Kernel: 13.2
	Compiler: clang 14.0.5

Windows Server 2022
	Kernel: 10.0.20348.2031
	Compiler: clang 15.0.7, gcc 8.1.0 (MinGW), and MSVC VS 17.9

Windows Server 2019
	Kernel: 10.0.17763
	Compiler: clang 14.0 and gcc 8.1.0 (MinGW)

To view detailed results, visit:
https://lab.dpdk.org/results/dashboard/patchsets/29842/

UNH-IOL DPDK Community Lab

To manage your email subscriptions, visit: 
https://lab.dpdk.org/results/dashboard/preferences/subscriptions/