From mboxrd@z Thu Jan  1 00:00:00 1970
Return-Path: <test-report-bounces@dpdk.org>
Received: from mails.dpdk.org (mails.dpdk.org [217.70.189.124])
	by inbox.dpdk.org (Postfix) with ESMTP id 650FD43EE9
	for <public@inbox.dpdk.org>; Tue, 23 Apr 2024 13:56:10 +0200 (CEST)
Received: from mails.dpdk.org (localhost [127.0.0.1])
	by mails.dpdk.org (Postfix) with ESMTP id 5839740E54;
	Tue, 23 Apr 2024 13:56:10 +0200 (CEST)
Received: from mail-yw1-f225.google.com (mail-yw1-f225.google.com
 [209.85.128.225])
 by mails.dpdk.org (Postfix) with ESMTP id 7B08D402AB
 for <test-report@dpdk.org>; Tue, 23 Apr 2024 13:56:09 +0200 (CEST)
Received: by mail-yw1-f225.google.com with SMTP id
 00721157ae682-61587aa9f4cso60933247b3.3
 for <test-report@dpdk.org>; Tue, 23 Apr 2024 04:56:09 -0700 (PDT)
DKIM-Signature: v=1; a=rsa-sha256; c=relaxed/relaxed;
 d=iol.unh.edu; s=unh-iol; t=1713873369; x=1714478169; darn=dpdk.org;
 h=references:in-reply-to:cc:to:from:subject:message-id:date:from:to
 :cc:subject:date:message-id:reply-to;
 bh=YE23mv6rhjz6to4aCckFgSYsZzIalJyiSPLsMkznKAo=;
 b=E/HR+LKskELRrG3c6rLrmt541ILSGeZYoaJHNWl+BcKLNMI7apa8+hXwUjfQ/nftaW
 JW8p1r7eU6UXT7isb8uKOYhQ0Xr30qv1s5D1A7DuFHjSTF47dRm+h6+hUdAKxa6bTwDj
 VchyI6iXcpnd8gNn3ua3NQfY3IUARksVg1VD4=
X-Google-DKIM-Signature: v=1; a=rsa-sha256; c=relaxed/relaxed;
 d=1e100.net; s=20230601; t=1713873369; x=1714478169;
 h=references:in-reply-to:cc:to:from:subject:message-id:date
 :x-gm-message-state:from:to:cc:subject:date:message-id:reply-to;
 bh=YE23mv6rhjz6to4aCckFgSYsZzIalJyiSPLsMkznKAo=;
 b=PYSaMph5gXg6UezcMTQDwf3PLqvDxvviUdaxCwxYV98nW+oYeM4nYE2qkDql1Q3TFv
 c2F8c6SZdkwFP055rcwmVbbdPGKjrV2obenp/M4hWMQQH4+6Oc4Fii+UKCDZH5eM/gxw
 194izBSN1cCVz+OP7csRCcEPfQ0f4vTvSjOWNY8POcawT20FeFWUdHQjB5W6wyKbjB6U
 39+/uhY8TntLcWLhtBec8sOz+As5RMiTdlTM+qR6lBpKbIsd1k0tTKAeIO+5v6P4Ln4j
 NNel8u/SCV3R83kHQtq9Ge3M3Hk4KUbCqemdkYCHxlDd5BnE5IVTGy1yYYkzArUQNjVI
 q92A==
X-Gm-Message-State: AOJu0Yxa22PCyKAUZQ5Xkr7ZbN+dYoMBJiUiiokJ9DXrzqarg8sf44rW
 irRZY9mWkjgN+DVAK29UB/bKwFjgb0CApxMZXCX3YC37yYVynHvg6XlH/eN4F8iJ9V8c6Z3PlbJ
 Nr2L4VgojTn3OKNmzXWDQAElMxyzv0hgMe4n4LHR0aGUEfwkzdplgsCKp
X-Google-Smtp-Source: AGHT+IHg+vLur/wGggp2FmrB6HMEPNElC68uaJ4lRf/Uxjt7f7F2eENkbJ3bQK7G/XEM5XMSTq8MHoS5/V7m
X-Received: by 2002:a05:690c:61c3:b0:61a:c2fc:1128 with SMTP id
 hk3-20020a05690c61c300b0061ac2fc1128mr14971933ywb.28.1713873368854; 
 Tue, 23 Apr 2024 04:56:08 -0700 (PDT)
Received: from postal.iol.unh.edu (postal.iol.unh.edu.
 [2606:4100:3880:1234::84]) by smtp-relay.gmail.com with ESMTPS id
 m74-20020a0dca4d000000b0061577675e70sm809376ywd.11.2024.04.23.04.56.08
 (version=TLS1_2 cipher=ECDHE-ECDSA-AES128-GCM-SHA256 bits=128/128);
 Tue, 23 Apr 2024 04:56:08 -0700 (PDT)
X-Relaying-Domain: iol.unh.edu
Date: Tue, 23 Apr 2024 04:56:08 -0700 (PDT)
Message-ID: <6627a1d8.0d0a0220.65b27.00e9SMTPIN_ADDED_MISSING@mx.google.com>
Received: from [172.21.0.6] (unknown [172.18.0.240])
 by postal.iol.unh.edu (Postfix) with ESMTP id 7A5F46052514;
 Tue, 23 Apr 2024 07:56:08 -0400 (EDT)
Subject: |SUCCESS| pw139641 [PATCH] net/af_packet: cache align Rx/Tx structs
From: dpdklab@iol.unh.edu
To: Test Report <test-report@dpdk.org>
Cc: dpdk-test-reports@iol.unh.edu
In-Reply-To: <20240423090813.94110-1-mattias.ronnblom@ericsson.com>
References: <20240423090813.94110-1-mattias.ronnblom@ericsson.com>
Content-Type: text/plain
X-BeenThere: test-report@dpdk.org
X-Mailman-Version: 2.1.29
Precedence: list
List-Id: automatic DPDK test reports <test-report.dpdk.org>
List-Unsubscribe: <https://mails.dpdk.org/options/test-report>,
 <mailto:test-report-request@dpdk.org?subject=unsubscribe>
List-Archive: <http://mails.dpdk.org/archives/test-report/>
List-Post: <mailto:test-report@dpdk.org>
List-Help: <mailto:test-report-request@dpdk.org?subject=help>
List-Subscribe: <https://mails.dpdk.org/listinfo/test-report>,
 <mailto:test-report-request@dpdk.org?subject=subscribe>
Errors-To: test-report-bounces@dpdk.org

Test-Label: iol-compile-arm64-testing
Test-Status: SUCCESS
http://dpdk.org/patch/139641

_Testing PASS_

Submitter: Mattias Ronnblom <mattias.ronnblom@ericsson.com>
Date: Tuesday, April 23 2024 09:08:13 
DPDK git baseline: Repo:dpdk
  Branch: master
  CommitID:8841786ab4aa72d205f97528af8708a13a851f4f

139641 --> testing pass

Test environment and result as below:

+----------------------------------------+--------------------+
|              Environment               | dpdk_meson_compile |
+========================================+====================+
| Ubuntu 20.04 ARM SVE                   | PASS               |
+----------------------------------------+--------------------+
| Debian 12 with MUSDK                   | PASS               |
+----------------------------------------+--------------------+
| Debian 11 (Buster) (ARM)               | PASS               |
+----------------------------------------+--------------------+
| Fedora 38 (ARM)                        | PASS               |
+----------------------------------------+--------------------+
| CentOS Stream 9 (ARM)                  | PASS               |
+----------------------------------------+--------------------+
| Ubuntu 20.04 (ARM)                     | PASS               |
+----------------------------------------+--------------------+
| Ubuntu 20.04 aarch32 GCC Cross Compile | PASS               |
+----------------------------------------+--------------------+
| Fedora 37 (ARM)                        | PASS               |
+----------------------------------------+--------------------+
| Debian 12 (arm)                        | PASS               |
+----------------------------------------+--------------------+
| Ubuntu 20.04 ARM Clang Cross Compile   | PASS               |
+----------------------------------------+--------------------+
| Ubuntu 20.04 ARM GCC Cross Compile     | PASS               |
+----------------------------------------+--------------------+


Ubuntu 20.04 ARM SVE
	Kernel: 5.4.0-167-generic
	Compiler: gcc (Ubuntu 10.5.0-1ubuntu1~20.04) 10.5.0

Debian 12 with MUSDK
	Kernel: Container Host Kernel
	Compiler: gcc 12.2.0

Debian 11 (Buster) (ARM)
	Kernel: Container Host Kernel
	Compiler: gcc 10.2.1

Fedora 38 (ARM)
	Kernel: Depends on container host
	Compiler: gcc 13.2.1

CentOS Stream 9 (ARM)
	Kernel: Container Host Kernel
	Compiler: gcc 11.4.1

Ubuntu 20.04 (ARM)
	Kernel: Container Host Kernel
	Compiler: gcc 9.4.0

Ubuntu 20.04 aarch32 GCC Cross Compile
	Kernel: 5.4.0-167-generic
	Compiler: gcc 9.4.0

Fedora 37 (ARM)
	Kernel: Depends on container host
	Compiler: gcc 12.3.1

Debian 12 (arm)
	Kernel: Container Host Kernel
	Compiler: gcc 12.2.0

Ubuntu 20.04 ARM Clang Cross Compile
	Kernel: 5.4.0-72-generic
	Compiler: clang 10.0.0-4ubuntu1

Ubuntu 20.04 ARM GCC Cross Compile
	Kernel: 5.4.0-167-generic
	Compiler: aarch64-linux-gnu-gcc (Ubuntu 9.4.0-1ubuntu1~20.04.2) 9.4.0

To view detailed results, visit:
https://lab.dpdk.org/results/dashboard/patchsets/29844/

UNH-IOL DPDK Community Lab

To manage your email subscriptions, visit: 
https://lab.dpdk.org/results/dashboard/preferences/subscriptions/