From mboxrd@z Thu Jan  1 00:00:00 1970
Return-Path: <test-report-bounces@dpdk.org>
Received: from mails.dpdk.org (mails.dpdk.org [217.70.189.124])
	by inbox.dpdk.org (Postfix) with ESMTP id EDAA343EE9
	for <public@inbox.dpdk.org>; Tue, 23 Apr 2024 13:57:12 +0200 (CEST)
Received: from mails.dpdk.org (localhost [127.0.0.1])
	by mails.dpdk.org (Postfix) with ESMTP id E2D8140E54;
	Tue, 23 Apr 2024 13:57:12 +0200 (CEST)
Received: from mail-il1-f228.google.com (mail-il1-f228.google.com
 [209.85.166.228])
 by mails.dpdk.org (Postfix) with ESMTP id B65DF402AB
 for <test-report@dpdk.org>; Tue, 23 Apr 2024 13:57:11 +0200 (CEST)
Received: by mail-il1-f228.google.com with SMTP id
 e9e14a558f8ab-36c1b567676so1381585ab.2
 for <test-report@dpdk.org>; Tue, 23 Apr 2024 04:57:11 -0700 (PDT)
DKIM-Signature: v=1; a=rsa-sha256; c=relaxed/relaxed;
 d=iol.unh.edu; s=unh-iol; t=1713873431; x=1714478231; darn=dpdk.org;
 h=references:in-reply-to:cc:to:from:subject:message-id:date:from:to
 :cc:subject:date:message-id:reply-to;
 bh=MFzrgzfyiYCIBeE+Xu/dO/CKOLvBUK7G9H1Ipg0HGu4=;
 b=PiBvunDOrixrtyJNOg/NipRksD+qxa974C8gYBiQccAm6rEp59x0uUCSiGjeUpsWD2
 Ag4XFtc+OqvA/L9R1Jq8LdF6tHC4k21xucczB795v3FSkwfUV6QWyXtJCmevcdDEQtXl
 76yrxGjhLAEnYzABgkLlkRkS/NjXXIrOgb+0Q=
X-Google-DKIM-Signature: v=1; a=rsa-sha256; c=relaxed/relaxed;
 d=1e100.net; s=20230601; t=1713873431; x=1714478231;
 h=references:in-reply-to:cc:to:from:subject:message-id:date
 :x-gm-message-state:from:to:cc:subject:date:message-id:reply-to;
 bh=MFzrgzfyiYCIBeE+Xu/dO/CKOLvBUK7G9H1Ipg0HGu4=;
 b=hfiXWv/S0pp4w71d5v5Jh8vMefl45zyFCYbSPMUuwXfL4jonJgsOxbJSqcHDa/kagB
 QocOjcBXyu+WTQjIAcFWywAshD1XAgiGxka2tiiN1+KYdlvTs+57CncjXZBujBsUDlBw
 va5a4DWLdtfG4p69xaeprMLFxXssQiOllCNLxLr+jstYlqVcSvXsvYH20s/xKgPQpY0S
 ggj8i3gNbTqak6tNJzBeVmzPrDoh4Tj+SjC8xyOm+K2L1xhVZJ3/f68shNtqlHeTr6tB
 uBeMYud83iR7r/zEkGy8Z0AMGufZ5f5KSykyhgBwE2z52Oi3dG1XdStIaVQn7bbIOc7A
 0hIw==
X-Gm-Message-State: AOJu0Yzvd42Qb3S2BCsSqEj3fO6FmBjLoQhEqOnNfhdppH+RcApHEGBj
 B03DHZ1pkANosZB8lbWeJGMeVMLAQ+g9xT+IosPDg5FOe8kzKxnCpz71A3zk1lvgO3sZX8b1Yb7
 tYVsohiAQ9c2AY3lB13niGiK4Y7F42MJgV/+LPw3r
X-Google-Smtp-Source: AGHT+IEM0fFwLs/ig4AkPsYQWYIaeUXdze6gumxSGDi28+Xqgud00rKR8s/tUcm3QTUDVONxR4cQlImvWPkn
X-Received: by 2002:a05:6e02:1a65:b0:36a:3fb1:6704 with SMTP id
 w5-20020a056e021a6500b0036a3fb16704mr18272044ilv.4.1713873431174; 
 Tue, 23 Apr 2024 04:57:11 -0700 (PDT)
Received: from postal.iol.unh.edu (postal.iol.unh.edu. [132.177.123.84])
 by smtp-relay.gmail.com with ESMTPS id
 q10-20020a92ca4a000000b0036894786b27sm566236ilo.4.2024.04.23.04.57.11
 (version=TLS1_2 cipher=ECDHE-ECDSA-AES128-GCM-SHA256 bits=128/128);
 Tue, 23 Apr 2024 04:57:11 -0700 (PDT)
X-Relaying-Domain: iol.unh.edu
Date: Tue, 23 Apr 2024 04:57:11 -0700 (PDT)
Message-ID: <6627a217.920a0220.435ba.f81eSMTPIN_ADDED_MISSING@mx.google.com>
Received: from [172.21.0.6] (unknown [172.18.0.240])
 by postal.iol.unh.edu (Postfix) with ESMTP id A41DC6052514;
 Tue, 23 Apr 2024 07:57:10 -0400 (EDT)
Subject: |SUCCESS| pw139628-139636 [PATCH] [v1,9/9] test/bbdev: remove unnece
From: dpdklab@iol.unh.edu
To: Test Report <test-report@dpdk.org>
Cc: dpdk-test-reports@iol.unh.edu
In-Reply-To: <20240422190800.123027-10-hernan.vargas@intel.com>
References: <20240422190800.123027-10-hernan.vargas@intel.com>
Content-Type: text/plain
X-BeenThere: test-report@dpdk.org
X-Mailman-Version: 2.1.29
Precedence: list
List-Id: automatic DPDK test reports <test-report.dpdk.org>
List-Unsubscribe: <https://mails.dpdk.org/options/test-report>,
 <mailto:test-report-request@dpdk.org?subject=unsubscribe>
List-Archive: <http://mails.dpdk.org/archives/test-report/>
List-Post: <mailto:test-report@dpdk.org>
List-Help: <mailto:test-report-request@dpdk.org?subject=help>
List-Subscribe: <https://mails.dpdk.org/listinfo/test-report>,
 <mailto:test-report-request@dpdk.org?subject=subscribe>
Errors-To: test-report-bounces@dpdk.org

Test-Label: iol-compile-arm64-testing
Test-Status: SUCCESS
http://dpdk.org/patch/139636

_Testing PASS_

Submitter: Hernan Vargas <hernan.vargas@intel.com>
Date: Monday, April 22 2024 19:08:00 
DPDK git baseline: Repo:dpdk
  Branch: master
  CommitID:98b4ecb4e4d73e93fdfa53f552b48d71104b445f

139628-139636 --> testing pass

Test environment and result as below:

+-----------------------+--------------------+
|      Environment      | dpdk_meson_compile |
+=======================+====================+
| Ubuntu 20.04 ARM SVE  | PASS               |
+-----------------------+--------------------+
| Debian 12 with MUSDK  | PASS               |
+-----------------------+--------------------+
| CentOS Stream 9 (ARM) | PASS               |
+-----------------------+--------------------+
| Fedora 39 (ARM)       | PASS               |
+-----------------------+--------------------+
| Ubuntu 20.04 (ARM)    | PASS               |
+-----------------------+--------------------+


Ubuntu 20.04 ARM SVE
	Kernel: 5.4.0-167-generic
	Compiler: gcc (Ubuntu 10.5.0-1ubuntu1~20.04) 10.5.0

Debian 12 with MUSDK
	Kernel: Container Host Kernel
	Compiler: gcc 12.2.0

CentOS Stream 9 (ARM)
	Kernel: Container Host Kernel
	Compiler: gcc 11.4.1

Fedora 39 (ARM)
	Kernel: Depends on container host
	Compiler: gcc 13.2.1

Ubuntu 20.04 (ARM)
	Kernel: Container Host Kernel
	Compiler: gcc 9.4.0

To view detailed results, visit:
https://lab.dpdk.org/results/dashboard/patchsets/29842/

UNH-IOL DPDK Community Lab

To manage your email subscriptions, visit: 
https://lab.dpdk.org/results/dashboard/preferences/subscriptions/