From mboxrd@z Thu Jan  1 00:00:00 1970
Return-Path: <test-report-bounces@dpdk.org>
Received: from mails.dpdk.org (mails.dpdk.org [217.70.189.124])
	by inbox.dpdk.org (Postfix) with ESMTP id 6BDB843E82
	for <public@inbox.dpdk.org>; Tue, 23 Apr 2024 14:34:30 +0200 (CEST)
Received: from mails.dpdk.org (localhost [127.0.0.1])
	by mails.dpdk.org (Postfix) with ESMTP id 6424B40E54;
	Tue, 23 Apr 2024 14:34:30 +0200 (CEST)
Received: from mail-pl1-f226.google.com (mail-pl1-f226.google.com
 [209.85.214.226])
 by mails.dpdk.org (Postfix) with ESMTP id CE6EB402AB
 for <test-report@dpdk.org>; Tue, 23 Apr 2024 14:34:28 +0200 (CEST)
Received: by mail-pl1-f226.google.com with SMTP id
 d9443c01a7336-1e4bf0b3e06so52678415ad.1
 for <test-report@dpdk.org>; Tue, 23 Apr 2024 05:34:28 -0700 (PDT)
DKIM-Signature: v=1; a=rsa-sha256; c=relaxed/relaxed;
 d=iol.unh.edu; s=unh-iol; t=1713875668; x=1714480468; darn=dpdk.org;
 h=references:in-reply-to:cc:to:from:subject:message-id:date:from:to
 :cc:subject:date:message-id:reply-to;
 bh=6qs4kq6qneLzbTRqmy/wKUfmBPW+CNOe8Rwu7WCOk8A=;
 b=enyPLwvf+oD3/+0P/PKduzSQxMjdZFwK1eBDxlndM8Oohf6+maRVViJRtVZPZ6MJ3p
 UqxpXOhUTmq5SA755NuSUdPZiwiN5sIN6xoc5rhfDylrq5X4a2gknLigkl41Q4nw93h6
 bob2o0oLHo94XIWO5HClXUpflc5D24I2n2opU=
X-Google-DKIM-Signature: v=1; a=rsa-sha256; c=relaxed/relaxed;
 d=1e100.net; s=20230601; t=1713875668; x=1714480468;
 h=references:in-reply-to:cc:to:from:subject:message-id:date
 :x-gm-message-state:from:to:cc:subject:date:message-id:reply-to;
 bh=6qs4kq6qneLzbTRqmy/wKUfmBPW+CNOe8Rwu7WCOk8A=;
 b=dKEIkozRxDKurPf/WtbZ26Kn66jC9j8sNg3S47BeDBY5NYKtX6Gi1dwyVHyTY+1nWP
 QJWa6Yxr0kKF13oIChqyvboNRENSLXMPVQPhnmKY63k0lJTM/4XhByf3cTTruAtMzW3Q
 UFVruFtitnAgWk9sK7IAhci8Gp3yeeJ+gpYxg1idGW2T7nolM+vcryRU+/Lpb9e1I2Ad
 y05QPNTIJGd8/98IOHRrskp1Tf1WiYnecqbj+Tbjt8oVzXyyhy6AjrgTVaitYcZdawzv
 ODR0Pf+bqJYT45x37YX8ljpfbn7DC2n/cCUCZB7EvbVzTfUrJFUgnicnTm/9Ejjqdnwy
 1EGA==
X-Gm-Message-State: AOJu0YwjEGjxP37FVSxx20e7PsPd/q54v6Rvl5n/9XYhdPK3y3Ay0LGJ
 hBXwSsWDN20SPxievDdZXiH7940VQDLcbXaDQ0UiA9UGwPC47D1oEwGMC7xViGeXkhQXbhqoiUv
 2YmTmYOZVS32qf8R5u7Me2QhjM0oGi9F1QtKoJ6MN/kcPrOBqqDfoFWp0
X-Google-Smtp-Source: AGHT+IEqeRaIDmrVH6Nf5E3o90s/cN0VtrKdoUWJk/sfVNbjXvt0DeTFkglQup9Ww+Wj+M1iBo5GUwKqI6GE
X-Received: by 2002:a17:902:cf06:b0:1e3:d4a2:3882 with SMTP id
 i6-20020a170902cf0600b001e3d4a23882mr19941067plg.2.1713875667922; 
 Tue, 23 Apr 2024 05:34:27 -0700 (PDT)
Received: from postal.iol.unh.edu (postal.iol.unh.edu.
 [2606:4100:3880:1234::84]) by smtp-relay.gmail.com with ESMTPS id
 s3-20020a170902988300b001e41f984b68sm292780plp.22.2024.04.23.05.34.27
 (version=TLS1_2 cipher=ECDHE-ECDSA-AES128-GCM-SHA256 bits=128/128);
 Tue, 23 Apr 2024 05:34:27 -0700 (PDT)
X-Relaying-Domain: iol.unh.edu
Date: Tue, 23 Apr 2024 05:34:27 -0700 (PDT)
Message-ID: <6627aad3.170a0220.41fc3.ff9cSMTPIN_ADDED_MISSING@mx.google.com>
Received: from [172.21.0.6] (unknown [172.18.0.240])
 by postal.iol.unh.edu (Postfix) with ESMTP id 1E48F6052514;
 Tue, 23 Apr 2024 08:34:27 -0400 (EDT)
Subject: |SUCCESS| pw139628-139636 [PATCH] [v1,9/9] test/bbdev: remove unnece
From: dpdklab@iol.unh.edu
To: Test Report <test-report@dpdk.org>
Cc: dpdk-test-reports@iol.unh.edu
In-Reply-To: <20240422190800.123027-10-hernan.vargas@intel.com>
References: <20240422190800.123027-10-hernan.vargas@intel.com>
Content-Type: text/plain
X-BeenThere: test-report@dpdk.org
X-Mailman-Version: 2.1.29
Precedence: list
List-Id: automatic DPDK test reports <test-report.dpdk.org>
List-Unsubscribe: <https://mails.dpdk.org/options/test-report>,
 <mailto:test-report-request@dpdk.org?subject=unsubscribe>
List-Archive: <http://mails.dpdk.org/archives/test-report/>
List-Post: <mailto:test-report@dpdk.org>
List-Help: <mailto:test-report-request@dpdk.org?subject=help>
List-Subscribe: <https://mails.dpdk.org/listinfo/test-report>,
 <mailto:test-report-request@dpdk.org?subject=subscribe>
Errors-To: test-report-bounces@dpdk.org

Test-Label: iol-compile-amd64-testing
Test-Status: SUCCESS
http://dpdk.org/patch/139636

_Testing PASS_

Submitter: Hernan Vargas <hernan.vargas@intel.com>
Date: Monday, April 22 2024 19:08:00 
DPDK git baseline: Repo:dpdk
  Branch: master
  CommitID:98b4ecb4e4d73e93fdfa53f552b48d71104b445f

139628-139636 --> testing pass

Test environment and result as below:

+---------------------+--------------------+----------------------+-------------------+
|     Environment     | dpdk_meson_compile | dpdk_mingw64_compile | dpdk_msvc_compile |
+=====================+====================+======================+===================+
| FreeBSD 13.2        | PASS               | SKIPPED              | SKIPPED           |
+---------------------+--------------------+----------------------+-------------------+
| Windows Server 2022 | PASS               | PASS                 | PASS              |
+---------------------+--------------------+----------------------+-------------------+
| Windows Server 2019 | PASS               | PASS                 | SKIPPED           |
+---------------------+--------------------+----------------------+-------------------+
| Debian Bullseye     | PASS               | SKIPPED              | SKIPPED           |
+---------------------+--------------------+----------------------+-------------------+
| CentOS Stream 9     | PASS               | SKIPPED              | SKIPPED           |
+---------------------+--------------------+----------------------+-------------------+
| CentOS Stream 8     | PASS               | SKIPPED              | SKIPPED           |
+---------------------+--------------------+----------------------+-------------------+
| Fedora 38           | PASS               | SKIPPED              | SKIPPED           |
+---------------------+--------------------+----------------------+-------------------+
| Fedora 39           | PASS               | SKIPPED              | SKIPPED           |
+---------------------+--------------------+----------------------+-------------------+
| Debian 12           | PASS               | SKIPPED              | SKIPPED           |
+---------------------+--------------------+----------------------+-------------------+
| Fedora 37           | PASS               | SKIPPED              | SKIPPED           |
+---------------------+--------------------+----------------------+-------------------+
| Ubuntu 20.04        | PASS               | SKIPPED              | SKIPPED           |
+---------------------+--------------------+----------------------+-------------------+


FreeBSD 13.2
	Kernel: 13.2
	Compiler: clang 14.0.5

Windows Server 2022
	Kernel: 10.0.20348.2031
	Compiler: clang 15.0.7, gcc 8.1.0 (MinGW), and MSVC VS 17.9

Windows Server 2019
	Kernel: 10.0.17763
	Compiler: clang 14.0 and gcc 8.1.0 (MinGW)

Debian Bullseye
	Kernel: 5.4.0-167-generic
	Compiler: gcc 10.2.1-6

CentOS Stream 9
	Kernel: 5.4.0-167-generic
	Compiler: gcc 11.4.1 20230605

CentOS Stream 8
	Kernel: 5.4.0-167-generic
	Compiler: gcc 8.5.0 20210514

Fedora 38
	Kernel: Depends on container host
	Compiler: gcc 13.2.1

Fedora 39
	Kernel: Depends on container host
	Compiler: clang 17.0.6

Debian 12
	Kernel: Container Host Kernel
	Compiler: gcc 10.2.1

Fedora 37
	Kernel: Depends on container host system
	Compiler: gcc 12.3.1

Ubuntu 20.04
	Kernel: 5.4.0-167-generic
	Compiler: gcc 9.4.0-1ubuntu1~20.04.1

To view detailed results, visit:
https://lab.dpdk.org/results/dashboard/patchsets/29842/

UNH-IOL DPDK Community Lab

To manage your email subscriptions, visit: 
https://lab.dpdk.org/results/dashboard/preferences/subscriptions/