From mboxrd@z Thu Jan  1 00:00:00 1970
Return-Path: <test-report-bounces@dpdk.org>
Received: from mails.dpdk.org (mails.dpdk.org [217.70.189.124])
	by inbox.dpdk.org (Postfix) with ESMTP id D972643E82
	for <public@inbox.dpdk.org>; Tue, 23 Apr 2024 14:45:30 +0200 (CEST)
Received: from mails.dpdk.org (localhost [127.0.0.1])
	by mails.dpdk.org (Postfix) with ESMTP id D50C040E54;
	Tue, 23 Apr 2024 14:45:30 +0200 (CEST)
Received: from mail-io1-f99.google.com (mail-io1-f99.google.com
 [209.85.166.99]) by mails.dpdk.org (Postfix) with ESMTP id 94322402AB
 for <test-report@dpdk.org>; Tue, 23 Apr 2024 14:45:29 +0200 (CEST)
Received: by mail-io1-f99.google.com with SMTP id
 ca18e2360f4ac-7d6c4c97875so244846539f.3
 for <test-report@dpdk.org>; Tue, 23 Apr 2024 05:45:29 -0700 (PDT)
DKIM-Signature: v=1; a=rsa-sha256; c=relaxed/relaxed;
 d=iol.unh.edu; s=unh-iol; t=1713876329; x=1714481129; darn=dpdk.org;
 h=references:in-reply-to:cc:to:from:subject:message-id:date:from:to
 :cc:subject:date:message-id:reply-to;
 bh=iXsgL43IaT/8Yuq6wMQ7PvtguvXLYIOpbb7PfDOzYq0=;
 b=AUgR7r+NZUAmRSHokl1OMnWF0yHrCPxSA6Z7dI8r54cwn2y1VcfYlxW2v89KT5mwBo
 DDm3zLXCpyB561L7ek4p3g104bUjWbMhO2LE9vgtJUmJKBhySltS44PpusJHQRTm+ril
 ydZrZwZdgBwqADcdBChSaGecM2JFV74tjVR7U=
X-Google-DKIM-Signature: v=1; a=rsa-sha256; c=relaxed/relaxed;
 d=1e100.net; s=20230601; t=1713876329; x=1714481129;
 h=references:in-reply-to:cc:to:from:subject:message-id:date
 :x-gm-message-state:from:to:cc:subject:date:message-id:reply-to;
 bh=iXsgL43IaT/8Yuq6wMQ7PvtguvXLYIOpbb7PfDOzYq0=;
 b=ENal95arWzlQ4zv2SzYVX3Rs0mc7LEWImqqcMdNqfwU1DSIJDPrNr7wNuQfoHQO12K
 cgihZjq+altg3VblHDZsPuY2UWSJn7UHa7i5mwXyExrABrjdcODMHp1SqlP3SVsVP+//
 Kq1ZW0nBLDPXPudvnXCf2LMwEhj1oQwybE0oS7MePonpW1N9J1OltiT8gy0WCx0FmOm9
 E33Wo/ofPHITxQkHweHMbVKCv/oaEhiAqISTem3DrlEF28gmBKJDSd14rUUq98pXK+w5
 mTQGoohzV8xIs+XduAThpnj2/CgyNORZQSG30KKtDnHWid9V95mba17sCbIrMfYUA5zJ
 gh9A==
X-Gm-Message-State: AOJu0YyjyjXJKOTI7uPcSeNhbcOFi9COdlZmsVvKpmwrYXpdLoTdxBrK
 FlhA3aTdzaBIVWo40Wy3e0VITt33yARmeQC87NztQHUs4UsEUxmp4XoPwsyOGiVhsFGxa1xpBND
 KqBQp/b6o9UH7SBxc1bNpH/TL9Lj01bFEfGwWBEJu4CJoJcQdxY4wMKMx
X-Google-Smtp-Source: AGHT+IGWYZchhPkPGUZ6sIY+eETk1Rh+YQTlkB3y0svxexbeF3TomrXaOJfdSJNOvzZ51H8wCwvhKc5Dzte6
X-Received: by 2002:a05:6e02:1c49:b0:36a:199f:345e with SMTP id
 d9-20020a056e021c4900b0036a199f345emr20694215ilg.7.1713876328919; 
 Tue, 23 Apr 2024 05:45:28 -0700 (PDT)
Received: from postal.iol.unh.edu (postal.iol.unh.edu.
 [2606:4100:3880:1234::84]) by smtp-relay.gmail.com with ESMTPS id
 u17-20020a92d1d1000000b0036b0e68b190sm579186ilg.33.2024.04.23.05.45.28
 (version=TLS1_2 cipher=ECDHE-ECDSA-AES128-GCM-SHA256 bits=128/128);
 Tue, 23 Apr 2024 05:45:28 -0700 (PDT)
X-Relaying-Domain: iol.unh.edu
Date: Tue, 23 Apr 2024 05:45:28 -0700 (PDT)
Message-ID: <6627ad68.920a0220.dea82.003dSMTPIN_ADDED_MISSING@mx.google.com>
Received: from [172.21.0.7] (unknown [172.18.0.240])
 by postal.iol.unh.edu (Postfix) with ESMTP id 8EEC96052514;
 Tue, 23 Apr 2024 08:45:28 -0400 (EDT)
Subject: |SUCCESS| pw139628-139636 [PATCH] [v1,9/9] test/bbdev: remove unnece
From: dpdklab@iol.unh.edu
To: Test Report <test-report@dpdk.org>
Cc: dpdk-test-reports@iol.unh.edu
In-Reply-To: <20240422190800.123027-10-hernan.vargas@intel.com>
References: <20240422190800.123027-10-hernan.vargas@intel.com>
Content-Type: text/plain
X-BeenThere: test-report@dpdk.org
X-Mailman-Version: 2.1.29
Precedence: list
List-Id: automatic DPDK test reports <test-report.dpdk.org>
List-Unsubscribe: <https://mails.dpdk.org/options/test-report>,
 <mailto:test-report-request@dpdk.org?subject=unsubscribe>
List-Archive: <http://mails.dpdk.org/archives/test-report/>
List-Post: <mailto:test-report@dpdk.org>
List-Help: <mailto:test-report-request@dpdk.org?subject=help>
List-Subscribe: <https://mails.dpdk.org/listinfo/test-report>,
 <mailto:test-report-request@dpdk.org?subject=subscribe>
Errors-To: test-report-bounces@dpdk.org

Test-Label: iol-compile-arm64-testing
Test-Status: SUCCESS
http://dpdk.org/patch/139636

_Testing PASS_

Submitter: Hernan Vargas <hernan.vargas@intel.com>
Date: Monday, April 22 2024 19:08:00 
DPDK git baseline: Repo:dpdk
  Branch: master
  CommitID:98b4ecb4e4d73e93fdfa53f552b48d71104b445f

139628-139636 --> testing pass

Test environment and result as below:

+----------------------------------------+--------------------+
|              Environment               | dpdk_meson_compile |
+========================================+====================+
| Ubuntu 20.04 ARM SVE                   | PASS               |
+----------------------------------------+--------------------+
| Debian 12 with MUSDK                   | PASS               |
+----------------------------------------+--------------------+
| CentOS Stream 9 (ARM)                  | PASS               |
+----------------------------------------+--------------------+
| Fedora 39 (ARM)                        | PASS               |
+----------------------------------------+--------------------+
| Ubuntu 20.04 (ARM)                     | PASS               |
+----------------------------------------+--------------------+
| Fedora 38 (ARM)                        | PASS               |
+----------------------------------------+--------------------+
| Ubuntu 20.04 aarch32 GCC Cross Compile | PASS               |
+----------------------------------------+--------------------+


Ubuntu 20.04 ARM SVE
	Kernel: 5.4.0-167-generic
	Compiler: gcc (Ubuntu 10.5.0-1ubuntu1~20.04) 10.5.0

Debian 12 with MUSDK
	Kernel: Container Host Kernel
	Compiler: gcc 12.2.0

CentOS Stream 9 (ARM)
	Kernel: Container Host Kernel
	Compiler: gcc 11.4.1

Fedora 39 (ARM)
	Kernel: Depends on container host
	Compiler: gcc 13.2.1

Ubuntu 20.04 (ARM)
	Kernel: Container Host Kernel
	Compiler: gcc 9.4.0

Fedora 38 (ARM)
	Kernel: Depends on container host
	Compiler: gcc 13.2.1

Ubuntu 20.04 aarch32 GCC Cross Compile
	Kernel: 5.4.0-167-generic
	Compiler: gcc 9.4.0

To view detailed results, visit:
https://lab.dpdk.org/results/dashboard/patchsets/29842/

UNH-IOL DPDK Community Lab

To manage your email subscriptions, visit: 
https://lab.dpdk.org/results/dashboard/preferences/subscriptions/