From mboxrd@z Thu Jan  1 00:00:00 1970
Return-Path: <test-report-bounces@dpdk.org>
Received: from mails.dpdk.org (mails.dpdk.org [217.70.189.124])
	by inbox.dpdk.org (Postfix) with ESMTP id 0D25543E82
	for <public@inbox.dpdk.org>; Tue, 23 Apr 2024 14:57:09 +0200 (CEST)
Received: from mails.dpdk.org (localhost [127.0.0.1])
	by mails.dpdk.org (Postfix) with ESMTP id E178940E54;
	Tue, 23 Apr 2024 14:57:08 +0200 (CEST)
Received: from mail-pf1-f226.google.com (mail-pf1-f226.google.com
 [209.85.210.226])
 by mails.dpdk.org (Postfix) with ESMTP id 0B98F402AB
 for <test-report@dpdk.org>; Tue, 23 Apr 2024 14:57:07 +0200 (CEST)
Received: by mail-pf1-f226.google.com with SMTP id
 d2e1a72fcca58-6ed3cafd766so4571335b3a.0
 for <test-report@dpdk.org>; Tue, 23 Apr 2024 05:57:06 -0700 (PDT)
DKIM-Signature: v=1; a=rsa-sha256; c=relaxed/relaxed;
 d=iol.unh.edu; s=unh-iol; t=1713877026; x=1714481826; darn=dpdk.org;
 h=references:in-reply-to:cc:to:from:subject:message-id:date:from:to
 :cc:subject:date:message-id:reply-to;
 bh=lQD34p9VT0D02XMQyyh/KiPDnVgUfoAsVDYRtm8ZHpI=;
 b=WCsHa2n2FQHSM8qKaSZptZ4y35nkPo8x8ljpOGQiU7AseqMvXdeZGQGE6Cj+NfSoNL
 5SAZ6dyg7QgX1asw2jm8OOcFslXCWiILFUPXoywsAHK/6qJNNkbWWk+jV/mPy9oDgXI0
 t54AbwSffg57fIEP/ZHgRQ81LDCo8fW+kM5II=
X-Google-DKIM-Signature: v=1; a=rsa-sha256; c=relaxed/relaxed;
 d=1e100.net; s=20230601; t=1713877026; x=1714481826;
 h=references:in-reply-to:cc:to:from:subject:message-id:date
 :x-gm-message-state:from:to:cc:subject:date:message-id:reply-to;
 bh=lQD34p9VT0D02XMQyyh/KiPDnVgUfoAsVDYRtm8ZHpI=;
 b=eTQl9gRnvHK+RdiMSTWd6CSShqY9Z+CwrTcM4tetKt7qgOwXdwFEJKt2lRXJD1xQIM
 V1IRyPz4kOEQIvxd0ATuLma9RDQi4wF1umr3TUNGRL+ubEu1sIjwhF4QccIL95hmvRHY
 UY5rrCWgdAqRfh5rR21ZaykVxnOfKbsnQZN30aSKnsdsw85WkmjljoRLWkDlm8YWjBod
 MpzjUeOZhARQDkjwcqIQpFRtqKL002+VV8ll/QKFTYd1TZD/IQ9jXdS+gmikZRoxm0Mi
 6VyP9HohcffIY/gnul+nXFUSaiMyClPTqVteq91WkTjEbL/Fh22RvYPo23PZuaeouEoQ
 Atvw==
X-Gm-Message-State: AOJu0YwGX4E0UQDYi3Qlfw1WfY1vLaFtSAxeuszDkKqqtb/UGPiBgl79
 rPXTP0F25u0Ijixp21HV2UnVW+0E/I0mINQDmUMkVYbUFiTzlW+pzIkhP4Cb35rA6PNv09LVmXH
 BkuYRGSRcfgNkDC/ygmzuubAhWmXWVG0KwInLlKgvmjpg0FnrRWEN/m0y
X-Google-Smtp-Source: AGHT+IFxSQHi70MPDilbBMZVD+g51Y/RYY0HSFZpeNnP87GKwAQlmRRvcnJ2QDpA7y3FpKqNQvUJRjJDo3zk
X-Received: by 2002:a05:6a21:2d8e:b0:1ac:4272:5f88 with SMTP id
 ty14-20020a056a212d8e00b001ac42725f88mr14364862pzb.17.1713877026147; 
 Tue, 23 Apr 2024 05:57:06 -0700 (PDT)
Received: from postal.iol.unh.edu (postal.iol.unh.edu.
 [2606:4100:3880:1234::84]) by smtp-relay.gmail.com with ESMTPS id
 x20-20020a656ab4000000b005dc837201fdsm286375pgu.5.2024.04.23.05.57.06
 (version=TLS1_2 cipher=ECDHE-ECDSA-AES128-GCM-SHA256 bits=128/128);
 Tue, 23 Apr 2024 05:57:06 -0700 (PDT)
X-Relaying-Domain: iol.unh.edu
Date: Tue, 23 Apr 2024 05:57:06 -0700 (PDT)
Message-ID: <6627b022.650a0220.2ebf1.8df6SMTPIN_ADDED_MISSING@mx.google.com>
Received: from [172.21.0.6] (unknown [172.18.0.240])
 by postal.iol.unh.edu (Postfix) with ESMTP id 89D216052514;
 Tue, 23 Apr 2024 08:57:05 -0400 (EDT)
Subject: |SUCCESS| pw139628-139636 [PATCH] [v1,9/9] test/bbdev: remove unnece
From: dpdklab@iol.unh.edu
To: Test Report <test-report@dpdk.org>
Cc: dpdk-test-reports@iol.unh.edu
In-Reply-To: <20240422190800.123027-10-hernan.vargas@intel.com>
References: <20240422190800.123027-10-hernan.vargas@intel.com>
Content-Type: text/plain
X-BeenThere: test-report@dpdk.org
X-Mailman-Version: 2.1.29
Precedence: list
List-Id: automatic DPDK test reports <test-report.dpdk.org>
List-Unsubscribe: <https://mails.dpdk.org/options/test-report>,
 <mailto:test-report-request@dpdk.org?subject=unsubscribe>
List-Archive: <http://mails.dpdk.org/archives/test-report/>
List-Post: <mailto:test-report@dpdk.org>
List-Help: <mailto:test-report-request@dpdk.org?subject=help>
List-Subscribe: <https://mails.dpdk.org/listinfo/test-report>,
 <mailto:test-report-request@dpdk.org?subject=subscribe>
Errors-To: test-report-bounces@dpdk.org

Test-Label: iol-unit-amd64-testing
Test-Status: SUCCESS
http://dpdk.org/patch/139636

_Testing PASS_

Submitter: Hernan Vargas <hernan.vargas@intel.com>
Date: Monday, April 22 2024 19:08:00 
DPDK git baseline: Repo:dpdk
  Branch: master
  CommitID:98b4ecb4e4d73e93fdfa53f552b48d71104b445f

139628-139636 --> testing pass

Test environment and result as below:

+---------------------+----------------+
|     Environment     | dpdk_unit_test |
+=====================+================+
| Windows Server 2019 | PASS           |
+---------------------+----------------+
| Debian Bullseye     | PASS           |
+---------------------+----------------+
| CentOS Stream 9     | PASS           |
+---------------------+----------------+
| CentOS Stream 8     | PASS           |
+---------------------+----------------+
| Windows Server 2022 | PASS           |
+---------------------+----------------+
| Debian 12           | PASS           |
+---------------------+----------------+
| Fedora 37           | PASS           |
+---------------------+----------------+
| Fedora 38           | PASS           |
+---------------------+----------------+
| Fedora 39           | PASS           |
+---------------------+----------------+
| Ubuntu 20.04        | PASS           |
+---------------------+----------------+
| openSUSE Leap 15    | PASS           |
+---------------------+----------------+
| RHEL8               | PASS           |
+---------------------+----------------+
| Ubuntu 22.04        | PASS           |
+---------------------+----------------+


Windows Server 2019
	Kernel: 10.0.17763
	Compiler: clang 14.0 and gcc 8.1.0 (MinGW)

Debian Bullseye
	Kernel: 5.4.0-167-generic
	Compiler: gcc 10.2.1-6

CentOS Stream 9
	Kernel: 5.4.0-167-generic
	Compiler: gcc 11.4.1 20230605

CentOS Stream 8
	Kernel: 5.4.0-167-generic
	Compiler: gcc 8.5.0 20210514

Windows Server 2022
	Kernel: 10.0.20348.2031
	Compiler: clang 15.0.7, gcc 8.1.0 (MinGW), and MSVC VS 17.9

Debian 12
	Kernel: Container Host Kernel
	Compiler: gcc 10.2.1

Fedora 37
	Kernel: Depends on container host system
	Compiler: gcc 12.3.1

Fedora 38
	Kernel: Depends on container host
	Compiler: gcc 13.2.1

Fedora 39
	Kernel: Depends on container host
	Compiler: clang 17.0.6

Ubuntu 20.04
	Kernel: 5.4.0-167-generic
	Compiler: gcc 9.4.0-1ubuntu1~20.04.1

openSUSE Leap 15
	Kernel: 5.4.0-167-generic
	Compiler: gcc 7.5.0

RHEL8
	Kernel: 5.4.0-167-generic
	Compiler: gcc 8.5.0 20210514 (Red Hat 8.5.0-20)

Ubuntu 22.04
	Kernel: 5.4.0-167-generic
	Compiler: gcc 11.4.0

To view detailed results, visit:
https://lab.dpdk.org/results/dashboard/patchsets/29842/

UNH-IOL DPDK Community Lab

To manage your email subscriptions, visit: 
https://lab.dpdk.org/results/dashboard/preferences/subscriptions/