From mboxrd@z Thu Jan  1 00:00:00 1970
Return-Path: <test-report-bounces@dpdk.org>
Received: from mails.dpdk.org (mails.dpdk.org [217.70.189.124])
	by inbox.dpdk.org (Postfix) with ESMTP id 3257943E82
	for <public@inbox.dpdk.org>; Tue, 23 Apr 2024 14:58:09 +0200 (CEST)
Received: from mails.dpdk.org (localhost [127.0.0.1])
	by mails.dpdk.org (Postfix) with ESMTP id 2889C40E54;
	Tue, 23 Apr 2024 14:58:09 +0200 (CEST)
Received: from mail-yw1-f227.google.com (mail-yw1-f227.google.com
 [209.85.128.227])
 by mails.dpdk.org (Postfix) with ESMTP id A0CEE402AB
 for <test-report@dpdk.org>; Tue, 23 Apr 2024 14:58:07 +0200 (CEST)
Received: by mail-yw1-f227.google.com with SMTP id
 00721157ae682-61b2218ab6fso39044647b3.1
 for <test-report@dpdk.org>; Tue, 23 Apr 2024 05:58:07 -0700 (PDT)
DKIM-Signature: v=1; a=rsa-sha256; c=relaxed/relaxed;
 d=iol.unh.edu; s=unh-iol; t=1713877087; x=1714481887; darn=dpdk.org;
 h=references:in-reply-to:cc:to:from:subject:message-id:date:from:to
 :cc:subject:date:message-id:reply-to;
 bh=y+ErRzVQu7MtfmlNq7dWRvnA11eBg3PnlI0HWHcDNVI=;
 b=a6DqeydkyAWRWXV2wtB53VGnz/vIsxXwJ008hn8L73ucRvx8UC7YeRp9ogv4YDctMi
 YoeICgd2tUzAsuWq/3nL2VB4IO9EM99P1fMs9+Ayp1IOq8Z9teQovedtY0DFMBx229TA
 Gy5/bVYPgo92ZJmN/GubyJ65c1mRHKMgKtonQ=
X-Google-DKIM-Signature: v=1; a=rsa-sha256; c=relaxed/relaxed;
 d=1e100.net; s=20230601; t=1713877087; x=1714481887;
 h=references:in-reply-to:cc:to:from:subject:message-id:date
 :x-gm-message-state:from:to:cc:subject:date:message-id:reply-to;
 bh=y+ErRzVQu7MtfmlNq7dWRvnA11eBg3PnlI0HWHcDNVI=;
 b=TQIQWs5yDJC19C3dFqFQZVtP6lYWW2i5g6SObixoaq41vUmtWBEqOSxrCv6gUpzCiE
 6QvG04YHUIyHMjAkbWkD53S2IubSo73+H3lPYikZPJOQgcGMmmCQYMMsyUhZ6WPtSIKs
 CQ2wMnmRw3dZUJvVWnYM7+l0NwzxXABczIYmqN/FFGzBCe48XbPOFI0sGqXLzs6I4wGW
 yRc/pLA7/dIEdwU9XyxUUZ9HZW4MFgfvFstpyEZM3L+CSb9+vFsBoLfWLIfCUaoHUsMI
 tRMlv1pbbAXQxP8VvIBCH568ZYfFf0US3WQbYAXAPZNvgs1jAkO69SrezvXnqBoG27hD
 vJwg==
X-Gm-Message-State: AOJu0YxQEtavpE9YhiLqqMGCsB2l092kzeOLfBSpFcL4tjc+MfAi9QKc
 rFfLSD99v2OCNOSAL6dl6xJwyUstmObvFvwmeFLo2CqtWkraxBiEtqJZbd9Ug2NrIGrpirfgysL
 7sG4iHGMEfeIP4B0H3/3/rSQhVmHYeGbIyMxWZzzBzEQ+GO/muGz6rNJ2
X-Google-Smtp-Source: AGHT+IHOmvbX/3O0r9g2qV1eCsZR6/M5hqz4NCTeAQuv3hyPy/melQyxFF791M9u98+qFOxaaPVtu+Rgg6iK
X-Received: by 2002:a05:690c:c1d:b0:61b:765b:cbea with SMTP id
 cl29-20020a05690c0c1d00b0061b765bcbeamr2677547ywb.7.1713877087040; 
 Tue, 23 Apr 2024 05:58:07 -0700 (PDT)
Received: from postal.iol.unh.edu (postal.iol.unh.edu.
 [2606:4100:3880:1234::84]) by smtp-relay.gmail.com with ESMTPS id
 j125-20020a0df983000000b00617321a2da5sm828837ywf.45.2024.04.23.05.58.06
 (version=TLS1_2 cipher=ECDHE-ECDSA-AES128-GCM-SHA256 bits=128/128);
 Tue, 23 Apr 2024 05:58:07 -0700 (PDT)
X-Relaying-Domain: iol.unh.edu
Date: Tue, 23 Apr 2024 05:58:07 -0700 (PDT)
Message-ID: <6627b05f.0d0a0220.b57b1.0c34SMTPIN_ADDED_MISSING@mx.google.com>
Received: from [172.21.0.6] (unknown [172.18.0.240])
 by postal.iol.unh.edu (Postfix) with ESMTP id A7AAF6052514;
 Tue, 23 Apr 2024 08:58:06 -0400 (EDT)
Subject: |SUCCESS| pw139637-139640 [PATCH] [v1,4/4] dts: refine pre-test setu
From: dpdklab@iol.unh.edu
To: Test Report <test-report@dpdk.org>
Cc: dpdk-test-reports@iol.unh.edu
In-Reply-To: <20240423091252.62924-5-juraj.linkes@pantheon.tech>
References: <20240423091252.62924-5-juraj.linkes@pantheon.tech>
Content-Type: text/plain
X-BeenThere: test-report@dpdk.org
X-Mailman-Version: 2.1.29
Precedence: list
List-Id: automatic DPDK test reports <test-report.dpdk.org>
List-Unsubscribe: <https://mails.dpdk.org/options/test-report>,
 <mailto:test-report-request@dpdk.org?subject=unsubscribe>
List-Archive: <http://mails.dpdk.org/archives/test-report/>
List-Post: <mailto:test-report@dpdk.org>
List-Help: <mailto:test-report-request@dpdk.org?subject=help>
List-Subscribe: <https://mails.dpdk.org/listinfo/test-report>,
 <mailto:test-report-request@dpdk.org?subject=subscribe>
Errors-To: test-report-bounces@dpdk.org

Test-Label: iol-compile-arm64-testing
Test-Status: SUCCESS
http://dpdk.org/patch/139640

_Testing PASS_

Submitter: Juraj Linkes <juraj.linkes@pantheon.tech>
Date: Tuesday, April 23 2024 09:12:52 
DPDK git baseline: Repo:dpdk
  Branch: master
  CommitID:7e06c0de1952d3109a5b0c4779d7e7d8059c9d78

139637-139640 --> testing pass

Test environment and result as below:

+----------------------------------------+--------------------+
|              Environment               | dpdk_meson_compile |
+========================================+====================+
| Ubuntu 20.04 ARM SVE                   | PASS               |
+----------------------------------------+--------------------+
| Debian 12 with MUSDK                   | PASS               |
+----------------------------------------+--------------------+
| Fedora 37 (ARM)                        | PASS               |
+----------------------------------------+--------------------+
| Fedora 38 (ARM)                        | PASS               |
+----------------------------------------+--------------------+
| Fedora 39 (ARM)                        | PASS               |
+----------------------------------------+--------------------+
| Debian 11 (Buster) (ARM)               | PASS               |
+----------------------------------------+--------------------+
| Debian 12 (arm)                        | PASS               |
+----------------------------------------+--------------------+
| Ubuntu 20.04 (ARM)                     | PASS               |
+----------------------------------------+--------------------+
| CentOS Stream 9 (ARM)                  | PASS               |
+----------------------------------------+--------------------+
| Ubuntu 20.04 ARM Clang Cross Compile   | PASS               |
+----------------------------------------+--------------------+
| Ubuntu 20.04 aarch32 GCC Cross Compile | PASS               |
+----------------------------------------+--------------------+
| Ubuntu 20.04 ARM GCC Cross Compile     | PASS               |
+----------------------------------------+--------------------+
| Fedora 38 (ARM Clang)                  | PASS               |
+----------------------------------------+--------------------+
| Fedora 39 (ARM Clang)                  | PASS               |
+----------------------------------------+--------------------+


Ubuntu 20.04 ARM SVE
	Kernel: 5.4.0-167-generic
	Compiler: gcc (Ubuntu 10.5.0-1ubuntu1~20.04) 10.5.0

Debian 12 with MUSDK
	Kernel: Container Host Kernel
	Compiler: gcc 12.2.0

Fedora 37 (ARM)
	Kernel: Depends on container host
	Compiler: gcc 12.3.1

Fedora 38 (ARM)
	Kernel: Depends on container host
	Compiler: gcc 13.2.1

Fedora 39 (ARM)
	Kernel: Depends on container host
	Compiler: gcc 13.2.1

Debian 11 (Buster) (ARM)
	Kernel: Container Host Kernel
	Compiler: gcc 10.2.1

Debian 12 (arm)
	Kernel: Container Host Kernel
	Compiler: gcc 12.2.0

Ubuntu 20.04 (ARM)
	Kernel: Container Host Kernel
	Compiler: gcc 9.4.0

CentOS Stream 9 (ARM)
	Kernel: Container Host Kernel
	Compiler: gcc 11.4.1

Ubuntu 20.04 ARM Clang Cross Compile
	Kernel: 5.4.0-72-generic
	Compiler: clang 10.0.0-4ubuntu1

Ubuntu 20.04 aarch32 GCC Cross Compile
	Kernel: 5.4.0-167-generic
	Compiler: gcc 9.4.0

Ubuntu 20.04 ARM GCC Cross Compile
	Kernel: 5.4.0-167-generic
	Compiler: aarch64-linux-gnu-gcc (Ubuntu 9.4.0-1ubuntu1~20.04.2) 9.4.0

Fedora 38 (ARM Clang)
	Kernel: Depends on container host
	Compiler: clang 16.0.6

Fedora 39 (ARM Clang)
	Kernel: Depends on container host
	Compiler: clang 17.0.6

To view detailed results, visit:
https://lab.dpdk.org/results/dashboard/patchsets/29843/

UNH-IOL DPDK Community Lab

To manage your email subscriptions, visit: 
https://lab.dpdk.org/results/dashboard/preferences/subscriptions/