From mboxrd@z Thu Jan  1 00:00:00 1970
Return-Path: <test-report-bounces@dpdk.org>
Received: from mails.dpdk.org (mails.dpdk.org [217.70.189.124])
	by inbox.dpdk.org (Postfix) with ESMTP id 46B0343EEA
	for <public@inbox.dpdk.org>; Tue, 23 Apr 2024 15:21:32 +0200 (CEST)
Received: from mails.dpdk.org (localhost [127.0.0.1])
	by mails.dpdk.org (Postfix) with ESMTP id 3E72E40E54;
	Tue, 23 Apr 2024 15:21:32 +0200 (CEST)
Received: from mail-pf1-f225.google.com (mail-pf1-f225.google.com
 [209.85.210.225])
 by mails.dpdk.org (Postfix) with ESMTP id A3C67402AB
 for <test-report@dpdk.org>; Tue, 23 Apr 2024 15:21:31 +0200 (CEST)
Received: by mail-pf1-f225.google.com with SMTP id
 d2e1a72fcca58-6effe9c852eso4744457b3a.3
 for <test-report@dpdk.org>; Tue, 23 Apr 2024 06:21:31 -0700 (PDT)
DKIM-Signature: v=1; a=rsa-sha256; c=relaxed/relaxed;
 d=iol.unh.edu; s=unh-iol; t=1713878491; x=1714483291; darn=dpdk.org;
 h=references:in-reply-to:cc:to:from:subject:message-id:date:from:to
 :cc:subject:date:message-id:reply-to;
 bh=41VCjQu5LvFRnA7ubz38fRlhfkhhQh5HKkYY3e8wLys=;
 b=G9/IUiuSuI6Zuncl32sK55D584XlYh0K6YI5/tMhDX0p0aah9UDdApD+OIn+O05DWq
 PzZCkEF8y03PvU1qvz9eenhkuE4JYWQ3244QodFMnLDVd0g7RnBn5MWYqdRV/l8bUvN9
 gRFv6rA8MoVQvAPs1K/6eqiXDJsU+1PeMJD5w=
X-Google-DKIM-Signature: v=1; a=rsa-sha256; c=relaxed/relaxed;
 d=1e100.net; s=20230601; t=1713878491; x=1714483291;
 h=references:in-reply-to:cc:to:from:subject:message-id:date
 :x-gm-message-state:from:to:cc:subject:date:message-id:reply-to;
 bh=41VCjQu5LvFRnA7ubz38fRlhfkhhQh5HKkYY3e8wLys=;
 b=RPOTOFlT8iB/SGmWS8ooRsh7pYnWq9CxpzB/WusB/dBdSaAMnL3vfOvMTdqlY82Xme
 gTIDU2CNLJ/eo3ZMQ+JmaQUyA9iBrQ6hevg5eFh039oWrdBXTjMJ5JXexU3j8xJAF8H7
 +yuQCIvVM433L4LZ9rC/M9j3y1mIqNKFjNJAwVrEvNYuSvigSy4qntVRRd+zaSs5sKYm
 JGgLx4MF5o5RRaR2femKN9cgpnw4+K442nNKGD5MoObuDFrDerW48XIEbq4GdgUYOA1Q
 2Z/SrebyEwIHcAYSWU9dVHR78nEaJHi0qx9qDiFk+Yp1jL6FSPLxKr4f6SosO0xVnS4w
 VHhQ==
X-Gm-Message-State: AOJu0YzvjXUMsTzqRKGkJ7kpEufoLOSrNO5g7wGlOo4CZZH/3DJW3FKI
 zOQ4W3Vjejd5dBot214lvrwuxzKoRkIPze3iluH2IrLlAZVlXk6qCTgYe5mNguuXrVRPn12jDn8
 1a+Dl9vT3rGg3eAxRkie/DcAmL6nsKmDnO8vtDy3og1p3YwNHnYnaJyZP
X-Google-Smtp-Source: AGHT+IEsQ4ZpS1u9/He1q2bhkIbHIAk0pkhjC4uGJfBN+uQWFTulgTz6znNXw66q7g3VZ/rWLU8t/VaYrYix
X-Received: by 2002:aa7:88cf:0:b0:6ea:bb00:dbb6 with SMTP id
 k15-20020aa788cf000000b006eabb00dbb6mr15710026pff.8.1713878490828; 
 Tue, 23 Apr 2024 06:21:30 -0700 (PDT)
Received: from postal.iol.unh.edu (postal.iol.unh.edu.
 [2606:4100:3880:1234::84]) by smtp-relay.gmail.com with ESMTPS id
 l185-20020a6325c2000000b005f7fdc28b11sm539512pgl.30.2024.04.23.06.21.30
 (version=TLS1_2 cipher=ECDHE-ECDSA-AES128-GCM-SHA256 bits=128/128);
 Tue, 23 Apr 2024 06:21:30 -0700 (PDT)
X-Relaying-Domain: iol.unh.edu
Date: Tue, 23 Apr 2024 06:21:30 -0700 (PDT)
Message-ID: <6627b5da.630a0220.81d48.d09dSMTPIN_ADDED_MISSING@mx.google.com>
Received: from [172.21.0.7] (unknown [172.18.0.240])
 by postal.iol.unh.edu (Postfix) with ESMTP id 134F26052514;
 Tue, 23 Apr 2024 09:21:30 -0400 (EDT)
Subject: |SUCCESS| pw139628-139636 [PATCH] [v1,9/9] test/bbdev: remove unnece
From: dpdklab@iol.unh.edu
To: Test Report <test-report@dpdk.org>
Cc: dpdk-test-reports@iol.unh.edu
In-Reply-To: <20240422190800.123027-10-hernan.vargas@intel.com>
References: <20240422190800.123027-10-hernan.vargas@intel.com>
Content-Type: text/plain
X-BeenThere: test-report@dpdk.org
X-Mailman-Version: 2.1.29
Precedence: list
List-Id: automatic DPDK test reports <test-report.dpdk.org>
List-Unsubscribe: <https://mails.dpdk.org/options/test-report>,
 <mailto:test-report-request@dpdk.org?subject=unsubscribe>
List-Archive: <http://mails.dpdk.org/archives/test-report/>
List-Post: <mailto:test-report@dpdk.org>
List-Help: <mailto:test-report-request@dpdk.org?subject=help>
List-Subscribe: <https://mails.dpdk.org/listinfo/test-report>,
 <mailto:test-report-request@dpdk.org?subject=subscribe>
Errors-To: test-report-bounces@dpdk.org

Test-Label: iol-compile-amd64-testing
Test-Status: SUCCESS
http://dpdk.org/patch/139636

_Testing PASS_

Submitter: Hernan Vargas <hernan.vargas@intel.com>
Date: Monday, April 22 2024 19:08:00 
DPDK git baseline: Repo:dpdk
  Branch: master
  CommitID:98b4ecb4e4d73e93fdfa53f552b48d71104b445f

139628-139636 --> testing pass

Test environment and result as below:

+---------------------+--------------------+----------------------+-------------------+
|     Environment     | dpdk_meson_compile | dpdk_mingw64_compile | dpdk_msvc_compile |
+=====================+====================+======================+===================+
| FreeBSD 13.2        | PASS               | SKIPPED              | SKIPPED           |
+---------------------+--------------------+----------------------+-------------------+
| Windows Server 2022 | PASS               | PASS                 | PASS              |
+---------------------+--------------------+----------------------+-------------------+
| Windows Server 2019 | PASS               | PASS                 | SKIPPED           |
+---------------------+--------------------+----------------------+-------------------+
| Debian Bullseye     | PASS               | SKIPPED              | SKIPPED           |
+---------------------+--------------------+----------------------+-------------------+
| CentOS Stream 9     | PASS               | SKIPPED              | SKIPPED           |
+---------------------+--------------------+----------------------+-------------------+
| CentOS Stream 8     | PASS               | SKIPPED              | SKIPPED           |
+---------------------+--------------------+----------------------+-------------------+
| Fedora 38           | PASS               | SKIPPED              | SKIPPED           |
+---------------------+--------------------+----------------------+-------------------+
| Fedora 39           | PASS               | SKIPPED              | SKIPPED           |
+---------------------+--------------------+----------------------+-------------------+
| Debian 12           | PASS               | SKIPPED              | SKIPPED           |
+---------------------+--------------------+----------------------+-------------------+
| Fedora 37           | PASS               | SKIPPED              | SKIPPED           |
+---------------------+--------------------+----------------------+-------------------+
| Ubuntu 20.04        | PASS               | SKIPPED              | SKIPPED           |
+---------------------+--------------------+----------------------+-------------------+
| openSUSE Leap 15    | PASS               | SKIPPED              | SKIPPED           |
+---------------------+--------------------+----------------------+-------------------+
| Ubuntu 22.04        | PASS               | SKIPPED              | SKIPPED           |
+---------------------+--------------------+----------------------+-------------------+
| RHEL8               | PASS               | SKIPPED              | SKIPPED           |
+---------------------+--------------------+----------------------+-------------------+
| Alpine              | PASS               | SKIPPED              | SKIPPED           |
+---------------------+--------------------+----------------------+-------------------+


FreeBSD 13.2
	Kernel: 13.2
	Compiler: clang 14.0.5

Windows Server 2022
	Kernel: 10.0.20348.2031
	Compiler: clang 15.0.7, gcc 8.1.0 (MinGW), and MSVC VS 17.9

Windows Server 2019
	Kernel: 10.0.17763
	Compiler: clang 14.0 and gcc 8.1.0 (MinGW)

Debian Bullseye
	Kernel: 5.4.0-167-generic
	Compiler: gcc 10.2.1-6

CentOS Stream 9
	Kernel: 5.4.0-167-generic
	Compiler: gcc 11.4.1 20230605

CentOS Stream 8
	Kernel: 5.4.0-167-generic
	Compiler: gcc 8.5.0 20210514

Fedora 38
	Kernel: Depends on container host
	Compiler: gcc 13.2.1

Fedora 39
	Kernel: Depends on container host
	Compiler: clang 17.0.6

Debian 12
	Kernel: Container Host Kernel
	Compiler: gcc 10.2.1

Fedora 37
	Kernel: Depends on container host system
	Compiler: gcc 12.3.1

Ubuntu 20.04
	Kernel: 5.4.0-167-generic
	Compiler: gcc 9.4.0-1ubuntu1~20.04.1

openSUSE Leap 15
	Kernel: 5.4.0-167-generic
	Compiler: gcc 7.5.0

Ubuntu 22.04
	Kernel: 5.4.0-167-generic
	Compiler: gcc 11.4.0

RHEL8
	Kernel: 5.4.0-167-generic
	Compiler: gcc 8.5.0 20210514 (Red Hat 8.5.0-20)

Alpine
	Kernel: 5.4.0-167-generic
	Compiler: gcc (Alpine 12.2.1_git20220924-r10) 12.2.1 20220924

To view detailed results, visit:
https://lab.dpdk.org/results/dashboard/patchsets/29842/

UNH-IOL DPDK Community Lab

To manage your email subscriptions, visit: 
https://lab.dpdk.org/results/dashboard/preferences/subscriptions/