From mboxrd@z Thu Jan  1 00:00:00 1970
Return-Path: <test-report-bounces@dpdk.org>
Received: from mails.dpdk.org (mails.dpdk.org [217.70.189.124])
	by inbox.dpdk.org (Postfix) with ESMTP id B6A2E43EEB
	for <public@inbox.dpdk.org>; Tue, 23 Apr 2024 16:16:15 +0200 (CEST)
Received: from mails.dpdk.org (localhost [127.0.0.1])
	by mails.dpdk.org (Postfix) with ESMTP id B176B42EE8;
	Tue, 23 Apr 2024 16:16:15 +0200 (CEST)
Received: from mail-yw1-f225.google.com (mail-yw1-f225.google.com
 [209.85.128.225])
 by mails.dpdk.org (Postfix) with ESMTP id 48B5D402D5
 for <test-report@dpdk.org>; Tue, 23 Apr 2024 16:16:14 +0200 (CEST)
Received: by mail-yw1-f225.google.com with SMTP id
 00721157ae682-61b4387ae4fso38570887b3.2
 for <test-report@dpdk.org>; Tue, 23 Apr 2024 07:16:14 -0700 (PDT)
DKIM-Signature: v=1; a=rsa-sha256; c=relaxed/relaxed;
 d=iol.unh.edu; s=unh-iol; t=1713881773; x=1714486573; darn=dpdk.org;
 h=references:in-reply-to:cc:to:from:subject:message-id:date:from:to
 :cc:subject:date:message-id:reply-to;
 bh=pMMdi4X4Xxps9ujwo8kE87UeiQe2tg266LyjiaVGYEw=;
 b=IdY4kEAlJHfnvnXDCupM0xmvPnZFt6FnZvUf8nQ7WS+22Pk4KAP57XMyrl2TTcun2p
 UBTiwHesi6TUcHzjOem2xN0tQUCQyMQKkbJLMNZREJp95/rnmS+6oNtEYJyf7G6YWVwz
 WRHoHE1VDN/MaDKwo/KbwopGZGUHy9FDx86J8=
X-Google-DKIM-Signature: v=1; a=rsa-sha256; c=relaxed/relaxed;
 d=1e100.net; s=20230601; t=1713881773; x=1714486573;
 h=references:in-reply-to:cc:to:from:subject:message-id:date
 :x-gm-message-state:from:to:cc:subject:date:message-id:reply-to;
 bh=pMMdi4X4Xxps9ujwo8kE87UeiQe2tg266LyjiaVGYEw=;
 b=srU9/rw/q9WIU7d9q3MztGSyi8X3d91MWlSv890r3Aw9QBRLD+cvI48zCMN2ULq8Yh
 yn1pTLUKu2uSnzSfrez/CjiJZ3srJXp2eOId4G2qOuq6GQu3Sz5LUdxNwH5AIaXGkY88
 IrfHujl5U0T3s3y0YAmKpHmLQLRmBlPJbtpEdPx8ymWF/j5i3SIqiWzSgDwCzof6GPrr
 45exrJ7D5svsY5U8odrS5k9Srw0k/2aoblm2uBMPA+GNzx1m6/PzEnE1GaRcEM28WnKE
 CJzIlTGCsgBb/5yQ2syFHWVfc/bYq1OIUoRFaXomGJBpjX7Sios/3YcI1q3aD448T26K
 IgVQ==
X-Gm-Message-State: AOJu0YyWF8VdxE/6p0uwvS/twrMYD/9zSpRM5heewXeXxDHMW2G5QmoX
 KPeL7yWek7OBK4MPLPxSW2xBld0wyjZAKP8rB0NziYsvRtCsrwHV5TX7+P1ighMqo6rDJj9MZQ3
 6oGFigZmQbPI2KGhv33LWBQhvIXBhL3I3KRMugipv3F4BKqBKzE6lyDNq
X-Google-Smtp-Source: AGHT+IEDIVHP2yW8FcZFlH2SvvJXvnHhWzHp34Oi7+C16wr4wKUIX0Y+jrWBMhF2HyI5xMJTOHqWAG8r4iqH
X-Received: by 2002:a05:690c:110:b0:61b:3356:c59f with SMTP id
 bd16-20020a05690c011000b0061b3356c59fmr13401099ywb.35.1713881773684; 
 Tue, 23 Apr 2024 07:16:13 -0700 (PDT)
Received: from postal.iol.unh.edu (postal.iol.unh.edu.
 [2606:4100:3880:1234::84]) by smtp-relay.gmail.com with ESMTPS id
 u129-20020a0dd287000000b0061584a3e759sm819204ywd.76.2024.04.23.07.16.13
 (version=TLS1_2 cipher=ECDHE-ECDSA-AES128-GCM-SHA256 bits=128/128);
 Tue, 23 Apr 2024 07:16:13 -0700 (PDT)
X-Relaying-Domain: iol.unh.edu
Date: Tue, 23 Apr 2024 07:16:13 -0700 (PDT)
Message-ID: <6627c2ad.0d0a0220.8340a.ec6bSMTPIN_ADDED_MISSING@mx.google.com>
Received: from [172.21.0.6] (unknown [172.18.0.240])
 by postal.iol.unh.edu (Postfix) with ESMTP id 53C246052514;
 Tue, 23 Apr 2024 10:16:13 -0400 (EDT)
Subject: |SUCCESS| pw139642 [PATCH] common/cnxk: restore segregation of logs 
From: dpdklab@iol.unh.edu
To: Test Report <test-report@dpdk.org>
Cc: dpdk-test-reports@iol.unh.edu
In-Reply-To: <20240423104451.3018314-1-anoobj@marvell.com>
References: <20240423104451.3018314-1-anoobj@marvell.com>
Content-Type: text/plain
X-BeenThere: test-report@dpdk.org
X-Mailman-Version: 2.1.29
Precedence: list
List-Id: automatic DPDK test reports <test-report.dpdk.org>
List-Unsubscribe: <https://mails.dpdk.org/options/test-report>,
 <mailto:test-report-request@dpdk.org?subject=unsubscribe>
List-Archive: <http://mails.dpdk.org/archives/test-report/>
List-Post: <mailto:test-report@dpdk.org>
List-Help: <mailto:test-report-request@dpdk.org?subject=help>
List-Subscribe: <https://mails.dpdk.org/listinfo/test-report>,
 <mailto:test-report-request@dpdk.org?subject=subscribe>
Errors-To: test-report-bounces@dpdk.org

Test-Label: iol-compile-amd64-testing
Test-Status: SUCCESS
http://dpdk.org/patch/139642

_Testing PASS_

Submitter: Anoob Joseph <anoobj@marvell.com>
Date: Tuesday, April 23 2024 10:44:43 
DPDK git baseline: Repo:dpdk
  Branch: master
  CommitID:7e06c0de1952d3109a5b0c4779d7e7d8059c9d78

139642 --> testing pass

Test environment and result as below:

+---------------------+--------------------+-------------------+----------------------+
|     Environment     | dpdk_meson_compile | dpdk_msvc_compile | dpdk_mingw64_compile |
+=====================+====================+===================+======================+
| FreeBSD 13.2        | PASS               | SKIPPED           | SKIPPED              |
+---------------------+--------------------+-------------------+----------------------+
| Windows Server 2022 | SKIPPED            | PASS              | PASS                 |
+---------------------+--------------------+-------------------+----------------------+


FreeBSD 13.2
	Kernel: 13.2
	Compiler: clang 14.0.5

Windows Server 2022
	Kernel: 10.0.20348.2031
	Compiler: clang 15.0.7, gcc 8.1.0 (MinGW), and MSVC VS 17.9

To view detailed results, visit:
https://lab.dpdk.org/results/dashboard/patchsets/29845/

UNH-IOL DPDK Community Lab

To manage your email subscriptions, visit: 
https://lab.dpdk.org/results/dashboard/preferences/subscriptions/