From mboxrd@z Thu Jan  1 00:00:00 1970
Return-Path: <test-report-bounces@dpdk.org>
Received: from mails.dpdk.org (mails.dpdk.org [217.70.189.124])
	by inbox.dpdk.org (Postfix) with ESMTP id 149C243EEB
	for <public@inbox.dpdk.org>; Tue, 23 Apr 2024 16:25:05 +0200 (CEST)
Received: from mails.dpdk.org (localhost [127.0.0.1])
	by mails.dpdk.org (Postfix) with ESMTP id 0F16E42EE8;
	Tue, 23 Apr 2024 16:25:05 +0200 (CEST)
Received: from mail-yw1-f225.google.com (mail-yw1-f225.google.com
 [209.85.128.225])
 by mails.dpdk.org (Postfix) with ESMTP id 6916F402D5
 for <test-report@dpdk.org>; Tue, 23 Apr 2024 16:25:04 +0200 (CEST)
Received: by mail-yw1-f225.google.com with SMTP id
 00721157ae682-618874234c9so61508217b3.0
 for <test-report@dpdk.org>; Tue, 23 Apr 2024 07:25:04 -0700 (PDT)
DKIM-Signature: v=1; a=rsa-sha256; c=relaxed/relaxed;
 d=iol.unh.edu; s=unh-iol; t=1713882304; x=1714487104; darn=dpdk.org;
 h=references:in-reply-to:cc:to:from:subject:message-id:date:from:to
 :cc:subject:date:message-id:reply-to;
 bh=Pj9u5SEcYL5NsVWmAv4Gy7doVtPEgUuZjYBoxW3Byvc=;
 b=YHGX47JKguurJsugN5RU5AT6e+8bVdnQvoY/5B6Mm6+9UQumRzxv9OFHkaJE/ML76k
 vLNbeqMj+U1bZd5C43OdfCqAYR9JcuIvWEdDGvmGjldpb2rniYibAsj5lkTfzgj9bDp6
 9DouO1Z9EPfi2VgQ1pdaSLbm6zRQgoG7hZ8AM=
X-Google-DKIM-Signature: v=1; a=rsa-sha256; c=relaxed/relaxed;
 d=1e100.net; s=20230601; t=1713882304; x=1714487104;
 h=references:in-reply-to:cc:to:from:subject:message-id:date
 :x-gm-message-state:from:to:cc:subject:date:message-id:reply-to;
 bh=Pj9u5SEcYL5NsVWmAv4Gy7doVtPEgUuZjYBoxW3Byvc=;
 b=SONsxO0ZncTR/A9SmoiEZa+TwiiKtlvIfSlzOGSlwAkyPbL7NKf6ccae8zbFgPiT0u
 GSkzNjAeUr/MtJwBoyQ7ry/IfwuSJx810PvSyxzwTgfNjyf5gmCj4JO+vf7R5E4+1tfo
 A8Y6KwddZj3quCgGR2UuBgWuefh1+80OjIiTieLFCqBMGG62/sD8MfWEJ0iD8DFnqK6t
 x/LhJ/kDot/nhCACG+H0WyvzAY+iXJBaL8j5K1WwZwIteZO59qwmwhlchMDwmCrJDy1K
 Z5DHIFWdjXZPniNRd9losCy/O5/K+BELsLBFBGE/0fiA3GETEgwppBJ5SeZTECIjssB3
 1+Tw==
X-Gm-Message-State: AOJu0YxvkY++C7pTmAmM1ZeOQNAIbrhMp+PB5R/J/wIzWrr46s3Wp45b
 lJ3upHi6/bna2PciucYWn7orSNwdGTDdJlYrn5Hhnjrr0aeZUvX9fpAui4yivbDyqa8w7KRXKPL
 wIWMjpEXH6/SnW/0bKd8svAjHkKCQZ5myIqA5HUDWUXQkgo2KdL39KRK6
X-Google-Smtp-Source: AGHT+IGKklcKXZ+V4Hk+kCJ9Au0B7CIWKNjihA3Qi22sguGcnQ6PLusGdVXFQfEkTtjSq/tK7HfuXka+oPQO
X-Received: by 2002:a05:690c:110:b0:61b:3356:c59f with SMTP id
 bd16-20020a05690c011000b0061b3356c59fmr13428853ywb.35.1713882303643; 
 Tue, 23 Apr 2024 07:25:03 -0700 (PDT)
Received: from postal.iol.unh.edu (postal.iol.unh.edu.
 [2606:4100:3880:1234::84]) by smtp-relay.gmail.com with ESMTPS id
 q187-20020a0de7c4000000b00615b4dd6e0asm850143ywe.71.2024.04.23.07.25.03
 (version=TLS1_2 cipher=ECDHE-ECDSA-AES128-GCM-SHA256 bits=128/128);
 Tue, 23 Apr 2024 07:25:03 -0700 (PDT)
X-Relaying-Domain: iol.unh.edu
Date: Tue, 23 Apr 2024 07:25:03 -0700 (PDT)
Message-ID: <6627c4bf.0d0a0220.6dd50.2e43SMTPIN_ADDED_MISSING@mx.google.com>
Received: from [172.21.0.6] (unknown [172.18.0.240])
 by postal.iol.unh.edu (Postfix) with ESMTP id 4B86E6052514;
 Tue, 23 Apr 2024 10:25:03 -0400 (EDT)
Subject: |SUCCESS| pw139642 [PATCH] common/cnxk: restore segregation of logs 
From: dpdklab@iol.unh.edu
To: Test Report <test-report@dpdk.org>
Cc: dpdk-test-reports@iol.unh.edu
In-Reply-To: <20240423104451.3018314-1-anoobj@marvell.com>
References: <20240423104451.3018314-1-anoobj@marvell.com>
Content-Type: text/plain
X-BeenThere: test-report@dpdk.org
X-Mailman-Version: 2.1.29
Precedence: list
List-Id: automatic DPDK test reports <test-report.dpdk.org>
List-Unsubscribe: <https://mails.dpdk.org/options/test-report>,
 <mailto:test-report-request@dpdk.org?subject=unsubscribe>
List-Archive: <http://mails.dpdk.org/archives/test-report/>
List-Post: <mailto:test-report@dpdk.org>
List-Help: <mailto:test-report-request@dpdk.org?subject=help>
List-Subscribe: <https://mails.dpdk.org/listinfo/test-report>,
 <mailto:test-report-request@dpdk.org?subject=subscribe>
Errors-To: test-report-bounces@dpdk.org

Test-Label: iol-compile-amd64-testing
Test-Status: SUCCESS
http://dpdk.org/patch/139642

_Testing PASS_

Submitter: Anoob Joseph <anoobj@marvell.com>
Date: Tuesday, April 23 2024 10:44:43 
DPDK git baseline: Repo:dpdk
  Branch: master
  CommitID:7e06c0de1952d3109a5b0c4779d7e7d8059c9d78

139642 --> testing pass

Test environment and result as below:

+---------------------+--------------------+-------------------+----------------------+
|     Environment     | dpdk_meson_compile | dpdk_msvc_compile | dpdk_mingw64_compile |
+=====================+====================+===================+======================+
| FreeBSD 13.2        | PASS               | SKIPPED           | SKIPPED              |
+---------------------+--------------------+-------------------+----------------------+
| CentOS Stream 8     | PASS               | SKIPPED           | SKIPPED              |
+---------------------+--------------------+-------------------+----------------------+
| Windows Server 2019 | PASS               | SKIPPED           | SKIPPED              |
+---------------------+--------------------+-------------------+----------------------+
| Windows Server 2022 | PASS               | PASS              | PASS                 |
+---------------------+--------------------+-------------------+----------------------+
| Debian Bullseye     | PASS               | SKIPPED           | SKIPPED              |
+---------------------+--------------------+-------------------+----------------------+
| CentOS Stream 9     | PASS               | SKIPPED           | SKIPPED              |
+---------------------+--------------------+-------------------+----------------------+


FreeBSD 13.2
	Kernel: 13.2
	Compiler: clang 14.0.5

CentOS Stream 8
	Kernel: 5.4.0-167-generic
	Compiler: gcc 8.5.0 20210514

Windows Server 2019
	Kernel: 10.0.17763
	Compiler: clang 14.0 and gcc 8.1.0 (MinGW)

Windows Server 2022
	Kernel: 10.0.20348.2031
	Compiler: clang 15.0.7, gcc 8.1.0 (MinGW), and MSVC VS 17.9

Debian Bullseye
	Kernel: 5.4.0-167-generic
	Compiler: gcc 10.2.1-6

CentOS Stream 9
	Kernel: 5.4.0-167-generic
	Compiler: gcc 11.4.1 20230605

To view detailed results, visit:
https://lab.dpdk.org/results/dashboard/patchsets/29845/

UNH-IOL DPDK Community Lab

To manage your email subscriptions, visit: 
https://lab.dpdk.org/results/dashboard/preferences/subscriptions/