From mboxrd@z Thu Jan  1 00:00:00 1970
Return-Path: <test-report-bounces@dpdk.org>
Received: from mails.dpdk.org (mails.dpdk.org [217.70.189.124])
	by inbox.dpdk.org (Postfix) with ESMTP id 2E00643EEB
	for <public@inbox.dpdk.org>; Tue, 23 Apr 2024 16:29:30 +0200 (CEST)
Received: from mails.dpdk.org (localhost [127.0.0.1])
	by mails.dpdk.org (Postfix) with ESMTP id 271D542EE8;
	Tue, 23 Apr 2024 16:29:30 +0200 (CEST)
Received: from mail-yw1-f225.google.com (mail-yw1-f225.google.com
 [209.85.128.225])
 by mails.dpdk.org (Postfix) with ESMTP id 14371402D5
 for <test-report@dpdk.org>; Tue, 23 Apr 2024 16:29:29 +0200 (CEST)
Received: by mail-yw1-f225.google.com with SMTP id
 00721157ae682-61b2218ab6fso40070377b3.1
 for <test-report@dpdk.org>; Tue, 23 Apr 2024 07:29:29 -0700 (PDT)
DKIM-Signature: v=1; a=rsa-sha256; c=relaxed/relaxed;
 d=iol.unh.edu; s=unh-iol; t=1713882568; x=1714487368; darn=dpdk.org;
 h=references:in-reply-to:cc:to:from:subject:message-id:date:from:to
 :cc:subject:date:message-id:reply-to;
 bh=GVUJqT6C7pLdGqO/F81nfpW/TB4RH28XzPz964NQAR4=;
 b=LrRCsw8SGJRWZ5u2Q4szoAL4Dlntww/ijsUp6UU/r8eZ9of6anoV9Es+bl+IW8R7zZ
 0OUSYEa+c+3NyczHe0sBY/FJOb7MTBn6DYCftWjY94BEUvafoe0CZmxmKyS7xyk4NKFX
 3o2MHRECOH+owPEMokBWExufKcXnX6tvAqNN4=
X-Google-DKIM-Signature: v=1; a=rsa-sha256; c=relaxed/relaxed;
 d=1e100.net; s=20230601; t=1713882568; x=1714487368;
 h=references:in-reply-to:cc:to:from:subject:message-id:date
 :x-gm-message-state:from:to:cc:subject:date:message-id:reply-to;
 bh=GVUJqT6C7pLdGqO/F81nfpW/TB4RH28XzPz964NQAR4=;
 b=HKT+l8Ji7eId+NifBFjWZdO6E191+u48Gu6HY3BXbVlkYksQkfO8NxEowm6qM8fWwr
 QbjCpm3pZEK8ObN+egjkhB1xFqC4ihzwASO79aYDFmp41xl9ufvZ3LQLYO59bE4gAIDO
 WZq0aHLpJTrhMPiX2DuQysGFaXSF2vDchi1D0ixtmClyBPezDw8IKmTVPiGbn5dUO4cS
 z475kz+0C8XaoMw3ePA69nZA5mxnRdiQH3/Y7cLbJGuh7XvO2LE4yMuTHweliDsjzD+T
 WRAhoZtKBy7BXKm+7QIdTN3zW76BAZtAzwOcgaxUCVwj83Gcd2sANujqO0T5cScrMXGh
 j0sQ==
X-Gm-Message-State: AOJu0Yyub4a6uk2Wi4wRMGQJV2uglw+Wjw3WQL/airXV9zImZH56EM6g
 GrryNWkgx52cupDgXOOP8SlIxHQJEk/a8HrA5xvT5Dvql4LSAeGYpUfdbVASqEOsGWNHU9TD7Q2
 LYbGQVz/iFu6Rt/H6AxC01Pt0EBnRQzMmbJA5aaFwHcchs29rkg/15/Wg
X-Google-Smtp-Source: AGHT+IG5isAFOu+1nVEwE4gGj6tYbpVWQJsdAtt96b9aBku2hDII/GaoxpTLxnLemVVfnodBbmvr1tw8U07j
X-Received: by 2002:a05:690c:6f90:b0:618:e5c:f7a with SMTP id
 je16-20020a05690c6f9000b006180e5c0f7amr14602521ywb.33.1713882568515; 
 Tue, 23 Apr 2024 07:29:28 -0700 (PDT)
Received: from postal.iol.unh.edu (postal.iol.unh.edu.
 [2606:4100:3880:1234::84]) by smtp-relay.gmail.com with ESMTPS id
 h11-20020a816c0b000000b0061857dc2af7sm827680ywc.69.2024.04.23.07.29.28
 (version=TLS1_2 cipher=ECDHE-ECDSA-AES128-GCM-SHA256 bits=128/128);
 Tue, 23 Apr 2024 07:29:28 -0700 (PDT)
X-Relaying-Domain: iol.unh.edu
Date: Tue, 23 Apr 2024 07:29:28 -0700 (PDT)
Message-ID: <6627c5c8.810a0220.da218.149aSMTPIN_ADDED_MISSING@mx.google.com>
Received: from [172.21.0.6] (unknown [172.18.0.240])
 by postal.iol.unh.edu (Postfix) with ESMTP id 39A606052514;
 Tue, 23 Apr 2024 10:29:28 -0400 (EDT)
Subject: |SUCCESS| pw139642 [PATCH] common/cnxk: restore segregation of logs 
From: dpdklab@iol.unh.edu
To: Test Report <test-report@dpdk.org>
Cc: Anoob Joseph <anoobj@marvell.com>
In-Reply-To: <20240423104451.3018314-1-anoobj@marvell.com>
References: <20240423104451.3018314-1-anoobj@marvell.com>
Content-Type: text/plain
X-BeenThere: test-report@dpdk.org
X-Mailman-Version: 2.1.29
Precedence: list
List-Id: automatic DPDK test reports <test-report.dpdk.org>
List-Unsubscribe: <https://mails.dpdk.org/options/test-report>,
 <mailto:test-report-request@dpdk.org?subject=unsubscribe>
List-Archive: <http://mails.dpdk.org/archives/test-report/>
List-Post: <mailto:test-report@dpdk.org>
List-Help: <mailto:test-report-request@dpdk.org?subject=help>
List-Subscribe: <https://mails.dpdk.org/listinfo/test-report>,
 <mailto:test-report-request@dpdk.org?subject=subscribe>
Errors-To: test-report-bounces@dpdk.org

Test-Label: iol-abi-testing
Test-Status: SUCCESS
http://dpdk.org/patch/139642

_Testing PASS_

Submitter: Anoob Joseph <anoobj@marvell.com>
Date: Tuesday, April 23 2024 10:44:43 
DPDK git baseline: Repo:dpdk
  Branch: master
  CommitID:7e06c0de1952d3109a5b0c4779d7e7d8059c9d78

139642 --> testing pass

Test environment and result as below:

+------------------+----------+
|   Environment    | abi_test |
+==================+==========+
| CentOS Stream 8  | PASS     |
+------------------+----------+
| CentOS Stream 9  | PASS     |
+------------------+----------+
| Fedora 39        | PASS     |
+------------------+----------+
| Fedora 37        | PASS     |
+------------------+----------+
| Fedora 38        | PASS     |
+------------------+----------+
| openSUSE Leap 15 | PASS     |
+------------------+----------+
| RHEL8            | PASS     |
+------------------+----------+
| Debian Bullseye  | PASS     |
+------------------+----------+


CentOS Stream 8
	Kernel: 5.4.0-167-generic
	Compiler: gcc 8.5.0 20210514

CentOS Stream 9
	Kernel: 5.4.0-167-generic
	Compiler: gcc 11.4.1 20230605

Fedora 39
	Kernel: Depends on container host
	Compiler: clang 17.0.6

Fedora 37
	Kernel: Depends on container host system
	Compiler: gcc 12.3.1

Fedora 38
	Kernel: Depends on container host
	Compiler: clang 16.0.6

openSUSE Leap 15
	Kernel: 5.4.0-167-generic
	Compiler: gcc 7.5.0

RHEL8
	Kernel: 5.4.0-167-generic
	Compiler: gcc 8.5.0 20210514 (Red Hat 8.5.0-20)

Debian Bullseye
	Kernel: 5.4.0-167-generic
	Compiler: gcc 10.2.1-6

To view detailed results, visit:
https://lab.dpdk.org/results/dashboard/patchsets/29845/

UNH-IOL DPDK Community Lab

To manage your email subscriptions, visit: 
https://lab.dpdk.org/results/dashboard/preferences/subscriptions/