From mboxrd@z Thu Jan  1 00:00:00 1970
Return-Path: <test-report-bounces@dpdk.org>
Received: from mails.dpdk.org (mails.dpdk.org [217.70.189.124])
	by inbox.dpdk.org (Postfix) with ESMTP id A980343EEB
	for <public@inbox.dpdk.org>; Tue, 23 Apr 2024 16:31:00 +0200 (CEST)
Received: from mails.dpdk.org (localhost [127.0.0.1])
	by mails.dpdk.org (Postfix) with ESMTP id A3BA342FAD;
	Tue, 23 Apr 2024 16:31:00 +0200 (CEST)
Received: from mail-pg1-f228.google.com (mail-pg1-f228.google.com
 [209.85.215.228])
 by mails.dpdk.org (Postfix) with ESMTP id 4627942EE8
 for <test-report@dpdk.org>; Tue, 23 Apr 2024 16:30:59 +0200 (CEST)
Received: by mail-pg1-f228.google.com with SMTP id
 41be03b00d2f7-5c6bd3100fcso3483932a12.3
 for <test-report@dpdk.org>; Tue, 23 Apr 2024 07:30:59 -0700 (PDT)
DKIM-Signature: v=1; a=rsa-sha256; c=relaxed/relaxed;
 d=iol.unh.edu; s=unh-iol; t=1713882658; x=1714487458; darn=dpdk.org;
 h=references:in-reply-to:cc:to:from:subject:message-id:date:from:to
 :cc:subject:date:message-id:reply-to;
 bh=GVUJqT6C7pLdGqO/F81nfpW/TB4RH28XzPz964NQAR4=;
 b=OrM2A+lb0bxTnUzOJEIgMxg3Z5rLaVeIanPRAypuTPMMSXFDaUkLQiHiLxkiKRHDNL
 Ay1F5qcoSphx4LiWlz6PgENlWGa80UAM+xXeTL4ISSgj0Aj3QnwDrN0Sf3/C7u3ra1Z3
 q5+/L+Irvm/dzr0LgsAX4l7q8NT1ar4gmXCRE=
X-Google-DKIM-Signature: v=1; a=rsa-sha256; c=relaxed/relaxed;
 d=1e100.net; s=20230601; t=1713882658; x=1714487458;
 h=references:in-reply-to:cc:to:from:subject:message-id:date
 :x-gm-message-state:from:to:cc:subject:date:message-id:reply-to;
 bh=GVUJqT6C7pLdGqO/F81nfpW/TB4RH28XzPz964NQAR4=;
 b=O7V32NkDk8AUZ5s9qtoO1Bhoe5EHEe0Egubp2r31hOpW8mWtcZ9LmMs61XEjXMimws
 IvqfiESHr2j+mPHphZZraojKQEPOxA8spCA3aZgUueSAYWBUhc1U4ZdN6lM7CRxa/Pwl
 +X6TghFo3CYI4DK+1zCpbohGJy1u2TjXr5wmxI1GwoWDOuqFRMVSzGs1ZdootmrOoXF1
 +o9utjiKl9QPRhpTpNBDUcLAAs45jNzAusmolwVrzYEN0HslFr/GJfbAGFc13zS3qj3i
 wAV3f9vBgIdEF/dUWoBkcKzrCmLon64ZL61wT8ktvKZjb+LqNP7NTICA02J2VuL1UplG
 IPdw==
X-Gm-Message-State: AOJu0YzYETpFx5ChKuDZ9gJy4AeSqUwqjPePPo7O/g5uGlmO1frAZHGr
 CvmIqezMFTY2e5dytraoz/69v1axleVZgSSiSeUta1HjqM35o7rIuTk4acL+FLEbvu/UfiEd6Eg
 d+jER8r5IzDAL/C83kddtFsPzlJGPPypa7aYHDhMR
X-Google-Smtp-Source: AGHT+IHtpbvv1zCLZni0DvoTR+R7Lb4ly/PMwqFn1C9AR0ZaSoBiKzaatq/EwKYR8dN12wdFa009QVlIHGe+
X-Received: by 2002:a17:903:11d1:b0:1e7:f944:b000 with SMTP id
 q17-20020a17090311d100b001e7f944b000mr14557317plh.24.1713882658475; 
 Tue, 23 Apr 2024 07:30:58 -0700 (PDT)
Received: from postal.iol.unh.edu (postal.iol.unh.edu. [132.177.123.84])
 by smtp-relay.gmail.com with ESMTPS id
 k9-20020a170902760900b001e0acb18465sm304069pll.49.2024.04.23.07.30.58
 (version=TLS1_2 cipher=ECDHE-ECDSA-AES128-GCM-SHA256 bits=128/128);
 Tue, 23 Apr 2024 07:30:58 -0700 (PDT)
X-Relaying-Domain: iol.unh.edu
Date: Tue, 23 Apr 2024 07:30:58 -0700 (PDT)
Message-ID: <6627c622.170a0220.31172.1121SMTPIN_ADDED_MISSING@mx.google.com>
Received: from [172.21.0.7] (unknown [172.18.0.240])
 by postal.iol.unh.edu (Postfix) with ESMTP id 81B046052514;
 Tue, 23 Apr 2024 10:30:57 -0400 (EDT)
Subject: |SUCCESS| pw139642 [PATCH] common/cnxk: restore segregation of logs 
From: dpdklab@iol.unh.edu
To: Test Report <test-report@dpdk.org>
Cc: Anoob Joseph <anoobj@marvell.com>
In-Reply-To: <20240423104451.3018314-1-anoobj@marvell.com>
References: <20240423104451.3018314-1-anoobj@marvell.com>
Content-Type: text/plain
X-BeenThere: test-report@dpdk.org
X-Mailman-Version: 2.1.29
Precedence: list
List-Id: automatic DPDK test reports <test-report.dpdk.org>
List-Unsubscribe: <https://mails.dpdk.org/options/test-report>,
 <mailto:test-report-request@dpdk.org?subject=unsubscribe>
List-Archive: <http://mails.dpdk.org/archives/test-report/>
List-Post: <mailto:test-report@dpdk.org>
List-Help: <mailto:test-report-request@dpdk.org?subject=help>
List-Subscribe: <https://mails.dpdk.org/listinfo/test-report>,
 <mailto:test-report-request@dpdk.org?subject=subscribe>
Errors-To: test-report-bounces@dpdk.org

Test-Label: iol-abi-testing
Test-Status: SUCCESS
http://dpdk.org/patch/139642

_Testing PASS_

Submitter: Anoob Joseph <anoobj@marvell.com>
Date: Tuesday, April 23 2024 10:44:43 
DPDK git baseline: Repo:dpdk
  Branch: master
  CommitID:7e06c0de1952d3109a5b0c4779d7e7d8059c9d78

139642 --> testing pass

Test environment and result as below:

+------------------+----------+
|   Environment    | abi_test |
+==================+==========+
| CentOS Stream 8  | PASS     |
+------------------+----------+
| CentOS Stream 9  | PASS     |
+------------------+----------+
| Fedora 39        | PASS     |
+------------------+----------+
| Fedora 37        | PASS     |
+------------------+----------+
| Fedora 38        | PASS     |
+------------------+----------+
| openSUSE Leap 15 | PASS     |
+------------------+----------+
| RHEL8            | PASS     |
+------------------+----------+
| Debian Bullseye  | PASS     |
+------------------+----------+


CentOS Stream 8
	Kernel: 5.4.0-167-generic
	Compiler: gcc 8.5.0 20210514

CentOS Stream 9
	Kernel: 5.4.0-167-generic
	Compiler: gcc 11.4.1 20230605

Fedora 39
	Kernel: Depends on container host
	Compiler: clang 17.0.6

Fedora 37
	Kernel: Depends on container host system
	Compiler: gcc 12.3.1

Fedora 38
	Kernel: Depends on container host
	Compiler: clang 16.0.6

openSUSE Leap 15
	Kernel: 5.4.0-167-generic
	Compiler: gcc 7.5.0

RHEL8
	Kernel: 5.4.0-167-generic
	Compiler: gcc 8.5.0 20210514 (Red Hat 8.5.0-20)

Debian Bullseye
	Kernel: 5.4.0-167-generic
	Compiler: gcc 10.2.1-6

To view detailed results, visit:
https://lab.dpdk.org/results/dashboard/patchsets/29845/

UNH-IOL DPDK Community Lab

To manage your email subscriptions, visit: 
https://lab.dpdk.org/results/dashboard/preferences/subscriptions/