From mboxrd@z Thu Jan  1 00:00:00 1970
Return-Path: <test-report-bounces@dpdk.org>
Received: from mails.dpdk.org (mails.dpdk.org [217.70.189.124])
	by inbox.dpdk.org (Postfix) with ESMTP id 33E2A43EEB
	for <public@inbox.dpdk.org>; Tue, 23 Apr 2024 16:36:27 +0200 (CEST)
Received: from mails.dpdk.org (localhost [127.0.0.1])
	by mails.dpdk.org (Postfix) with ESMTP id 2DA6042FAD;
	Tue, 23 Apr 2024 16:36:27 +0200 (CEST)
Received: from mail-pl1-f225.google.com (mail-pl1-f225.google.com
 [209.85.214.225])
 by mails.dpdk.org (Postfix) with ESMTP id 46BD042EE8
 for <test-report@dpdk.org>; Tue, 23 Apr 2024 16:36:25 +0200 (CEST)
Received: by mail-pl1-f225.google.com with SMTP id
 d9443c01a7336-1e65a1370b7so54540645ad.3
 for <test-report@dpdk.org>; Tue, 23 Apr 2024 07:36:25 -0700 (PDT)
DKIM-Signature: v=1; a=rsa-sha256; c=relaxed/relaxed;
 d=iol.unh.edu; s=unh-iol; t=1713882984; x=1714487784; darn=dpdk.org;
 h=references:in-reply-to:cc:to:from:subject:message-id:date:from:to
 :cc:subject:date:message-id:reply-to;
 bh=aZ9Fzz+fSC0CWJrQqcHS6KXV1IZlKHIHbWvpLrFtcBM=;
 b=JGpx4LH4tjMFhLcO2zcR2yv8zeP4C5+eL9NOFBx4EWwoLVl5WnxaswFJb6+yiWRMc7
 xGeSJnC3Z6GrCB+qeQAFSJ4qZdWkVBoQF5Uhp/NuCpVOT1MTYMMV06ty2bDbAHWkhZzY
 dkInCfOUf8UQUUJbwFzCHl+8Xnw+6M2B49PXw=
X-Google-DKIM-Signature: v=1; a=rsa-sha256; c=relaxed/relaxed;
 d=1e100.net; s=20230601; t=1713882984; x=1714487784;
 h=references:in-reply-to:cc:to:from:subject:message-id:date
 :x-gm-message-state:from:to:cc:subject:date:message-id:reply-to;
 bh=aZ9Fzz+fSC0CWJrQqcHS6KXV1IZlKHIHbWvpLrFtcBM=;
 b=uWIKcpn18bDp7xoyuCBi0ZYDNh9Bc/f1oJDPtc4bZ0//KyiOpPtFD1Wt9jOdI/iVzv
 yPPId9lGX6Q/szIJ4N+Nutk919L/hlKvM+iCXolDy938ouJ1N/dwpJ4ZspVoqQN3AHEj
 2dicvL8/U099orjHQbdTfz6UEKbACNpkr4KkrPnkZMn9ph2wtTumhdojFRtibUxXimKY
 XkEcXa3wyWR3RLGeFvRyX9Mh4A4M+y9+ymFNFEjl4ZIITe0eITxF9cpinTOTpFnWtZ1F
 Ee0fC0UqXx/tyU1qYOrTbG/yEta/svGlfjdCWhDQGyTW163uS46NLgm1el55HSi0emIT
 JrFQ==
X-Gm-Message-State: AOJu0Yz4yKY4uZ/+OEC1X2m4sUmOqDvoWyFebdyT0bhAoWt1nuJkBcSv
 IkKkrhMBYFdsMI6ZzVIy5wopGr/HjUybKswMs9z5NHqpyKAMW2GNCsqVE8ff8snPhvHmIQD3CRh
 9hUvQPCgRqb6cl7ohgm7cFu7+hdZ0YkfocLrPMctr2QMad4nUUc3DSx0k
X-Google-Smtp-Source: AGHT+IGptrFJem0z60+9PE3rwvYTwxnKM0BGXqNwpDdmzRQonpLD25fyVK/1ToynjzBgn7b+BXC6F+qCIS6d
X-Received: by 2002:a17:903:2685:b0:1e0:dc6e:45d6 with SMTP id
 jf5-20020a170903268500b001e0dc6e45d6mr14487594plb.60.1713882984589; 
 Tue, 23 Apr 2024 07:36:24 -0700 (PDT)
Received: from postal.iol.unh.edu (postal.iol.unh.edu.
 [2606:4100:3880:1234::84]) by smtp-relay.gmail.com with ESMTPS id
 bc1-20020a170902930100b001e0f2b0568esm292817plb.0.2024.04.23.07.36.24
 (version=TLS1_2 cipher=ECDHE-ECDSA-AES128-GCM-SHA256 bits=128/128);
 Tue, 23 Apr 2024 07:36:24 -0700 (PDT)
X-Relaying-Domain: iol.unh.edu
Date: Tue, 23 Apr 2024 07:36:24 -0700 (PDT)
Message-ID: <6627c768.170a0220.74de4.05e2SMTPIN_ADDED_MISSING@mx.google.com>
Received: from [172.21.0.6] (unknown [172.18.0.240])
 by postal.iol.unh.edu (Postfix) with ESMTP id B854E6052514;
 Tue, 23 Apr 2024 10:36:23 -0400 (EDT)
Subject: |SUCCESS| pw139642 [PATCH] common/cnxk: restore segregation of logs 
From: dpdklab@iol.unh.edu
To: Test Report <test-report@dpdk.org>
Cc: dpdk-test-reports@iol.unh.edu
In-Reply-To: <20240423104451.3018314-1-anoobj@marvell.com>
References: <20240423104451.3018314-1-anoobj@marvell.com>
Content-Type: text/plain
X-BeenThere: test-report@dpdk.org
X-Mailman-Version: 2.1.29
Precedence: list
List-Id: automatic DPDK test reports <test-report.dpdk.org>
List-Unsubscribe: <https://mails.dpdk.org/options/test-report>,
 <mailto:test-report-request@dpdk.org?subject=unsubscribe>
List-Archive: <http://mails.dpdk.org/archives/test-report/>
List-Post: <mailto:test-report@dpdk.org>
List-Help: <mailto:test-report-request@dpdk.org?subject=help>
List-Subscribe: <https://mails.dpdk.org/listinfo/test-report>,
 <mailto:test-report-request@dpdk.org?subject=subscribe>
Errors-To: test-report-bounces@dpdk.org

Test-Label: iol-compile-amd64-testing
Test-Status: SUCCESS
http://dpdk.org/patch/139642

_Testing PASS_

Submitter: Anoob Joseph <anoobj@marvell.com>
Date: Tuesday, April 23 2024 10:44:43 
DPDK git baseline: Repo:dpdk
  Branch: master
  CommitID:7e06c0de1952d3109a5b0c4779d7e7d8059c9d78

139642 --> testing pass

Test environment and result as below:

+---------------------+--------------------+-------------------+----------------------+
|     Environment     | dpdk_meson_compile | dpdk_msvc_compile | dpdk_mingw64_compile |
+=====================+====================+===================+======================+
| FreeBSD 13.2        | PASS               | SKIPPED           | SKIPPED              |
+---------------------+--------------------+-------------------+----------------------+
| CentOS Stream 8     | PASS               | SKIPPED           | SKIPPED              |
+---------------------+--------------------+-------------------+----------------------+
| Windows Server 2019 | PASS               | SKIPPED           | PASS                 |
+---------------------+--------------------+-------------------+----------------------+
| Windows Server 2022 | PASS               | PASS              | PASS                 |
+---------------------+--------------------+-------------------+----------------------+
| Debian Bullseye     | PASS               | SKIPPED           | SKIPPED              |
+---------------------+--------------------+-------------------+----------------------+
| CentOS Stream 9     | PASS               | SKIPPED           | SKIPPED              |
+---------------------+--------------------+-------------------+----------------------+
| Debian 12           | PASS               | SKIPPED           | SKIPPED              |
+---------------------+--------------------+-------------------+----------------------+
| Fedora 37           | PASS               | SKIPPED           | SKIPPED              |
+---------------------+--------------------+-------------------+----------------------+
| Fedora 38           | PASS               | SKIPPED           | SKIPPED              |
+---------------------+--------------------+-------------------+----------------------+
| Fedora 39           | PASS               | SKIPPED           | SKIPPED              |
+---------------------+--------------------+-------------------+----------------------+
| Ubuntu 20.04        | PASS               | SKIPPED           | SKIPPED              |
+---------------------+--------------------+-------------------+----------------------+
| RHEL8               | PASS               | SKIPPED           | SKIPPED              |
+---------------------+--------------------+-------------------+----------------------+
| Ubuntu 22.04        | PASS               | SKIPPED           | SKIPPED              |
+---------------------+--------------------+-------------------+----------------------+


FreeBSD 13.2
	Kernel: 13.2
	Compiler: clang 14.0.5

CentOS Stream 8
	Kernel: 5.4.0-167-generic
	Compiler: gcc 8.5.0 20210514

Windows Server 2019
	Kernel: 10.0.17763
	Compiler: clang 14.0 and gcc 8.1.0 (MinGW)

Windows Server 2022
	Kernel: 10.0.20348.2031
	Compiler: clang 15.0.7, gcc 8.1.0 (MinGW), and MSVC VS 17.9

Debian Bullseye
	Kernel: 5.4.0-167-generic
	Compiler: gcc 10.2.1-6

CentOS Stream 9
	Kernel: 5.4.0-167-generic
	Compiler: gcc 11.4.1 20230605

Debian 12
	Kernel: Container Host Kernel
	Compiler: gcc 10.2.1

Fedora 37
	Kernel: Depends on container host system
	Compiler: gcc 12.3.1

Fedora 38
	Kernel: Depends on container host
	Compiler: gcc 13.2.1

Fedora 39
	Kernel: Depends on container host
	Compiler: gcc 13.2.1

Ubuntu 20.04
	Kernel: 5.4.0-167-generic
	Compiler: gcc 9.4.0-1ubuntu1~20.04.1

RHEL8
	Kernel: 5.4.0-167-generic
	Compiler: gcc 8.5.0 20210514 (Red Hat 8.5.0-20)

Ubuntu 22.04
	Kernel: 5.4.0-167-generic
	Compiler: gcc 11.4.0

To view detailed results, visit:
https://lab.dpdk.org/results/dashboard/patchsets/29845/

UNH-IOL DPDK Community Lab

To manage your email subscriptions, visit: 
https://lab.dpdk.org/results/dashboard/preferences/subscriptions/