From mboxrd@z Thu Jan  1 00:00:00 1970
Return-Path: <test-report-bounces@dpdk.org>
Received: from mails.dpdk.org (mails.dpdk.org [217.70.189.124])
	by inbox.dpdk.org (Postfix) with ESMTP id A812B43EEB
	for <public@inbox.dpdk.org>; Tue, 23 Apr 2024 16:49:38 +0200 (CEST)
Received: from mails.dpdk.org (localhost [127.0.0.1])
	by mails.dpdk.org (Postfix) with ESMTP id A3C9442FAD;
	Tue, 23 Apr 2024 16:49:38 +0200 (CEST)
Received: from mail-qv1-f97.google.com (mail-qv1-f97.google.com
 [209.85.219.97]) by mails.dpdk.org (Postfix) with ESMTP id BA76842EE8
 for <test-report@dpdk.org>; Tue, 23 Apr 2024 16:49:34 +0200 (CEST)
Received: by mail-qv1-f97.google.com with SMTP id
 6a1803df08f44-699320fcbc1so33701496d6.3
 for <test-report@dpdk.org>; Tue, 23 Apr 2024 07:49:34 -0700 (PDT)
DKIM-Signature: v=1; a=rsa-sha256; c=relaxed/relaxed;
 d=iol.unh.edu; s=unh-iol; t=1713883774; x=1714488574; darn=dpdk.org;
 h=references:in-reply-to:cc:to:from:subject:message-id:date:from:to
 :cc:subject:date:message-id:reply-to;
 bh=43GTfds/BXBSYG0atWgkEXhKH9SwF3ygLYyMxm40idk=;
 b=Tqlw2E+3TSbfcqdFFF/TAUdFVUF93CedJh6pZbn6Q2ulVju/yG1nbmHkYx17yEkDck
 kC316yWegYZHeNlk5arzoXgvQeSZUHyx3a38Xwdtd6bc9+3NElwpKy0kYbQphr8KV83U
 5VtVgdSkyvCAcFl/6VqG8lYxkGwCRoo2pGGnM=
X-Google-DKIM-Signature: v=1; a=rsa-sha256; c=relaxed/relaxed;
 d=1e100.net; s=20230601; t=1713883774; x=1714488574;
 h=references:in-reply-to:cc:to:from:subject:message-id:date
 :x-gm-message-state:from:to:cc:subject:date:message-id:reply-to;
 bh=43GTfds/BXBSYG0atWgkEXhKH9SwF3ygLYyMxm40idk=;
 b=LiFXUuO++gvYQCtwdV+Pa70xSKWJPvji+rKAWmoiUb+7iJIb4QkByjnEowrzHvK/6/
 Vm7TedEWYuYNMieoccQBO3kwkUoZBE4HNkVU7/XCy2RYubvG+disza/zG5ZQ33hlXaCt
 VArKIYaZshVqQnssOlbUbURgsryLXo3UdCSFL+XZTBaymWCyRW9qvAUua0n0p3L+K3D9
 m0JZ/1ZZ525W7iLoPikvCFa/66nJl9YtRQzwQNWxZ7ufR/PqA9AqklbKNI3Jt6i94QG2
 RID0dRDOhFdEbj3y3zpMNA8aVuSetJ03OphetJnAQ8YD7AZ7UbNzBoCvnmx8RZxKK6Dv
 8kYg==
X-Gm-Message-State: AOJu0YzgNp4sMbW8GvJQKMrDY4eRfAGS3FkiG/OtRNKx6i1PYkNS+dib
 TsOy+88zBw52MemwzpXa1g/IgkmU0bkTtklG+UjGMjr58il1wY8g3a8ODGhDYR7XIEvSQUYZmtM
 WlOT2acdgvt1nXV0x8degrerCF6y2JWdWsIFJHqzHOhThInJ65MGqJVtb
X-Google-Smtp-Source: AGHT+IGDcCQWGvKXHwiPNXLJ8N7Ill4J1bde7Em7PCy3aAWquil5P7Q5NuUPNZoa0NtL1oFJefnY7nZAQe0A
X-Received: by 2002:ad4:41c1:0:b0:6a0:7f0f:5856 with SMTP id
 a1-20020ad441c1000000b006a07f0f5856mr7989469qvq.0.1713883774202; 
 Tue, 23 Apr 2024 07:49:34 -0700 (PDT)
Received: from postal.iol.unh.edu (postal.iol.unh.edu.
 [2606:4100:3880:1234::84]) by smtp-relay.gmail.com with ESMTPS id
 h15-20020a0562140daf00b006a081d977cfsm307220qvh.46.2024.04.23.07.49.34
 (version=TLS1_2 cipher=ECDHE-ECDSA-AES128-GCM-SHA256 bits=128/128);
 Tue, 23 Apr 2024 07:49:34 -0700 (PDT)
X-Relaying-Domain: iol.unh.edu
Date: Tue, 23 Apr 2024 07:49:34 -0700 (PDT)
Message-ID: <6627ca7e.050a0220.79dee.fd62SMTPIN_ADDED_MISSING@mx.google.com>
Received: from [172.17.0.3] (unknown [172.18.0.217])
 by postal.iol.unh.edu (Postfix) with ESMTP id EA4A26052514;
 Tue, 23 Apr 2024 10:49:33 -0400 (EDT)
Subject: |SUCCESS| pw139642 [PATCH] common/cnxk: restore segregation of logs 
From: dpdklab@iol.unh.edu
To: Test Report <test-report@dpdk.org>
Cc: dpdk-test-reports@iol.unh.edu
In-Reply-To: <20240423104451.3018314-1-anoobj@marvell.com>
References: <20240423104451.3018314-1-anoobj@marvell.com>
Content-Type: text/plain
X-BeenThere: test-report@dpdk.org
X-Mailman-Version: 2.1.29
Precedence: list
List-Id: automatic DPDK test reports <test-report.dpdk.org>
List-Unsubscribe: <https://mails.dpdk.org/options/test-report>,
 <mailto:test-report-request@dpdk.org?subject=unsubscribe>
List-Archive: <http://mails.dpdk.org/archives/test-report/>
List-Post: <mailto:test-report@dpdk.org>
List-Help: <mailto:test-report-request@dpdk.org?subject=help>
List-Subscribe: <https://mails.dpdk.org/listinfo/test-report>,
 <mailto:test-report-request@dpdk.org?subject=subscribe>
Errors-To: test-report-bounces@dpdk.org

Test-Label: iol-compile-arm64-testing
Test-Status: SUCCESS
http://dpdk.org/patch/139642

_Testing PASS_

Submitter: Anoob Joseph <anoobj@marvell.com>
Date: Tuesday, April 23 2024 10:44:43 
DPDK git baseline: Repo:dpdk
  Branch: master
  CommitID:7e06c0de1952d3109a5b0c4779d7e7d8059c9d78

139642 --> testing pass

Test environment and result as below:

+----------------------------------------+--------------------+
|              Environment               | dpdk_meson_compile |
+========================================+====================+
| Ubuntu 20.04 ARM SVE                   | PASS               |
+----------------------------------------+--------------------+
| Debian 12 with MUSDK                   | PASS               |
+----------------------------------------+--------------------+
| Fedora 37 (ARM)                        | PASS               |
+----------------------------------------+--------------------+
| Fedora 38 (ARM)                        | PASS               |
+----------------------------------------+--------------------+
| Ubuntu 20.04 (ARM)                     | PASS               |
+----------------------------------------+--------------------+
| Debian 12 (arm)                        | PASS               |
+----------------------------------------+--------------------+
| Debian 11 (Buster) (ARM)               | PASS               |
+----------------------------------------+--------------------+
| Fedora 39 (ARM)                        | PASS               |
+----------------------------------------+--------------------+
| CentOS Stream 9 (ARM)                  | PASS               |
+----------------------------------------+--------------------+
| Ubuntu 20.04 ARM Clang Cross Compile   | PASS               |
+----------------------------------------+--------------------+
| Ubuntu 20.04 aarch32 GCC Cross Compile | PASS               |
+----------------------------------------+--------------------+


Ubuntu 20.04 ARM SVE
	Kernel: 5.4.0-167-generic
	Compiler: gcc (Ubuntu 10.5.0-1ubuntu1~20.04) 10.5.0

Debian 12 with MUSDK
	Kernel: Container Host Kernel
	Compiler: gcc 12.2.0

Fedora 37 (ARM)
	Kernel: Depends on container host
	Compiler: gcc 12.3.1

Fedora 38 (ARM)
	Kernel: Depends on container host
	Compiler: gcc 13.2.1

Ubuntu 20.04 (ARM)
	Kernel: Container Host Kernel
	Compiler: gcc 9.4.0

Debian 12 (arm)
	Kernel: Container Host Kernel
	Compiler: gcc 12.2.0

Debian 11 (Buster) (ARM)
	Kernel: Container Host Kernel
	Compiler: gcc 10.2.1

Fedora 39 (ARM)
	Kernel: Depends on container host
	Compiler: gcc 13.2.1

CentOS Stream 9 (ARM)
	Kernel: Container Host Kernel
	Compiler: gcc 11.4.1

Ubuntu 20.04 ARM Clang Cross Compile
	Kernel: 5.4.0-72-generic
	Compiler: clang 10.0.0-4ubuntu1

Ubuntu 20.04 aarch32 GCC Cross Compile
	Kernel: 5.4.0-167-generic
	Compiler: gcc 9.4.0

To view detailed results, visit:
https://lab.dpdk.org/results/dashboard/patchsets/29845/

UNH-IOL DPDK Community Lab

To manage your email subscriptions, visit: 
https://lab.dpdk.org/results/dashboard/preferences/subscriptions/