From mboxrd@z Thu Jan  1 00:00:00 1970
Return-Path: <test-report-bounces@dpdk.org>
Received: from mails.dpdk.org (mails.dpdk.org [217.70.189.124])
	by inbox.dpdk.org (Postfix) with ESMTP id F1BA943EF7
	for <public@inbox.dpdk.org>; Wed, 24 Apr 2024 16:13:11 +0200 (CEST)
Received: from mails.dpdk.org (localhost [127.0.0.1])
	by mails.dpdk.org (Postfix) with ESMTP id EA1D7434E1;
	Wed, 24 Apr 2024 16:13:11 +0200 (CEST)
Received: from mail-ot1-f100.google.com (mail-ot1-f100.google.com
 [209.85.210.100])
 by mails.dpdk.org (Postfix) with ESMTP id 0BD754347B
 for <test-report@dpdk.org>; Wed, 24 Apr 2024 16:13:04 +0200 (CEST)
Received: by mail-ot1-f100.google.com with SMTP id
 46e09a7af769-6ea2ac0c217so361295a34.1
 for <test-report@dpdk.org>; Wed, 24 Apr 2024 07:13:03 -0700 (PDT)
DKIM-Signature: v=1; a=rsa-sha256; c=relaxed/relaxed;
 d=iol.unh.edu; s=unh-iol; t=1713967983; x=1714572783; darn=dpdk.org;
 h=references:in-reply-to:cc:to:from:subject:message-id:date:from:to
 :cc:subject:date:message-id:reply-to;
 bh=FevSiOrJXMmJD/vGreBjgieP4OuxMPyEjcgEMTeMa7E=;
 b=TKeK7t5Z/PixNJXwjSmSQpYye1k1qxoC50B6NMP8Jr1Y6ZRk4CkHbQo2hXbw8A4Vt0
 puZrKlt0toRGfD+1X4BwWTeUOHr9X9k+Cy/eJyTTHMbit5u9I2oW0+lO0ThFcnm+RWcl
 mTU6ejCYN3JTxvSgocd96Mtzmtp6UYb+9m78Y=
X-Google-DKIM-Signature: v=1; a=rsa-sha256; c=relaxed/relaxed;
 d=1e100.net; s=20230601; t=1713967983; x=1714572783;
 h=references:in-reply-to:cc:to:from:subject:message-id:date
 :x-gm-message-state:from:to:cc:subject:date:message-id:reply-to;
 bh=FevSiOrJXMmJD/vGreBjgieP4OuxMPyEjcgEMTeMa7E=;
 b=MlrzQ0s+mQhb/gaDtTSeH2V5bleDD3VWRJOdUrEkfAqPd0kVZQ7Grax82Kwd3N8DhP
 pltVHBBkbJSUb0FIWzmIGxUWtS7+xwfO8jUrSpwV1DSUj+KV36XSa85ZIducG/j7fWNn
 SUKhfXurLk1CM9uI9PVGDFA7BdI6pjSf2Lah50qr526kb37Q/jlpy6+Y83oj8R/kF9R4
 HmXUT3DfqMHMdeEXnLZNP7Wzw4kYX28Mky6JXHsH8ZOMF5CuLQouNNmMZBGUqIKf+aOm
 p0wyqEH/uhCHXZYJXp4XJC5M3Q0Er6GuxohaiWf04zJOUaX8iP/0a70CnVSXdltjCb+a
 4oZQ==
X-Gm-Message-State: AOJu0Yz1d8UijNFqeebuf9YXrlUYj2reg6p56ZtKqPkeMHHwCwFvcLQS
 mjsgtvbagFRANlVS1BVmFA7JZ2tKuSkawc41ml59FeGXcYpPOzqS2x3gvKuNAEKj48jG+eWmEBU
 83m4NpKayuU3ewEDX3i6q+wOIXma3ljtzZbvnXeC9ri+wdMNqhW0yZ/X2
X-Google-Smtp-Source: AGHT+IGMfSxhV/eqEmclYElk/1TeSAu3DZQ38Iydlnhq4evvz02YHsnPZeurqtJiuRj/Ado2QViRy9w3xl9w
X-Received: by 2002:a05:6830:1098:b0:6eb:c69a:90f8 with SMTP id
 y24-20020a056830109800b006ebc69a90f8mr2348549oto.17.1713967983357; 
 Wed, 24 Apr 2024 07:13:03 -0700 (PDT)
Received: from postal.iol.unh.edu (postal.iol.unh.edu.
 [2606:4100:3880:1234::84]) by smtp-relay.gmail.com with ESMTPS id
 125-20020a4a1483000000b005a4c8f41a73sm1204253ood.9.2024.04.24.07.13.03
 (version=TLS1_2 cipher=ECDHE-ECDSA-AES128-GCM-SHA256 bits=128/128);
 Wed, 24 Apr 2024 07:13:03 -0700 (PDT)
X-Relaying-Domain: iol.unh.edu
Date: Wed, 24 Apr 2024 07:13:03 -0700 (PDT)
Message-ID: <6629136f.4a0a0220.9845a.2367SMTPIN_ADDED_MISSING@mx.google.com>
Received: from [172.21.0.7] (unknown [172.18.0.240])
 by postal.iol.unh.edu (Postfix) with ESMTP id D3F4C6052514;
 Wed, 24 Apr 2024 10:13:02 -0400 (EDT)
Subject: |SUCCESS| pw139646-139667 [PATCH] [v1,22/22] net/ixgbe/base: add sup
From: dpdklab@iol.unh.edu
To: Test Report <test-report@dpdk.org>
Cc: dpdk-test-reports@iol.unh.edu
In-Reply-To: <9dc7b80e7c3542323ab1d0d22ab96a882abb7fff.1713964708.git.anatoly.burakov@intel.com>
References: <9dc7b80e7c3542323ab1d0d22ab96a882abb7fff.1713964708.git.anatoly.burakov@intel.com>
Content-Type: text/plain
X-BeenThere: test-report@dpdk.org
X-Mailman-Version: 2.1.29
Precedence: list
List-Id: automatic DPDK test reports <test-report.dpdk.org>
List-Unsubscribe: <https://mails.dpdk.org/options/test-report>,
 <mailto:test-report-request@dpdk.org?subject=unsubscribe>
List-Archive: <http://mails.dpdk.org/archives/test-report/>
List-Post: <mailto:test-report@dpdk.org>
List-Help: <mailto:test-report-request@dpdk.org?subject=help>
List-Subscribe: <https://mails.dpdk.org/listinfo/test-report>,
 <mailto:test-report-request@dpdk.org?subject=subscribe>
Errors-To: test-report-bounces@dpdk.org

Test-Label: iol-compile-arm64-testing
Test-Status: SUCCESS
http://dpdk.org/patch/139667

_Testing PASS_

Submitter: Anatoly Burakov <anatoly.burakov@intel.com>
Date: Wednesday, April 24 2024 13:21:56 
DPDK git baseline: Repo:dpdk
  Branch: master
  CommitID:2ac57ed414af92f0c30a799e1824fd47f86a94b0

139646-139667 --> testing pass

Test environment and result as below:

+----------------------+--------------------+
|     Environment      | dpdk_meson_compile |
+======================+====================+
| Ubuntu 20.04 ARM SVE | PASS               |
+----------------------+--------------------+
| Debian 12 with MUSDK | PASS               |
+----------------------+--------------------+
| Fedora 38 (ARM)      | PASS               |
+----------------------+--------------------+


Ubuntu 20.04 ARM SVE
	Kernel: 5.4.0-167-generic
	Compiler: gcc (Ubuntu 10.5.0-1ubuntu1~20.04) 10.5.0

Debian 12 with MUSDK
	Kernel: Container Host Kernel
	Compiler: gcc 12.2.0

Fedora 38 (ARM)
	Kernel: Depends on container host
	Compiler: gcc 13.2.1

To view detailed results, visit:
https://lab.dpdk.org/results/dashboard/patchsets/29849/

UNH-IOL DPDK Community Lab

To manage your email subscriptions, visit: 
https://lab.dpdk.org/results/dashboard/preferences/subscriptions/