From mboxrd@z Thu Jan  1 00:00:00 1970
Return-Path: <test-report-bounces@dpdk.org>
Received: from mails.dpdk.org (mails.dpdk.org [217.70.189.124])
	by inbox.dpdk.org (Postfix) with ESMTP id E844843EF7
	for <public@inbox.dpdk.org>; Wed, 24 Apr 2024 16:17:03 +0200 (CEST)
Received: from mails.dpdk.org (localhost [127.0.0.1])
	by mails.dpdk.org (Postfix) with ESMTP id E182F43489;
	Wed, 24 Apr 2024 16:17:03 +0200 (CEST)
Received: from mail-qk1-f227.google.com (mail-qk1-f227.google.com
 [209.85.222.227])
 by mails.dpdk.org (Postfix) with ESMTP id 71BF54347B
 for <test-report@dpdk.org>; Wed, 24 Apr 2024 16:17:03 +0200 (CEST)
Received: by mail-qk1-f227.google.com with SMTP id
 af79cd13be357-78f0440656eso416999485a.1
 for <test-report@dpdk.org>; Wed, 24 Apr 2024 07:17:03 -0700 (PDT)
DKIM-Signature: v=1; a=rsa-sha256; c=relaxed/relaxed;
 d=iol.unh.edu; s=unh-iol; t=1713968223; x=1714573023; darn=dpdk.org;
 h=references:in-reply-to:cc:to:from:subject:message-id:date:from:to
 :cc:subject:date:message-id:reply-to;
 bh=T0ht97piMmu/qOPTKd6cD2/eUWPktNlTcWIorb/yVVk=;
 b=SES0kjNPgDxgdM1573fafpE6aDxqGG6Aox7t7ckhxp+knb5I6V97RYx5oxsEweR+zf
 Ldyz8pZxe8B1hL1vxmt2xxqK4poHq+bqPdge/qVzjReO9N8Ihv8Qiu5TM5cFsTd0lQpE
 JzIFLWQGqprpcVvd03ovLD7sp/oBudTtF79Yo=
X-Google-DKIM-Signature: v=1; a=rsa-sha256; c=relaxed/relaxed;
 d=1e100.net; s=20230601; t=1713968223; x=1714573023;
 h=references:in-reply-to:cc:to:from:subject:message-id:date
 :x-gm-message-state:from:to:cc:subject:date:message-id:reply-to;
 bh=T0ht97piMmu/qOPTKd6cD2/eUWPktNlTcWIorb/yVVk=;
 b=YlCWnyRYm1IYbgZ6peTheYTnRic1Da/qDKthUcxhNvFQCCw8dTS7L1qnfuF/CwRVJ7
 F208SGy1Ck6Kggya8fXbi+BRpCJjnpsYLt+UblOmRlWnL/wodSorMO5eVqtGua24Yn40
 2zujYgcCMNHRcPN8A+F6OhlqQRtp0ITeNmmfU9TEz5yF2zpmCYjJQRFnfaGmyiKPenGO
 uKqD4LzQ2uPqjsMQItUPssZpUyfV2dKbroThAhnyLYZxraXV/+C529i/Iz+pK5C/yfJa
 CDPonguMcCKXB2gZb2Cqu9HV/9tU7nhNiv9D0c9oFoivluGET1bDxjxaEt+UylU5lWui
 Jkng==
X-Gm-Message-State: AOJu0YywTVLs6RKUD9a3PE0aG6f8syiLw2p5yp1bXAb8ouZZSSwc0q70
 VJjQhv5DZ2rPbTuEuq11tF4xULPkvJbiNUwYdopW3T971E/Km+dmMgWQ47WXjT6lOqOWh6ZkWVN
 h6Bn2qelNroDCKFgrh4yKJr4CouxnYyhuAHM6fla2
X-Google-Smtp-Source: AGHT+IFBNEPTplWmq5ao8NGW/qS3IfVq2HzE3jeNEQguYMT5YqtEbns7icdklkNiIdF4bls0hTNlAcHDqGD0
X-Received: by 2002:a05:6214:b07:b0:69b:776d:ff78 with SMTP id
 u7-20020a0562140b0700b0069b776dff78mr1943207qvj.64.1713968222711; 
 Wed, 24 Apr 2024 07:17:02 -0700 (PDT)
Received: from postal.iol.unh.edu (postal.iol.unh.edu. [132.177.123.84])
 by smtp-relay.gmail.com with ESMTPS id
 a6-20020a0562140c2600b006969a3d0da4sm1112062qvd.48.2024.04.24.07.17.02
 (version=TLS1_2 cipher=ECDHE-ECDSA-AES128-GCM-SHA256 bits=128/128);
 Wed, 24 Apr 2024 07:17:02 -0700 (PDT)
X-Relaying-Domain: iol.unh.edu
Date: Wed, 24 Apr 2024 07:17:02 -0700 (PDT)
Message-ID: <6629145e.050a0220.d694d.a7f8SMTPIN_ADDED_MISSING@mx.google.com>
Received: from [172.21.0.6] (unknown [172.18.0.240])
 by postal.iol.unh.edu (Postfix) with ESMTP id 66F5D6052514;
 Wed, 24 Apr 2024 10:17:02 -0400 (EDT)
Subject: |SUCCESS| pw139646-139667 [PATCH] [v1,22/22] net/ixgbe/base: add sup
From: dpdklab@iol.unh.edu
To: Test Report <test-report@dpdk.org>
Cc: dpdk-test-reports@iol.unh.edu
In-Reply-To: <9dc7b80e7c3542323ab1d0d22ab96a882abb7fff.1713964708.git.anatoly.burakov@intel.com>
References: <9dc7b80e7c3542323ab1d0d22ab96a882abb7fff.1713964708.git.anatoly.burakov@intel.com>
Content-Type: text/plain
X-BeenThere: test-report@dpdk.org
X-Mailman-Version: 2.1.29
Precedence: list
List-Id: automatic DPDK test reports <test-report.dpdk.org>
List-Unsubscribe: <https://mails.dpdk.org/options/test-report>,
 <mailto:test-report-request@dpdk.org?subject=unsubscribe>
List-Archive: <http://mails.dpdk.org/archives/test-report/>
List-Post: <mailto:test-report@dpdk.org>
List-Help: <mailto:test-report-request@dpdk.org?subject=help>
List-Subscribe: <https://mails.dpdk.org/listinfo/test-report>,
 <mailto:test-report-request@dpdk.org?subject=subscribe>
Errors-To: test-report-bounces@dpdk.org

Test-Label: iol-unit-arm64-testing
Test-Status: SUCCESS
http://dpdk.org/patch/139667

_Testing PASS_

Submitter: Anatoly Burakov <anatoly.burakov@intel.com>
Date: Wednesday, April 24 2024 13:21:56 
DPDK git baseline: Repo:dpdk
  Branch: master
  CommitID:2ac57ed414af92f0c30a799e1824fd47f86a94b0

139646-139667 --> testing pass

Test environment and result as below:

+--------------------------+---------------------------+------------------------------+----------------+
|       Environment        | cryptodev_sw_zuc_autotest | cryptodev_sw_snow3g_autotest | dpdk_unit_test |
+==========================+===========================+==============================+================+
| Debian 12 (arm)          | PASS                      | PASS                         | PASS           |
+--------------------------+---------------------------+------------------------------+----------------+
| CentOS Stream 9 (ARM)    | SKIPPED                   | SKIPPED                      | PASS           |
+--------------------------+---------------------------+------------------------------+----------------+
| Debian 11 (Buster) (ARM) | SKIPPED                   | SKIPPED                      | PASS           |
+--------------------------+---------------------------+------------------------------+----------------+
| Fedora 37 (ARM)          | SKIPPED                   | SKIPPED                      | PASS           |
+--------------------------+---------------------------+------------------------------+----------------+
| Fedora 38 (ARM)          | SKIPPED                   | SKIPPED                      | PASS           |
+--------------------------+---------------------------+------------------------------+----------------+


Debian 12 (arm)
	Kernel: Container Host Kernel
	Compiler: gcc 12.2.0

CentOS Stream 9 (ARM)
	Kernel: Container Host Kernel
	Compiler: gcc 11.4.1

Debian 11 (Buster) (ARM)
	Kernel: Container Host Kernel
	Compiler: gcc 10.2.1

Fedora 37 (ARM)
	Kernel: Depends on container host
	Compiler: gcc 12.3.1

Fedora 38 (ARM)
	Kernel: Depends on container host
	Compiler: gcc 13.2.1

To view detailed results, visit:
https://lab.dpdk.org/results/dashboard/patchsets/29849/

UNH-IOL DPDK Community Lab

To manage your email subscriptions, visit: 
https://lab.dpdk.org/results/dashboard/preferences/subscriptions/