From mboxrd@z Thu Jan  1 00:00:00 1970
Return-Path: <test-report-bounces@dpdk.org>
Received: from mails.dpdk.org (mails.dpdk.org [217.70.189.124])
	by inbox.dpdk.org (Postfix) with ESMTP id 49C0A43EF7
	for <public@inbox.dpdk.org>; Wed, 24 Apr 2024 16:19:14 +0200 (CEST)
Received: from mails.dpdk.org (localhost [127.0.0.1])
	by mails.dpdk.org (Postfix) with ESMTP id 45526434F9;
	Wed, 24 Apr 2024 16:19:14 +0200 (CEST)
Received: from mail-oo1-f98.google.com (mail-oo1-f98.google.com
 [209.85.161.98]) by mails.dpdk.org (Postfix) with ESMTP id EC6C64347B
 for <test-report@dpdk.org>; Wed, 24 Apr 2024 16:19:02 +0200 (CEST)
Received: by mail-oo1-f98.google.com with SMTP id
 006d021491bc7-5aa362cc2ccso4698964eaf.3
 for <test-report@dpdk.org>; Wed, 24 Apr 2024 07:19:02 -0700 (PDT)
DKIM-Signature: v=1; a=rsa-sha256; c=relaxed/relaxed;
 d=iol.unh.edu; s=unh-iol; t=1713968342; x=1714573142; darn=dpdk.org;
 h=references:in-reply-to:cc:to:from:subject:message-id:date:from:to
 :cc:subject:date:message-id:reply-to;
 bh=SqCSkj7hdl/mWvN0Lw4pgge+4D/kFtIrkntZ6dbdYJ4=;
 b=aKWSq/itIUWpNEPn3LEXzHPS0GfEk8x6aPMQMmzLxEYlLAjCIE/JYVEaazo+gg8iEZ
 vPMSLkT9dSk2sZdbR6BW6QGew/hS8RcsJtiry+rSfk8TpBhk4VL5jbaRQ9EexG/POzM/
 k5xr6x5JH3WwjeYCw8b0tHhHouCF0AdKKGYUk=
X-Google-DKIM-Signature: v=1; a=rsa-sha256; c=relaxed/relaxed;
 d=1e100.net; s=20230601; t=1713968342; x=1714573142;
 h=references:in-reply-to:cc:to:from:subject:message-id:date
 :x-gm-message-state:from:to:cc:subject:date:message-id:reply-to;
 bh=SqCSkj7hdl/mWvN0Lw4pgge+4D/kFtIrkntZ6dbdYJ4=;
 b=V31sVZ9edSpdcX+x9EdK1mpFtCSIlUamxxWaCkiyTdHV/ubGCJYo55uEI2Lw37TSSO
 kO1ZLiuqQQ4UWplGK4Zc6E04jnCjOjmdLvjCsjPIojTK2HfmERhXpeTOdJrEBDhC+4vs
 g1p0HpFG/Sy0nn/HgWEC/P5mPS1hf/oXxrxTMHqJdb2X9DWn38dqjo39JZo7vAZrWZD4
 aL/GzW3GsZrmC0izUDS41cusKIvRKWGNoGg+v2VewoU81+3QDPQyuZVc/GNpsvsS6wlY
 JiQSEhENY1fKipKVKxIeM5c+b12sNZ6bjcoobmdsYXwjmi+mu0SfvkLRmjrZBPnknIo/
 rmvA==
X-Gm-Message-State: AOJu0YwG4/idc0QLuML/GbkPxZI7ECiI3iq0wGkqWBN2d8lF+09TGrRo
 fXoH7r+iu2ShMmIYJSy/l7RmVchqlUjdTuntiusr+8Sp0QvktP+lAAL7HznxB9T5kmYtqmTJRNw
 ZFquhQfDoxk04iSEiv4Bh8NRLnqPTF33xcjMd9YI9yHkAehCE6O/iS+X0
X-Google-Smtp-Source: AGHT+IEfOJF5hFAzgN/69bVIIbItppKl9A53noenjmvV6J08GJv2HfKfINSQTx5HRKHeJ9+qllwSqbkN1nV3
X-Received: by 2002:a4a:5103:0:b0:5aa:4e19:39aa with SMTP id
 s3-20020a4a5103000000b005aa4e1939aamr2657295ooa.2.1713968340404; 
 Wed, 24 Apr 2024 07:19:00 -0700 (PDT)
Received: from postal.iol.unh.edu (postal.iol.unh.edu.
 [2606:4100:3880:1234::84]) by smtp-relay.gmail.com with ESMTPS id
 ay5-20020a056820150500b005a56c2df31fsm677001oob.18.2024.04.24.07.19.00
 (version=TLS1_2 cipher=ECDHE-ECDSA-AES128-GCM-SHA256 bits=128/128);
 Wed, 24 Apr 2024 07:19:00 -0700 (PDT)
X-Relaying-Domain: iol.unh.edu
Date: Wed, 24 Apr 2024 07:19:00 -0700 (PDT)
Message-ID: <662914d4.050a0220.75845.bbd2SMTPIN_ADDED_MISSING@mx.google.com>
Received: from [172.21.0.6] (unknown [172.18.0.240])
 by postal.iol.unh.edu (Postfix) with ESMTP id D53356052514;
 Wed, 24 Apr 2024 10:18:59 -0400 (EDT)
Subject: |SUCCESS| pw139646-139667 [PATCH] [v1,22/22] net/ixgbe/base: add sup
From: dpdklab@iol.unh.edu
To: Test Report <test-report@dpdk.org>
Cc: dpdk-test-reports@iol.unh.edu
In-Reply-To: <9dc7b80e7c3542323ab1d0d22ab96a882abb7fff.1713964708.git.anatoly.burakov@intel.com>
References: <9dc7b80e7c3542323ab1d0d22ab96a882abb7fff.1713964708.git.anatoly.burakov@intel.com>
Content-Type: text/plain
X-BeenThere: test-report@dpdk.org
X-Mailman-Version: 2.1.29
Precedence: list
List-Id: automatic DPDK test reports <test-report.dpdk.org>
List-Unsubscribe: <https://mails.dpdk.org/options/test-report>,
 <mailto:test-report-request@dpdk.org?subject=unsubscribe>
List-Archive: <http://mails.dpdk.org/archives/test-report/>
List-Post: <mailto:test-report@dpdk.org>
List-Help: <mailto:test-report-request@dpdk.org?subject=help>
List-Subscribe: <https://mails.dpdk.org/listinfo/test-report>,
 <mailto:test-report-request@dpdk.org?subject=subscribe>
Errors-To: test-report-bounces@dpdk.org

Test-Label: iol-unit-arm64-testing
Test-Status: SUCCESS
http://dpdk.org/patch/139667

_Testing PASS_

Submitter: Anatoly Burakov <anatoly.burakov@intel.com>
Date: Wednesday, April 24 2024 13:21:56 
DPDK git baseline: Repo:dpdk
  Branch: master
  CommitID:2ac57ed414af92f0c30a799e1824fd47f86a94b0

139646-139667 --> testing pass

Test environment and result as below:

+--------------------------+---------------------------+------------------------------+----------------+
|       Environment        | cryptodev_sw_zuc_autotest | cryptodev_sw_snow3g_autotest | dpdk_unit_test |
+==========================+===========================+==============================+================+
| Debian 12 (arm)          | PASS                      | PASS                         | PASS           |
+--------------------------+---------------------------+------------------------------+----------------+
| CentOS Stream 9 (ARM)    | SKIPPED                   | SKIPPED                      | PASS           |
+--------------------------+---------------------------+------------------------------+----------------+
| Debian 11 (Buster) (ARM) | SKIPPED                   | SKIPPED                      | PASS           |
+--------------------------+---------------------------+------------------------------+----------------+
| Fedora 37 (ARM)          | SKIPPED                   | SKIPPED                      | PASS           |
+--------------------------+---------------------------+------------------------------+----------------+
| Fedora 38 (ARM)          | SKIPPED                   | SKIPPED                      | PASS           |
+--------------------------+---------------------------+------------------------------+----------------+
| Ubuntu 20.04 (ARM)       | SKIPPED                   | SKIPPED                      | PASS           |
+--------------------------+---------------------------+------------------------------+----------------+
| Fedora 39 (ARM)          | SKIPPED                   | SKIPPED                      | PASS           |
+--------------------------+---------------------------+------------------------------+----------------+


Debian 12 (arm)
	Kernel: Container Host Kernel
	Compiler: gcc 12.2.0

CentOS Stream 9 (ARM)
	Kernel: Container Host Kernel
	Compiler: gcc 11.4.1

Debian 11 (Buster) (ARM)
	Kernel: Container Host Kernel
	Compiler: gcc 10.2.1

Fedora 37 (ARM)
	Kernel: Depends on container host
	Compiler: gcc 12.3.1

Fedora 38 (ARM)
	Kernel: Depends on container host
	Compiler: gcc 13.2.1

Ubuntu 20.04 (ARM)
	Kernel: Container Host Kernel
	Compiler: gcc 9.4.0

Fedora 39 (ARM)
	Kernel: Depends on container host
	Compiler: gcc 13.2.1

To view detailed results, visit:
https://lab.dpdk.org/results/dashboard/patchsets/29849/

UNH-IOL DPDK Community Lab

To manage your email subscriptions, visit: 
https://lab.dpdk.org/results/dashboard/preferences/subscriptions/