From mboxrd@z Thu Jan  1 00:00:00 1970
Return-Path: <test-report-bounces@dpdk.org>
Received: from mails.dpdk.org (mails.dpdk.org [217.70.189.124])
	by inbox.dpdk.org (Postfix) with ESMTP id 5DE0E43EF7
	for <public@inbox.dpdk.org>; Wed, 24 Apr 2024 16:19:24 +0200 (CEST)
Received: from mails.dpdk.org (localhost [127.0.0.1])
	by mails.dpdk.org (Postfix) with ESMTP id 55C20434F9;
	Wed, 24 Apr 2024 16:19:24 +0200 (CEST)
Received: from mail-il1-f225.google.com (mail-il1-f225.google.com
 [209.85.166.225])
 by mails.dpdk.org (Postfix) with ESMTP id 761324347B
 for <test-report@dpdk.org>; Wed, 24 Apr 2024 16:19:21 +0200 (CEST)
Received: by mail-il1-f225.google.com with SMTP id
 e9e14a558f8ab-36a0bca01e2so27437015ab.3
 for <test-report@dpdk.org>; Wed, 24 Apr 2024 07:19:21 -0700 (PDT)
DKIM-Signature: v=1; a=rsa-sha256; c=relaxed/relaxed;
 d=iol.unh.edu; s=unh-iol; t=1713968361; x=1714573161; darn=dpdk.org;
 h=references:in-reply-to:cc:to:from:subject:message-id:date:from:to
 :cc:subject:date:message-id:reply-to;
 bh=flLQV0gHh8Y8Oln4V2Kb4AM5DdFhd4s69/fInfmdqf4=;
 b=cRc+V/qZ2AL6WmBDK04fMEasHcVIXcuatxUGJAPln6DL9zUGNg2TwL7wweACmV1j21
 veVqOC+wIlWu7Kuc5bXIYD1tlt0oTKlKorPZ9q6xh2fKt5gv7G+ErGEbCgDMFfRYzg+a
 W//M6qIs0EUEpCs8wteUGkj+GBWtuqCnK6blM=
X-Google-DKIM-Signature: v=1; a=rsa-sha256; c=relaxed/relaxed;
 d=1e100.net; s=20230601; t=1713968361; x=1714573161;
 h=references:in-reply-to:cc:to:from:subject:message-id:date
 :x-gm-message-state:from:to:cc:subject:date:message-id:reply-to;
 bh=flLQV0gHh8Y8Oln4V2Kb4AM5DdFhd4s69/fInfmdqf4=;
 b=qAjtb2RJiCUK8L8uMQYG1h+xTlsVwXaO44a0rdV72nWkEo2Slwlmnz3RvBVTQe8cvU
 7225nFtj/guChXCUk3Nm4srQ6NSSNPs8nKY4XlkhFH/yd5vLysuU/IgQ1zlAno2Mc2AN
 QPS1jmhmWmuf+3/EYGaiGDmnUN1FRGVEniqKcR2wGlbrESD/KROAwW1tB6s8CUjZTF5O
 2IFC6hbpaA1ehaPHAnedGeekfnwPUVmyG78hpDlMyys1cPgV0GxVKaqtyygHj5mu+Xbq
 ATcWSIXzzcTIgvlAkIhHIHnEe5YpQdbxFhGUCo5LjcfuVkty+S7NalIIHbtWf/wg2V+o
 DS2Q==
X-Gm-Message-State: AOJu0Yx9DWR8m9jXqc32l+HfOfS6yFXVF/kK3MooSzooQoMhxFYKAyVL
 AL2rUDg+u2/DBwjpkW4BupwyFMh0rd2HyTjQi1mT3rgOf//353yZx7sgy9UYvV/A++e3RXgo1Gz
 TNYHOzHG/ti0lYGDn8naeleu9o1YPRB1OJCzUAq3e
X-Google-Smtp-Source: AGHT+IHIIHva8Xa2Rdhf2vEu4NxHpwEUMQDRqZLvVSHg1A2N4Id85Rnix5F7VTddCAcQJ998+hZGprORE6Yr
X-Received: by 2002:a92:d707:0:b0:36c:2976:3026 with SMTP id
 m7-20020a92d707000000b0036c29763026mr97163iln.5.1713968360896; 
 Wed, 24 Apr 2024 07:19:20 -0700 (PDT)
Received: from postal.iol.unh.edu (postal.iol.unh.edu. [132.177.123.84])
 by smtp-relay.gmail.com with ESMTPS id
 iu25-20020a056638861900b00485654a3f45sm436705jab.13.2024.04.24.07.19.20
 (version=TLS1_2 cipher=ECDHE-ECDSA-AES128-GCM-SHA256 bits=128/128);
 Wed, 24 Apr 2024 07:19:20 -0700 (PDT)
X-Relaying-Domain: iol.unh.edu
Date: Wed, 24 Apr 2024 07:19:20 -0700 (PDT)
Message-ID: <662914e8.050a0220.63d2e.0d13SMTPIN_ADDED_MISSING@mx.google.com>
Received: from [172.21.0.6] (unknown [172.18.0.240])
 by postal.iol.unh.edu (Postfix) with ESMTP id 6B7F56052514;
 Wed, 24 Apr 2024 10:19:20 -0400 (EDT)
Subject: |SUCCESS| pw139646-139667 [PATCH] [v1,22/22] net/ixgbe/base: add sup
From: dpdklab@iol.unh.edu
To: Test Report <test-report@dpdk.org>
Cc: dpdk-test-reports@iol.unh.edu
In-Reply-To: <9dc7b80e7c3542323ab1d0d22ab96a882abb7fff.1713964708.git.anatoly.burakov@intel.com>
References: <9dc7b80e7c3542323ab1d0d22ab96a882abb7fff.1713964708.git.anatoly.burakov@intel.com>
Content-Type: text/plain
X-BeenThere: test-report@dpdk.org
X-Mailman-Version: 2.1.29
Precedence: list
List-Id: automatic DPDK test reports <test-report.dpdk.org>
List-Unsubscribe: <https://mails.dpdk.org/options/test-report>,
 <mailto:test-report-request@dpdk.org?subject=unsubscribe>
List-Archive: <http://mails.dpdk.org/archives/test-report/>
List-Post: <mailto:test-report@dpdk.org>
List-Help: <mailto:test-report-request@dpdk.org?subject=help>
List-Subscribe: <https://mails.dpdk.org/listinfo/test-report>,
 <mailto:test-report-request@dpdk.org?subject=subscribe>
Errors-To: test-report-bounces@dpdk.org

Test-Label: iol-abi-testing
Test-Status: SUCCESS
http://dpdk.org/patch/139667

_Testing PASS_

Submitter: Anatoly Burakov <anatoly.burakov@intel.com>
Date: Wednesday, April 24 2024 13:21:56 
DPDK git baseline: Repo:dpdk
  Branch: master
  CommitID:2ac57ed414af92f0c30a799e1824fd47f86a94b0

139646-139667 --> testing pass

Test environment and result as below:

+------------------+----------+
|   Environment    | abi_test |
+==================+==========+
| Debian Bullseye  | PASS     |
+------------------+----------+
| Fedora 38        | PASS     |
+------------------+----------+
| openSUSE Leap 15 | PASS     |
+------------------+----------+
| Fedora 39        | PASS     |
+------------------+----------+


Debian Bullseye
	Kernel: 5.4.0-167-generic
	Compiler: gcc 10.2.1-6

Fedora 38
	Kernel: Depends on container host
	Compiler: gcc 13.2.1

openSUSE Leap 15
	Kernel: 5.4.0-167-generic
	Compiler: gcc 7.5.0

Fedora 39
	Kernel: Depends on container host
	Compiler: clang 17.0.6

To view detailed results, visit:
https://lab.dpdk.org/results/dashboard/patchsets/29849/

UNH-IOL DPDK Community Lab

To manage your email subscriptions, visit: 
https://lab.dpdk.org/results/dashboard/preferences/subscriptions/