From mboxrd@z Thu Jan  1 00:00:00 1970
Return-Path: <test-report-bounces@dpdk.org>
Received: from mails.dpdk.org (mails.dpdk.org [217.70.189.124])
	by inbox.dpdk.org (Postfix) with ESMTP id E94D943EF7
	for <public@inbox.dpdk.org>; Wed, 24 Apr 2024 16:22:06 +0200 (CEST)
Received: from mails.dpdk.org (localhost [127.0.0.1])
	by mails.dpdk.org (Postfix) with ESMTP id E3BF643507;
	Wed, 24 Apr 2024 16:22:06 +0200 (CEST)
Received: from mail-yw1-f227.google.com (mail-yw1-f227.google.com
 [209.85.128.227])
 by mails.dpdk.org (Postfix) with ESMTP id A388E434F9
 for <test-report@dpdk.org>; Wed, 24 Apr 2024 16:22:05 +0200 (CEST)
Received: by mail-yw1-f227.google.com with SMTP id
 00721157ae682-61587aa9f4cso76381637b3.3
 for <test-report@dpdk.org>; Wed, 24 Apr 2024 07:22:05 -0700 (PDT)
DKIM-Signature: v=1; a=rsa-sha256; c=relaxed/relaxed;
 d=iol.unh.edu; s=unh-iol; t=1713968525; x=1714573325; darn=dpdk.org;
 h=references:in-reply-to:cc:to:from:subject:message-id:date:from:to
 :cc:subject:date:message-id:reply-to;
 bh=YA7ZEWNJ83QLvHu3CgAs7n/v3BnpcgElS99HsA3IRQ8=;
 b=UGYl1nG9dx70HU/GhiiwvvgoiewIPN6+GXATkszppCir2LE+j/pxWuEqEorOmvI/Ii
 ygyamUDrRRfx1pBWAcch/wJ5BuJlJ5ghOK2qA/OPr98eT9us1G9BuLPpG+ZksxLXGFRD
 GhteWv00eGnCpNEiLujPgmd6D67c6GWu5wQ4c=
X-Google-DKIM-Signature: v=1; a=rsa-sha256; c=relaxed/relaxed;
 d=1e100.net; s=20230601; t=1713968525; x=1714573325;
 h=references:in-reply-to:cc:to:from:subject:message-id:date
 :x-gm-message-state:from:to:cc:subject:date:message-id:reply-to;
 bh=YA7ZEWNJ83QLvHu3CgAs7n/v3BnpcgElS99HsA3IRQ8=;
 b=URfJKCL36mtlxjR6tI9SFACWrFbjwJwbocuk7iYGFlFy9ZimGaWjxFA6qMNg4FCZB9
 fxX4lROCSrpnr2RylwHteHYug+MrBWaCBXSUjvqavPiugx5ZNyckFO+c9VIYn479BflI
 tl7WhGDtYBgUJwLxgqeYvCZnzMf4+QIEshVsvgdDHuwzHydiHBl0j/8NsTrz2gjbu86b
 DCqjO/954T0w0tQg4tti03/RUnPKLcf9JmTL2oBEfGa5iNPO5fV4RU55kXLzKE/Isf4T
 Zwvyi8KWYbYgGfcGAfWTligslHPVgKlBM4Bz6zFqUTnooYV1j2Z+t2f0BsANzFGUTAv1
 ohuw==
X-Gm-Message-State: AOJu0YwPGKDwXYMHcxAv4r4IMli2daYc3vEpibaGmdqcnfCsg6NA3dmM
 yCiCg8rfflXflPMPsj45qTLYKa4VaPlZ6bW6jYfEqj19u64yBSWYQ1BXMeIB17rw5ASmDsfOuS4
 0CrF//0++jfgOo9XUWLXeTQrzKI2UCeXudwwd4pWkOGOciiB/0trKXT9d
X-Google-Smtp-Source: AGHT+IH+dPYQlFOtgcfVuGnGVv4O7afJnDm3OyNwhIJbafXPyEDoBY2F09BMunIqyC401Ytl11dj4HOE6Bd2
X-Received: by 2002:a05:690c:ed3:b0:61a:e41d:9036 with SMTP id
 cs19-20020a05690c0ed300b0061ae41d9036mr3003306ywb.21.1713968525007; 
 Wed, 24 Apr 2024 07:22:05 -0700 (PDT)
Received: from postal.iol.unh.edu (postal.iol.unh.edu.
 [2606:4100:3880:1234::84]) by smtp-relay.gmail.com with ESMTPS id
 x64-20020a817c43000000b00611a0d3ba27sm1086434ywc.60.2024.04.24.07.22.04
 (version=TLS1_2 cipher=ECDHE-ECDSA-AES128-GCM-SHA256 bits=128/128);
 Wed, 24 Apr 2024 07:22:04 -0700 (PDT)
X-Relaying-Domain: iol.unh.edu
Date: Wed, 24 Apr 2024 07:22:04 -0700 (PDT)
Message-ID: <6629158c.810a0220.6d9d2.a7abSMTPIN_ADDED_MISSING@mx.google.com>
Received: from [172.21.0.7] (unknown [172.18.0.240])
 by postal.iol.unh.edu (Postfix) with ESMTP id A458B6052514;
 Wed, 24 Apr 2024 10:22:04 -0400 (EDT)
Subject: |SUCCESS| pw139646-139667 [PATCH] [v1,22/22] net/ixgbe/base: add sup
From: dpdklab@iol.unh.edu
To: Test Report <test-report@dpdk.org>
Cc: dpdk-test-reports@iol.unh.edu
In-Reply-To: <9dc7b80e7c3542323ab1d0d22ab96a882abb7fff.1713964708.git.anatoly.burakov@intel.com>
References: <9dc7b80e7c3542323ab1d0d22ab96a882abb7fff.1713964708.git.anatoly.burakov@intel.com>
Content-Type: text/plain
X-BeenThere: test-report@dpdk.org
X-Mailman-Version: 2.1.29
Precedence: list
List-Id: automatic DPDK test reports <test-report.dpdk.org>
List-Unsubscribe: <https://mails.dpdk.org/options/test-report>,
 <mailto:test-report-request@dpdk.org?subject=unsubscribe>
List-Archive: <http://mails.dpdk.org/archives/test-report/>
List-Post: <mailto:test-report@dpdk.org>
List-Help: <mailto:test-report-request@dpdk.org?subject=help>
List-Subscribe: <https://mails.dpdk.org/listinfo/test-report>,
 <mailto:test-report-request@dpdk.org?subject=subscribe>
Errors-To: test-report-bounces@dpdk.org

Test-Label: iol-unit-amd64-testing
Test-Status: SUCCESS
http://dpdk.org/patch/139667

_Testing PASS_

Submitter: Anatoly Burakov <anatoly.burakov@intel.com>
Date: Wednesday, April 24 2024 13:21:56 
DPDK git baseline: Repo:dpdk
  Branch: master
  CommitID:2ac57ed414af92f0c30a799e1824fd47f86a94b0

139646-139667 --> testing pass

Test environment and result as below:

+---------------------+----------------+
|     Environment     | dpdk_unit_test |
+=====================+================+
| CentOS Stream 9     | PASS           |
+---------------------+----------------+
| CentOS Stream 8     | PASS           |
+---------------------+----------------+
| Windows Server 2019 | PASS           |
+---------------------+----------------+
| Debian Bullseye     | PASS           |
+---------------------+----------------+
| Debian 12           | PASS           |
+---------------------+----------------+
| Fedora 37           | PASS           |
+---------------------+----------------+
| Fedora 38           | PASS           |
+---------------------+----------------+


CentOS Stream 9
	Kernel: 5.4.0-167-generic
	Compiler: gcc 11.4.1 20230605

CentOS Stream 8
	Kernel: 5.4.0-167-generic
	Compiler: gcc 8.5.0 20210514

Windows Server 2019
	Kernel: 10.0.17763
	Compiler: clang 14.0 and gcc 8.1.0 (MinGW)

Debian Bullseye
	Kernel: 5.4.0-167-generic
	Compiler: gcc 10.2.1-6

Debian 12
	Kernel: Container Host Kernel
	Compiler: gcc 10.2.1

Fedora 37
	Kernel: Depends on container host system
	Compiler: gcc 12.3.1

Fedora 38
	Kernel: Depends on container host
	Compiler: gcc 13.2.1

To view detailed results, visit:
https://lab.dpdk.org/results/dashboard/patchsets/29849/

UNH-IOL DPDK Community Lab

To manage your email subscriptions, visit: 
https://lab.dpdk.org/results/dashboard/preferences/subscriptions/