From mboxrd@z Thu Jan  1 00:00:00 1970
Return-Path: <test-report-bounces@dpdk.org>
Received: from mails.dpdk.org (mails.dpdk.org [217.70.189.124])
	by inbox.dpdk.org (Postfix) with ESMTP id EA79143EF7
	for <public@inbox.dpdk.org>; Wed, 24 Apr 2024 16:36:40 +0200 (CEST)
Received: from mails.dpdk.org (localhost [127.0.0.1])
	by mails.dpdk.org (Postfix) with ESMTP id E41FE43507;
	Wed, 24 Apr 2024 16:36:40 +0200 (CEST)
Received: from mail-il1-f225.google.com (mail-il1-f225.google.com
 [209.85.166.225])
 by mails.dpdk.org (Postfix) with ESMTP id 42332434F9
 for <test-report@dpdk.org>; Wed, 24 Apr 2024 16:36:39 +0200 (CEST)
Received: by mail-il1-f225.google.com with SMTP id
 e9e14a558f8ab-36b045c17d5so3057205ab.0
 for <test-report@dpdk.org>; Wed, 24 Apr 2024 07:36:39 -0700 (PDT)
DKIM-Signature: v=1; a=rsa-sha256; c=relaxed/relaxed;
 d=iol.unh.edu; s=unh-iol; t=1713969398; x=1714574198; darn=dpdk.org;
 h=references:in-reply-to:cc:to:from:subject:message-id:date:from:to
 :cc:subject:date:message-id:reply-to;
 bh=1sPLmMipdkbnKBk0EWTM5zG+KGRsZVaJMG/TvXxR6JQ=;
 b=ZTQTJMQSHmQAVqIMY40RZ79M3rOMD6gMpJv+uYdQomU61wJnQ3KWfx6pHGypYkzj+f
 rFB6KfvKzULzCBHw3t5XjNFMyZqUqz3CfqhDxqh0VgXyBcsKNg361DD6qMuD3DzVN/a2
 mw8ZyE1ukqaUxTeaOBIEC1JweMJpuhrdf/fd4=
X-Google-DKIM-Signature: v=1; a=rsa-sha256; c=relaxed/relaxed;
 d=1e100.net; s=20230601; t=1713969398; x=1714574198;
 h=references:in-reply-to:cc:to:from:subject:message-id:date
 :x-gm-message-state:from:to:cc:subject:date:message-id:reply-to;
 bh=1sPLmMipdkbnKBk0EWTM5zG+KGRsZVaJMG/TvXxR6JQ=;
 b=kiosQg9l5FvuF1PlAAq9O3D+QgEp+5ahMlSl3KN5OQfb/7ijIUiSwQ79An/Wt5qscs
 k2PrBpA0CpM5GGXpC2dYE209Y5K6rT5me6175n/bAzz2+a6dCmBBUN09SnVJ5S4907PB
 pFtVkm5YEOZ2boEc1BSEZRaEY+8Fc+iGo2cVbPB3ylX7/C2ysz3p/+gB4eWGIs3TJVyw
 9NXqM4DSAvi6IEeVZ04kvdNk4WqCZOLlap2/75Wd3Laa7hmO5rMgRNpZSmtKAn2PS1Nv
 ++s4MVNmGeN8jaIkUUI+UfZ26qyQfNlDaeVCCfKJiWQxtHXf1wfhXM+oSDBlMDRQr5VG
 uexg==
X-Gm-Message-State: AOJu0YzibzhGWXa+3XIZ7kYaW50qZjOoUCGkE8rgVdZFae05zivt8Qxr
 zYligQpzHv/W+8pY5k52OgpX180jfqcHm8ICvoySERierTi8dCLml88z1qk3y9VYdhPkLaPeFuT
 y2JXTHNaAYxhoLf1xPE/E+ww0njinBptQukr/rqyB
X-Google-Smtp-Source: AGHT+IGKnEFwrhWwyZJf0f8hDvaY94CNzJFE50/uErVhDtICTPKsYEmlfkMZxd5IoQh+VjsVBuaATeZKrf1V
X-Received: by 2002:a05:6e02:168c:b0:36a:3b9a:3f8e with SMTP id
 f12-20020a056e02168c00b0036a3b9a3f8emr5553691ila.12.1713969398684; 
 Wed, 24 Apr 2024 07:36:38 -0700 (PDT)
Received: from postal.iol.unh.edu (postal.iol.unh.edu. [132.177.123.84])
 by smtp-relay.gmail.com with ESMTPS id
 o15-20020a056638268f00b00484d86860a1sm825834jat.43.2024.04.24.07.36.38
 (version=TLS1_2 cipher=ECDHE-ECDSA-AES128-GCM-SHA256 bits=128/128);
 Wed, 24 Apr 2024 07:36:38 -0700 (PDT)
X-Relaying-Domain: iol.unh.edu
Date: Wed, 24 Apr 2024 07:36:38 -0700 (PDT)
Message-ID: <662918f6.050a0220.733c0.9fe5SMTPIN_ADDED_MISSING@mx.google.com>
Received: from [172.21.0.8] (unknown [172.18.0.240])
 by postal.iol.unh.edu (Postfix) with ESMTP id 33849604D420;
 Wed, 24 Apr 2024 10:36:38 -0400 (EDT)
Subject: |SUCCESS| pw139646-139667 [PATCH] [v1,22/22] net/ixgbe/base: add sup
From: dpdklab@iol.unh.edu
To: Test Report <test-report@dpdk.org>
Cc: dpdk-test-reports@iol.unh.edu
In-Reply-To: <9dc7b80e7c3542323ab1d0d22ab96a882abb7fff.1713964708.git.anatoly.burakov@intel.com>
References: <9dc7b80e7c3542323ab1d0d22ab96a882abb7fff.1713964708.git.anatoly.burakov@intel.com>
Content-Type: text/plain
X-BeenThere: test-report@dpdk.org
X-Mailman-Version: 2.1.29
Precedence: list
List-Id: automatic DPDK test reports <test-report.dpdk.org>
List-Unsubscribe: <https://mails.dpdk.org/options/test-report>,
 <mailto:test-report-request@dpdk.org?subject=unsubscribe>
List-Archive: <http://mails.dpdk.org/archives/test-report/>
List-Post: <mailto:test-report@dpdk.org>
List-Help: <mailto:test-report-request@dpdk.org?subject=help>
List-Subscribe: <https://mails.dpdk.org/listinfo/test-report>,
 <mailto:test-report-request@dpdk.org?subject=subscribe>
Errors-To: test-report-bounces@dpdk.org

Test-Label: iol-abi-testing
Test-Status: SUCCESS
http://dpdk.org/patch/139667

_Testing PASS_

Submitter: Anatoly Burakov <anatoly.burakov@intel.com>
Date: Wednesday, April 24 2024 13:21:56 
DPDK git baseline: Repo:dpdk
  Branch: master
  CommitID:2ac57ed414af92f0c30a799e1824fd47f86a94b0

139646-139667 --> testing pass

Test environment and result as below:

+------------------+----------+
|   Environment    | abi_test |
+==================+==========+
| Debian Bullseye  | PASS     |
+------------------+----------+
| Fedora 38        | PASS     |
+------------------+----------+
| openSUSE Leap 15 | PASS     |
+------------------+----------+
| Fedora 39        | PASS     |
+------------------+----------+
| Debian 12        | PASS     |
+------------------+----------+
| Fedora 37        | PASS     |
+------------------+----------+
| CentOS Stream 8  | PASS     |
+------------------+----------+
| RHEL8            | PASS     |
+------------------+----------+
| CentOS Stream 9  | PASS     |
+------------------+----------+
| Ubuntu 22.04     | PASS     |
+------------------+----------+


Debian Bullseye
	Kernel: 5.4.0-167-generic
	Compiler: gcc 10.2.1-6

Fedora 38
	Kernel: Depends on container host
	Compiler: gcc 13.2.1

openSUSE Leap 15
	Kernel: 5.4.0-167-generic
	Compiler: gcc 7.5.0

Fedora 39
	Kernel: Depends on container host
	Compiler: clang 17.0.6

Debian 12
	Kernel: Container Host Kernel
	Compiler: gcc 10.2.1

Fedora 37
	Kernel: Depends on container host system
	Compiler: gcc 12.3.1

CentOS Stream 8
	Kernel: 5.4.0-167-generic
	Compiler: gcc 8.5.0 20210514

RHEL8
	Kernel: 5.4.0-167-generic
	Compiler: gcc 8.5.0 20210514 (Red Hat 8.5.0-20)

CentOS Stream 9
	Kernel: 5.4.0-167-generic
	Compiler: gcc 11.4.1 20230605

Ubuntu 22.04
	Kernel: 5.4.0-167-generic
	Compiler: gcc 11.4.0

To view detailed results, visit:
https://lab.dpdk.org/results/dashboard/patchsets/29849/

UNH-IOL DPDK Community Lab

To manage your email subscriptions, visit: 
https://lab.dpdk.org/results/dashboard/preferences/subscriptions/