From mboxrd@z Thu Jan  1 00:00:00 1970
Return-Path: <test-report-bounces@dpdk.org>
Received: from mails.dpdk.org (mails.dpdk.org [217.70.189.124])
	by inbox.dpdk.org (Postfix) with ESMTP id B458243EF7
	for <public@inbox.dpdk.org>; Wed, 24 Apr 2024 16:39:26 +0200 (CEST)
Received: from mails.dpdk.org (localhost [127.0.0.1])
	by mails.dpdk.org (Postfix) with ESMTP id AF6F843507;
	Wed, 24 Apr 2024 16:39:26 +0200 (CEST)
Received: from mail-il1-f227.google.com (mail-il1-f227.google.com
 [209.85.166.227])
 by mails.dpdk.org (Postfix) with ESMTP id 0357D434F9
 for <test-report@dpdk.org>; Wed, 24 Apr 2024 16:39:26 +0200 (CEST)
Received: by mail-il1-f227.google.com with SMTP id
 e9e14a558f8ab-36c1a6cab24so9019815ab.1
 for <test-report@dpdk.org>; Wed, 24 Apr 2024 07:39:25 -0700 (PDT)
DKIM-Signature: v=1; a=rsa-sha256; c=relaxed/relaxed;
 d=iol.unh.edu; s=unh-iol; t=1713969565; x=1714574365; darn=dpdk.org;
 h=references:in-reply-to:cc:to:from:subject:message-id:date:from:to
 :cc:subject:date:message-id:reply-to;
 bh=BLPifpffODo4NfgY+HKOqLYHSTPgBEx16Csusc3shrA=;
 b=L6pWCaF1qfGZXcstZTYHtMr1TV4ODX/oEBiXK0y6MMdt0HhbtmPMxcjLTFzw4+6DhV
 +V2AdcJJRCldU6UrPdOub8SbQB8AU59YjfOiv8vOkI5diS2oVUIYmqD/bofdXY2l41YZ
 5u1/j1cKggPu5EJym98N9f/fzaAJJu14FoLqw=
X-Google-DKIM-Signature: v=1; a=rsa-sha256; c=relaxed/relaxed;
 d=1e100.net; s=20230601; t=1713969565; x=1714574365;
 h=references:in-reply-to:cc:to:from:subject:message-id:date
 :x-gm-message-state:from:to:cc:subject:date:message-id:reply-to;
 bh=BLPifpffODo4NfgY+HKOqLYHSTPgBEx16Csusc3shrA=;
 b=kN73a3kIsQbL1SOKXLRKm76Fjs/aO6wvfPOwkQ5mhKLq3MxhnVyqnHUKPkFX9gGOV1
 eKfcepi4jenBq1jOFwgTvZ69dOsU48IqmVy2ZhIIzDSxSpLcXZtirshBl561xoCk0kL6
 ysJODni8vOSKrWwcD3vIbaNZSOawKt6U18b4887Fe+SzmIWOFvZQH7+7Fjbfourvjk5L
 D62PgWWrtYYalercIvsHpcMme2tNktPX4S/t5HiXSerZHTi6qyaOtzedFCU7LGBud+ZB
 faxiL98RqeL0tfPFVB/I5vNTdENgtZWSNH6jLahG7g4FtIFofY+dukkD+mEF8jnX0dpl
 Lvgg==
X-Gm-Message-State: AOJu0Yzy9IscxjiMP+GaCzoB5yDj2A+MA+db7BNmA5hBtpHLboQAMpPi
 eKpdbbwyK91zGhXdfjT0yC7htDHr+E4edk9K9yOeVuyPXWCJw3GF5FNbHXmePOAs4Dg3Wibvl3R
 2xLUugcNao8/Cg77hlLGNZGxH+EkYqUz9a7XtPqLb
X-Google-Smtp-Source: AGHT+IE4oDl818nOv4Kf8FnkXujHXr2GdI6QY6tOSuY/3cnWReT3KKWvh8/0x2z4V6v/t514LyVJ4adIT608
X-Received: by 2002:a05:6e02:170f:b0:36c:f1d:9b29 with SMTP id
 u15-20020a056e02170f00b0036c0f1d9b29mr103795ill.19.1713969565395; 
 Wed, 24 Apr 2024 07:39:25 -0700 (PDT)
Received: from postal.iol.unh.edu (postal.iol.unh.edu. [132.177.123.84])
 by smtp-relay.gmail.com with ESMTPS id
 a4-20020a02ac04000000b00482ae0f641asm1053286jao.39.2024.04.24.07.39.25
 (version=TLS1_2 cipher=ECDHE-ECDSA-AES128-GCM-SHA256 bits=128/128);
 Wed, 24 Apr 2024 07:39:25 -0700 (PDT)
X-Relaying-Domain: iol.unh.edu
Date: Wed, 24 Apr 2024 07:39:25 -0700 (PDT)
Message-ID: <6629199d.020a0220.74b4c.97b5SMTPIN_ADDED_MISSING@mx.google.com>
Received: from [172.21.0.6] (unknown [172.18.0.240])
 by postal.iol.unh.edu (Postfix) with ESMTP id E4C72604D420;
 Wed, 24 Apr 2024 10:39:24 -0400 (EDT)
Subject: |SUCCESS| pw139645 [PATCH] event: fix warning from useless snprintf
From: dpdklab@iol.unh.edu
To: Test Report <test-report@dpdk.org>
Cc: dpdk-test-reports@iol.unh.edu
In-Reply-To: <20240424034541.134335-1-stephen@networkplumber.org>
References: <20240424034541.134335-1-stephen@networkplumber.org>
Content-Type: text/plain
X-BeenThere: test-report@dpdk.org
X-Mailman-Version: 2.1.29
Precedence: list
List-Id: automatic DPDK test reports <test-report.dpdk.org>
List-Unsubscribe: <https://mails.dpdk.org/options/test-report>,
 <mailto:test-report-request@dpdk.org?subject=unsubscribe>
List-Archive: <http://mails.dpdk.org/archives/test-report/>
List-Post: <mailto:test-report@dpdk.org>
List-Help: <mailto:test-report-request@dpdk.org?subject=help>
List-Subscribe: <https://mails.dpdk.org/listinfo/test-report>,
 <mailto:test-report-request@dpdk.org?subject=subscribe>
Errors-To: test-report-bounces@dpdk.org

Test-Label: iol-compile-amd64-testing
Test-Status: SUCCESS
http://dpdk.org/patch/139645

_Testing PASS_

Submitter: Stephen Hemminger <stephen@networkplumber.org>
Date: Wednesday, April 24 2024 03:45:40 
DPDK git baseline: Repo:dpdk
  Branch: master
  CommitID:7e06c0de1952d3109a5b0c4779d7e7d8059c9d78

139645 --> testing pass

Test environment and result as below:

+---------------------+--------------------+----------------------+
|     Environment     | dpdk_meson_compile | dpdk_mingw64_compile |
+=====================+====================+======================+
| FreeBSD 13.3        | PASS               | SKIPPED              |
+---------------------+--------------------+----------------------+
| Windows Server 2022 | PASS               | SKIPPED              |
+---------------------+--------------------+----------------------+
| Windows Server 2019 | SKIPPED            | PASS                 |
+---------------------+--------------------+----------------------+


FreeBSD 13.3
	Kernel: 13.3-RELEASE-p1
	Compiler: clang 17.0.6

Windows Server 2022
	Kernel: 10.0.20348.2031
	Compiler: clang 15.0.7, gcc 8.1.0 (MinGW), and MSVC VS 17.9

Windows Server 2019
	Kernel: 10.0.17763
	Compiler: clang 14.0 and gcc 8.1.0 (MinGW)

To view detailed results, visit:
https://lab.dpdk.org/results/dashboard/patchsets/29848/

UNH-IOL DPDK Community Lab

To manage your email subscriptions, visit: 
https://lab.dpdk.org/results/dashboard/preferences/subscriptions/