From mboxrd@z Thu Jan  1 00:00:00 1970
Return-Path: <test-report-bounces@dpdk.org>
Received: from mails.dpdk.org (mails.dpdk.org [217.70.189.124])
	by inbox.dpdk.org (Postfix) with ESMTP id 93DD343EF7
	for <public@inbox.dpdk.org>; Wed, 24 Apr 2024 16:43:42 +0200 (CEST)
Received: from mails.dpdk.org (localhost [127.0.0.1])
	by mails.dpdk.org (Postfix) with ESMTP id 8F308402D1;
	Wed, 24 Apr 2024 16:43:42 +0200 (CEST)
Received: from mail-yw1-f227.google.com (mail-yw1-f227.google.com
 [209.85.128.227])
 by mails.dpdk.org (Postfix) with ESMTP id A11114025C
 for <test-report@dpdk.org>; Wed, 24 Apr 2024 16:43:41 +0200 (CEST)
Received: by mail-yw1-f227.google.com with SMTP id
 00721157ae682-61500da846fso47270287b3.1
 for <test-report@dpdk.org>; Wed, 24 Apr 2024 07:43:41 -0700 (PDT)
DKIM-Signature: v=1; a=rsa-sha256; c=relaxed/relaxed;
 d=iol.unh.edu; s=unh-iol; t=1713969821; x=1714574621; darn=dpdk.org;
 h=references:in-reply-to:cc:to:from:subject:message-id:date:from:to
 :cc:subject:date:message-id:reply-to;
 bh=k+51umqsHPfAWKlcNYr16q1169PVDM8F14TYbvnQAss=;
 b=XaVFJFJwI7PP9qNVHEEOSfwJv+SUJhpqMq5egncIMVhq0E4sRA52BSHvvaAnSZKUEs
 1aMJ+qIfZpmOvNYs/bgPd6bEaVevLgrvcC1HZ0uVcCqoYQWjul7Vz6LvxvAjRA/1B4br
 I0JzCkijg2Fpn4CvW4kqVe4+aAhj01sVLoobE=
X-Google-DKIM-Signature: v=1; a=rsa-sha256; c=relaxed/relaxed;
 d=1e100.net; s=20230601; t=1713969821; x=1714574621;
 h=references:in-reply-to:cc:to:from:subject:message-id:date
 :x-gm-message-state:from:to:cc:subject:date:message-id:reply-to;
 bh=k+51umqsHPfAWKlcNYr16q1169PVDM8F14TYbvnQAss=;
 b=BnvJoannSR34ZHFdsyg9Bo/4Iz6JT0okOt/dDJqsblFVms3eTi5k67I01vihjMaCl0
 toLe7F+mtSsnEnyAXlowdoQlFeZ83QHWJ30ODJaLJQ1yy16oYPHtY9OHApp0d0Razwd0
 5IjpOK+uvQRGgAViW5lwnXU4XKt7yF9+J4hXsDtGHddSvPPz29DsuKX2+Xot9NUBkT/p
 CkvzZkQyt7nsJKYdg2EQlZJJa2grtE6vO3Dywi8cM+UVVEbu1DQKGBXjIORaF8yacmAV
 dtbo/iRS169KwsuHvH6uhJM2YKdFo5NiYyyCJpb4vJdP8+1Xn4w1rkUeHzEYajv+D2PZ
 VKvg==
X-Gm-Message-State: AOJu0Yyg56OBfNfxwRQN4y2iwWixdhOKBNJElY04n50JxytTrL41cJff
 ALuvc0/LdW2xwHKhEkkYcG5y7UxuCpvFXeGYiJYe9oOY9TYQia1rsT7AQPjz7nZ+Dav6HhZRBim
 uAeB/pi8nVP0Xe56498lTpn15qlzqpoXMDse6kCAbw6xqfbmvO1hfFzLa
X-Google-Smtp-Source: AGHT+IEip5CQol3wt3jCVyHzcSoMMs0fyjqAU6OiG5by2jWmwLFKJoBfpWhPEhXVqB8UL9b9hbzJ7j+FQ4Gz
X-Received: by 2002:a25:add1:0:b0:dcd:59e4:620c with SMTP id
 d17-20020a25add1000000b00dcd59e4620cmr2873524ybe.49.1713969821020; 
 Wed, 24 Apr 2024 07:43:41 -0700 (PDT)
Received: from postal.iol.unh.edu (postal.iol.unh.edu.
 [2606:4100:3880:1234::84]) by smtp-relay.gmail.com with ESMTPS id
 ca13-20020a056902178d00b00dcde0ca8735sm692168ybb.10.2024.04.24.07.43.40
 (version=TLS1_2 cipher=ECDHE-ECDSA-AES128-GCM-SHA256 bits=128/128);
 Wed, 24 Apr 2024 07:43:41 -0700 (PDT)
X-Relaying-Domain: iol.unh.edu
Date: Wed, 24 Apr 2024 07:43:41 -0700 (PDT)
Message-ID: <66291a9d.050a0220.c1c9d.0a5aSMTPIN_ADDED_MISSING@mx.google.com>
Received: from [172.21.0.8] (unknown [172.18.0.240])
 by postal.iol.unh.edu (Postfix) with ESMTP id A02E0604D420;
 Wed, 24 Apr 2024 10:43:40 -0400 (EDT)
Subject: |SUCCESS| pw139645 [PATCH] event: fix warning from useless snprintf
From: dpdklab@iol.unh.edu
To: Test Report <test-report@dpdk.org>
Cc: dpdk-test-reports@iol.unh.edu
In-Reply-To: <20240424034541.134335-1-stephen@networkplumber.org>
References: <20240424034541.134335-1-stephen@networkplumber.org>
Content-Type: text/plain
X-BeenThere: test-report@dpdk.org
X-Mailman-Version: 2.1.29
Precedence: list
List-Id: automatic DPDK test reports <test-report.dpdk.org>
List-Unsubscribe: <https://mails.dpdk.org/options/test-report>,
 <mailto:test-report-request@dpdk.org?subject=unsubscribe>
List-Archive: <http://mails.dpdk.org/archives/test-report/>
List-Post: <mailto:test-report@dpdk.org>
List-Help: <mailto:test-report-request@dpdk.org?subject=help>
List-Subscribe: <https://mails.dpdk.org/listinfo/test-report>,
 <mailto:test-report-request@dpdk.org?subject=subscribe>
Errors-To: test-report-bounces@dpdk.org

Test-Label: iol-compile-amd64-testing
Test-Status: SUCCESS
http://dpdk.org/patch/139645

_Testing PASS_

Submitter: Stephen Hemminger <stephen@networkplumber.org>
Date: Wednesday, April 24 2024 03:45:40 
DPDK git baseline: Repo:dpdk
  Branch: master
  CommitID:7e06c0de1952d3109a5b0c4779d7e7d8059c9d78

139645 --> testing pass

Test environment and result as below:

+---------------------+--------------------+----------------------+
|     Environment     | dpdk_meson_compile | dpdk_mingw64_compile |
+=====================+====================+======================+
| FreeBSD 13.3        | PASS               | SKIPPED              |
+---------------------+--------------------+----------------------+
| Windows Server 2022 | PASS               | SKIPPED              |
+---------------------+--------------------+----------------------+
| Windows Server 2019 | PASS               | PASS                 |
+---------------------+--------------------+----------------------+


FreeBSD 13.3
	Kernel: 13.3-RELEASE-p1
	Compiler: clang 17.0.6

Windows Server 2022
	Kernel: 10.0.20348.2031
	Compiler: clang 15.0.7, gcc 8.1.0 (MinGW), and MSVC VS 17.9

Windows Server 2019
	Kernel: 10.0.17763
	Compiler: clang 14.0 and gcc 8.1.0 (MinGW)

To view detailed results, visit:
https://lab.dpdk.org/results/dashboard/patchsets/29848/

UNH-IOL DPDK Community Lab

To manage your email subscriptions, visit: 
https://lab.dpdk.org/results/dashboard/preferences/subscriptions/