From mboxrd@z Thu Jan  1 00:00:00 1970
Return-Path: <test-report-bounces@dpdk.org>
Received: from mails.dpdk.org (mails.dpdk.org [217.70.189.124])
	by inbox.dpdk.org (Postfix) with ESMTP id BC63E43EF7
	for <public@inbox.dpdk.org>; Wed, 24 Apr 2024 16:52:15 +0200 (CEST)
Received: from mails.dpdk.org (localhost [127.0.0.1])
	by mails.dpdk.org (Postfix) with ESMTP id 9DC21402D1;
	Wed, 24 Apr 2024 16:52:15 +0200 (CEST)
Received: from mail-yw1-f227.google.com (mail-yw1-f227.google.com
 [209.85.128.227])
 by mails.dpdk.org (Postfix) with ESMTP id 2EE304025C
 for <test-report@dpdk.org>; Wed, 24 Apr 2024 16:52:14 +0200 (CEST)
Received: by mail-yw1-f227.google.com with SMTP id
 00721157ae682-61ac183ee82so8926907b3.1
 for <test-report@dpdk.org>; Wed, 24 Apr 2024 07:52:14 -0700 (PDT)
DKIM-Signature: v=1; a=rsa-sha256; c=relaxed/relaxed;
 d=iol.unh.edu; s=unh-iol; t=1713970333; x=1714575133; darn=dpdk.org;
 h=references:in-reply-to:cc:to:from:subject:message-id:date:from:to
 :cc:subject:date:message-id:reply-to;
 bh=x9m0CNycNy5OG3RHq/rKJtBM8ufUiQqO/Vz74m/D6KY=;
 b=AYBtGUcGA0bI+M9kJvpgTXLYwdJANj8QFulU5WLiUhd8HzgBZpYQBHLRPfJY0sVoFc
 S9jrZxomiUlQuAPP/U2ppJPuA/WIO/W7ksGKqGQzJ9prz/YPtw+dhrgG7dolIFqdbHNw
 w1Q/r3FgDWuybzFKGkcQ3HqdUVdyVpS0J4Rlk=
X-Google-DKIM-Signature: v=1; a=rsa-sha256; c=relaxed/relaxed;
 d=1e100.net; s=20230601; t=1713970333; x=1714575133;
 h=references:in-reply-to:cc:to:from:subject:message-id:date
 :x-gm-message-state:from:to:cc:subject:date:message-id:reply-to;
 bh=x9m0CNycNy5OG3RHq/rKJtBM8ufUiQqO/Vz74m/D6KY=;
 b=YUa4xpZon4DoEx8/zpawOF8DRVYpEQV3jG0Vo7klpvXDe/7IgOoK3kf4ns9NzaWF1r
 kphAEjSGBkmJRlaKVjzkuU1gRe4SE+xc1wQs2lhEsqRLmKpPlMSx8n+4vve+nxg+XP64
 ZP224xKsns8TS7a7Hbx3i4KQk7MuUBqy7QeTJcbeiA9LVaGkC6kb4er1F843KYwfSOzz
 eKjuCTNMucwFBlWRPMJPHaFPcuyH/9Rb+1MtfwHukh0jDZMD7gpn1CAc36WlWNj0KGy7
 8vSPilR1Sh4N3DsKQVThH8VDoBzdTBf6jxv9o1QC0MUh8UzSmbceSHoJ/jBhC/qWSIf9
 NvGg==
X-Gm-Message-State: AOJu0Yw0dXuIvhaE2iWoSWZfjhoMFUVMEfezcbT4Mi8rpZE+tqezK1gJ
 vUj2gI8yxfokPrJRq5K+D1vWVQc540XGU2nuGiPQjRmTY+dAiopdPL1pBNRUayn8ZiZQ2SEcGvg
 cJdKE69cyzbLk0t4pRatpNAYHbcuPJd11yb+F/vtS
X-Google-Smtp-Source: AGHT+IHnDOUNYxm1ozaGR11/KfGXozjp1iz0cHYX3Bl8yhci42lcEhS4KgYhgLAbFxfkKn7al9dgOM1MeyCG
X-Received: by 2002:a05:690c:600b:b0:61b:138c:5357 with SMTP id
 hf11-20020a05690c600b00b0061b138c5357mr2215513ywb.19.1713970333534; 
 Wed, 24 Apr 2024 07:52:13 -0700 (PDT)
Received: from postal.iol.unh.edu (postal.iol.unh.edu. [132.177.123.84])
 by smtp-relay.gmail.com with ESMTPS id
 i79-20020a819152000000b00618878011a2sm851999ywg.21.2024.04.24.07.52.13
 (version=TLS1_2 cipher=ECDHE-ECDSA-AES128-GCM-SHA256 bits=128/128);
 Wed, 24 Apr 2024 07:52:13 -0700 (PDT)
X-Relaying-Domain: iol.unh.edu
Date: Wed, 24 Apr 2024 07:52:13 -0700 (PDT)
Message-ID: <66291c9d.810a0220.bba2d.c36fSMTPIN_ADDED_MISSING@mx.google.com>
Received: from [172.21.0.6] (unknown [172.18.0.240])
 by postal.iol.unh.edu (Postfix) with ESMTP id 27A7B604D420;
 Wed, 24 Apr 2024 10:52:13 -0400 (EDT)
Subject: |SUCCESS| pw139645 [PATCH] event: fix warning from useless snprintf
From: dpdklab@iol.unh.edu
To: Test Report <test-report@dpdk.org>
Cc: dpdk-test-reports@iol.unh.edu
In-Reply-To: <20240424034541.134335-1-stephen@networkplumber.org>
References: <20240424034541.134335-1-stephen@networkplumber.org>
Content-Type: text/plain
X-BeenThere: test-report@dpdk.org
X-Mailman-Version: 2.1.29
Precedence: list
List-Id: automatic DPDK test reports <test-report.dpdk.org>
List-Unsubscribe: <https://mails.dpdk.org/options/test-report>,
 <mailto:test-report-request@dpdk.org?subject=unsubscribe>
List-Archive: <http://mails.dpdk.org/archives/test-report/>
List-Post: <mailto:test-report@dpdk.org>
List-Help: <mailto:test-report-request@dpdk.org?subject=help>
List-Subscribe: <https://mails.dpdk.org/listinfo/test-report>,
 <mailto:test-report-request@dpdk.org?subject=subscribe>
Errors-To: test-report-bounces@dpdk.org

Test-Label: iol-unit-arm64-testing
Test-Status: SUCCESS
http://dpdk.org/patch/139645

_Testing PASS_

Submitter: Stephen Hemminger <stephen@networkplumber.org>
Date: Wednesday, April 24 2024 03:45:40 
DPDK git baseline: Repo:dpdk
  Branch: master
  CommitID:7e06c0de1952d3109a5b0c4779d7e7d8059c9d78

139645 --> testing pass

Test environment and result as below:

+--------------------------+----------------+
|       Environment        | dpdk_unit_test |
+==========================+================+
| Debian 11 (Buster) (ARM) | PASS           |
+--------------------------+----------------+
| CentOS Stream 9 (ARM)    | PASS           |
+--------------------------+----------------+
| Debian 12 (arm)          | PASS           |
+--------------------------+----------------+
| Fedora 37 (ARM)          | PASS           |
+--------------------------+----------------+
| Fedora 39 (ARM)          | PASS           |
+--------------------------+----------------+
| Fedora 38 (ARM)          | PASS           |
+--------------------------+----------------+


Debian 11 (Buster) (ARM)
	Kernel: Container Host Kernel
	Compiler: gcc 10.2.1

CentOS Stream 9 (ARM)
	Kernel: Container Host Kernel
	Compiler: gcc 11.4.1

Debian 12 (arm)
	Kernel: Container Host Kernel
	Compiler: gcc 12.2.0

Fedora 37 (ARM)
	Kernel: Depends on container host
	Compiler: gcc 12.3.1

Fedora 39 (ARM)
	Kernel: Depends on container host
	Compiler: gcc 13.2.1

Fedora 38 (ARM)
	Kernel: Depends on container host
	Compiler: gcc 13.2.1

To view detailed results, visit:
https://lab.dpdk.org/results/dashboard/patchsets/29848/

UNH-IOL DPDK Community Lab

To manage your email subscriptions, visit: 
https://lab.dpdk.org/results/dashboard/preferences/subscriptions/