From mboxrd@z Thu Jan  1 00:00:00 1970
Return-Path: <test-report-bounces@dpdk.org>
Received: from mails.dpdk.org (mails.dpdk.org [217.70.189.124])
	by inbox.dpdk.org (Postfix) with ESMTP id CB69E43EF7
	for <public@inbox.dpdk.org>; Wed, 24 Apr 2024 17:11:27 +0200 (CEST)
Received: from mails.dpdk.org (localhost [127.0.0.1])
	by mails.dpdk.org (Postfix) with ESMTP id C1887402D1;
	Wed, 24 Apr 2024 17:11:27 +0200 (CEST)
Received: from mail-oo1-f98.google.com (mail-oo1-f98.google.com
 [209.85.161.98]) by mails.dpdk.org (Postfix) with ESMTP id 934914025C
 for <test-report@dpdk.org>; Wed, 24 Apr 2024 17:11:26 +0200 (CEST)
Received: by mail-oo1-f98.google.com with SMTP id
 006d021491bc7-5aa2a74c238so4313142eaf.3
 for <test-report@dpdk.org>; Wed, 24 Apr 2024 08:11:26 -0700 (PDT)
DKIM-Signature: v=1; a=rsa-sha256; c=relaxed/relaxed;
 d=iol.unh.edu; s=unh-iol; t=1713971486; x=1714576286; darn=dpdk.org;
 h=references:in-reply-to:cc:to:from:subject:message-id:date:from:to
 :cc:subject:date:message-id:reply-to;
 bh=6MlUgs2xqr8MSQL+JiklOXx4tCfk5Fd2UPvRvM+f2/o=;
 b=XrRAKtAMa2Bi0CpW5sOfNfVEv5FlX4jwLJSaxAFS8b/Lu2rx6Wnwx4bn205lIDh96Q
 5+08x7seIYa8twU7IfXlf65L9p6aNAUWwKbGsk1Yv3RiXGmZ1NUMKoD9FmMQPnfiO6ss
 UeB8WjVH9JdGHmcd85Dlki6mKl30+THsmKCNU=
X-Google-DKIM-Signature: v=1; a=rsa-sha256; c=relaxed/relaxed;
 d=1e100.net; s=20230601; t=1713971486; x=1714576286;
 h=references:in-reply-to:cc:to:from:subject:message-id:date
 :x-gm-message-state:from:to:cc:subject:date:message-id:reply-to;
 bh=6MlUgs2xqr8MSQL+JiklOXx4tCfk5Fd2UPvRvM+f2/o=;
 b=XSfjBVA2OX9koV5aDo1+Lu12YMRU/8b01Ho8LkSuy4N6+wnbrNfeQxsRcRrhauDrGf
 CdPtXYtYuiKUwQNeGXfC3a7JGFbYtA4R3gP7dyHSUZEDR3n1JE3pepz5pve85Cw+1ocD
 MqZLPeUp56kI3Nwqvung9qn//gti4rezMedq5dJrcAf25VewV8BQ9S15bu6O8sVAbby7
 6w39A/Ac5Xl57AmSMxQSFYjqqq9tNEUxhOE4QRttNjQCeK6ZIZul4xa7UeskboG4CWy9
 qQve2b9AAFshI9nZf33toSSoj3vzZWn96A/kqBtJAysgDnZQquzidgTOgrXrFsT8bVJH
 BZtQ==
X-Gm-Message-State: AOJu0YxoQpzUxeKoqLK7SXcymxcYm5LEDvHXTl/XkZnlCK7Gg90Dk4qK
 9DmXC8XFilIdjfBlW/XGB4rtsy2BoT+ats2KN1RZRpwKM3FkynfSDMGrOfZFa13tu1IOKTdFx+6
 X+SAjdp7W6gvmVOe2hoVjGz8yR1mOwIKCexUtHiO3
X-Google-Smtp-Source: AGHT+IHPDYNb3GW42kQd7EkoXHw7kHM2pu6cL2GD4fvrsYrIlEDaMrREf2IyUm45umEz63wdmANcAV2Fkrct
X-Received: by 2002:a05:6358:6c11:b0:181:6575:1b22 with SMTP id
 s17-20020a0563586c1100b0018165751b22mr3219089rwh.6.1713971485890; 
 Wed, 24 Apr 2024 08:11:25 -0700 (PDT)
Received: from postal.iol.unh.edu (postal.iol.unh.edu. [132.177.123.84])
 by smtp-relay.gmail.com with ESMTPS id
 u22-20020ab05b16000000b007e7a93653d5sm1189761uae.4.2024.04.24.08.11.25
 (version=TLS1_2 cipher=ECDHE-ECDSA-AES128-GCM-SHA256 bits=128/128);
 Wed, 24 Apr 2024 08:11:25 -0700 (PDT)
X-Relaying-Domain: iol.unh.edu
Date: Wed, 24 Apr 2024 08:11:25 -0700 (PDT)
Message-ID: <6629211d.b00a0220.4e9cb.f07bSMTPIN_ADDED_MISSING@mx.google.com>
Received: from [172.21.0.6] (unknown [172.18.0.240])
 by postal.iol.unh.edu (Postfix) with ESMTP id 80844604D420;
 Wed, 24 Apr 2024 11:11:25 -0400 (EDT)
Subject: |SUCCESS| pw139645 [PATCH] event: fix warning from useless snprintf
From: dpdklab@iol.unh.edu
To: Test Report <test-report@dpdk.org>
Cc: dpdk-test-reports@iol.unh.edu
In-Reply-To: <20240424034541.134335-1-stephen@networkplumber.org>
References: <20240424034541.134335-1-stephen@networkplumber.org>
Content-Type: text/plain
X-BeenThere: test-report@dpdk.org
X-Mailman-Version: 2.1.29
Precedence: list
List-Id: automatic DPDK test reports <test-report.dpdk.org>
List-Unsubscribe: <https://mails.dpdk.org/options/test-report>,
 <mailto:test-report-request@dpdk.org?subject=unsubscribe>
List-Archive: <http://mails.dpdk.org/archives/test-report/>
List-Post: <mailto:test-report@dpdk.org>
List-Help: <mailto:test-report-request@dpdk.org?subject=help>
List-Subscribe: <https://mails.dpdk.org/listinfo/test-report>,
 <mailto:test-report-request@dpdk.org?subject=subscribe>
Errors-To: test-report-bounces@dpdk.org

Test-Label: iol-compile-amd64-testing
Test-Status: SUCCESS
http://dpdk.org/patch/139645

_Testing PASS_

Submitter: Stephen Hemminger <stephen@networkplumber.org>
Date: Wednesday, April 24 2024 03:45:40 
DPDK git baseline: Repo:dpdk
  Branch: master
  CommitID:7e06c0de1952d3109a5b0c4779d7e7d8059c9d78

139645 --> testing pass

Test environment and result as below:

+---------------------+--------------------+----------------------+-------------------+
|     Environment     | dpdk_meson_compile | dpdk_mingw64_compile | dpdk_msvc_compile |
+=====================+====================+======================+===================+
| FreeBSD 13.3        | PASS               | SKIPPED              | SKIPPED           |
+---------------------+--------------------+----------------------+-------------------+
| Windows Server 2022 | PASS               | PASS                 | PASS              |
+---------------------+--------------------+----------------------+-------------------+
| Windows Server 2019 | PASS               | PASS                 | SKIPPED           |
+---------------------+--------------------+----------------------+-------------------+
| CentOS Stream 8     | PASS               | SKIPPED              | SKIPPED           |
+---------------------+--------------------+----------------------+-------------------+
| Debian 12           | PASS               | SKIPPED              | SKIPPED           |
+---------------------+--------------------+----------------------+-------------------+
| Fedora 37           | PASS               | SKIPPED              | SKIPPED           |
+---------------------+--------------------+----------------------+-------------------+


FreeBSD 13.3
	Kernel: 13.3-RELEASE-p1
	Compiler: clang 17.0.6

Windows Server 2022
	Kernel: 10.0.20348.2031
	Compiler: clang 15.0.7, gcc 8.1.0 (MinGW), and MSVC VS 17.9

Windows Server 2019
	Kernel: 10.0.17763
	Compiler: clang 14.0 and gcc 8.1.0 (MinGW)

CentOS Stream 8
	Kernel: 5.4.0-167-generic
	Compiler: gcc 8.5.0 20210514

Debian 12
	Kernel: Container Host Kernel
	Compiler: gcc 10.2.1

Fedora 37
	Kernel: Depends on container host system
	Compiler: gcc 12.3.1

To view detailed results, visit:
https://lab.dpdk.org/results/dashboard/patchsets/29848/

UNH-IOL DPDK Community Lab

To manage your email subscriptions, visit: 
https://lab.dpdk.org/results/dashboard/preferences/subscriptions/