From mboxrd@z Thu Jan  1 00:00:00 1970
Return-Path: <test-report-bounces@dpdk.org>
Received: from mails.dpdk.org (mails.dpdk.org [217.70.189.124])
	by inbox.dpdk.org (Postfix) with ESMTP id DC3F543EF7
	for <public@inbox.dpdk.org>; Wed, 24 Apr 2024 17:11:39 +0200 (CEST)
Received: from mails.dpdk.org (localhost [127.0.0.1])
	by mails.dpdk.org (Postfix) with ESMTP id D81F1402D1;
	Wed, 24 Apr 2024 17:11:39 +0200 (CEST)
Received: from mail-yw1-f228.google.com (mail-yw1-f228.google.com
 [209.85.128.228])
 by mails.dpdk.org (Postfix) with ESMTP id E40FF4025C
 for <test-report@dpdk.org>; Wed, 24 Apr 2024 17:11:37 +0200 (CEST)
Received: by mail-yw1-f228.google.com with SMTP id
 00721157ae682-6150670d372so63071247b3.1
 for <test-report@dpdk.org>; Wed, 24 Apr 2024 08:11:37 -0700 (PDT)
DKIM-Signature: v=1; a=rsa-sha256; c=relaxed/relaxed;
 d=iol.unh.edu; s=unh-iol; t=1713971497; x=1714576297; darn=dpdk.org;
 h=references:in-reply-to:cc:to:from:subject:message-id:date:from:to
 :cc:subject:date:message-id:reply-to;
 bh=5bi5rqn923mEvUmu4ztRf0aqT3fEc98DQXrueVe8m74=;
 b=CDGTO8Mp080AQ30ptFKkNocYNQbGBmSrKBPnRmAttRJUOpEiQxQdMTIZ2l9cdMsIbs
 g43i93apPZAL+TEdtNWx7e42PtTz5A14ftJz0SN9jgShCSLLEzc3vFKOp1HpJ1iZl2hJ
 KwT9+bBRbRk5Wo4eBa4u9M3PkUn62XlMpcgb8=
X-Google-DKIM-Signature: v=1; a=rsa-sha256; c=relaxed/relaxed;
 d=1e100.net; s=20230601; t=1713971497; x=1714576297;
 h=references:in-reply-to:cc:to:from:subject:message-id:date
 :x-gm-message-state:from:to:cc:subject:date:message-id:reply-to;
 bh=5bi5rqn923mEvUmu4ztRf0aqT3fEc98DQXrueVe8m74=;
 b=RIJ5oYdawDOzbxgoAVA8PmaX7wV9YfM09I8XaPtYYX+WIhs8ZU+iQ2z0e8oAnOMeXC
 RUGKXvtmsH2eFXDtVz6w5Hued5ClSjxL/6ZpvpDZ2ndGLOJAkXz+XBn5oAlzAmrmixHe
 W9mTlnsYG76tmfJaMo8+PQhVhXAXphWPxU1591z5i5T405RHtMDasn4tZLsj3M8lDo13
 Mk3N4f98Y+7v31DQcKjGPWw7y4Zv5582xVgu1e8sXBmtou9ybZ3qI8BDcZnAWcSJJadi
 YFkcUH1kSbNaOhecjMjq+FqsVjGqWFEavlOEbXeXhwPle5noYJRO0I8n1LvPXdgmuLRQ
 qn0A==
X-Gm-Message-State: AOJu0Yzxzz1TA1v6upMqnjYTCbsDx8jJgK5NOe/SxrtyBVbG7e0/06F7
 KwlQLMoVNt1Av9PLfbHclk7b26JqF5eBp3ASefaDqKHaoJhNRR4rCMVHRGwz6yNwvzXntWw+K//
 styfvjry9g/q3MLm7xHv4Cksv7ah+B62SvAHs54oC5mVu38dJez9Zcn01
X-Google-Smtp-Source: AGHT+IEpYdISvH8U8RBgs8DKMmCQ+E4VTxDpza+sQTtAlgiTydd4CVGnTP6rHsrnmWKLe3aZkdGMF8Bu9qjM
X-Received: by 2002:a25:d017:0:b0:de5:4f12:7ea0 with SMTP id
 h23-20020a25d017000000b00de54f127ea0mr2850519ybg.8.1713971497263; 
 Wed, 24 Apr 2024 08:11:37 -0700 (PDT)
Received: from postal.iol.unh.edu (postal.iol.unh.edu.
 [2606:4100:3880:1234::84]) by smtp-relay.gmail.com with ESMTPS id
 df5-20020a0569020e0500b00de4f921d6eesm546178ybb.14.2024.04.24.08.11.37
 (version=TLS1_2 cipher=ECDHE-ECDSA-AES128-GCM-SHA256 bits=128/128);
 Wed, 24 Apr 2024 08:11:37 -0700 (PDT)
X-Relaying-Domain: iol.unh.edu
Date: Wed, 24 Apr 2024 08:11:37 -0700 (PDT)
Message-ID: <66292129.050a0220.734f0.8adfSMTPIN_ADDED_MISSING@mx.google.com>
Received: from [172.21.0.7] (unknown [172.18.0.240])
 by postal.iol.unh.edu (Postfix) with ESMTP id E2237604D420;
 Wed, 24 Apr 2024 11:11:36 -0400 (EDT)
Subject: |SUCCESS| pw139645 [PATCH] event: fix warning from useless snprintf
From: dpdklab@iol.unh.edu
To: Test Report <test-report@dpdk.org>
Cc: dpdk-test-reports@iol.unh.edu
In-Reply-To: <20240424034541.134335-1-stephen@networkplumber.org>
References: <20240424034541.134335-1-stephen@networkplumber.org>
Content-Type: text/plain
X-BeenThere: test-report@dpdk.org
X-Mailman-Version: 2.1.29
Precedence: list
List-Id: automatic DPDK test reports <test-report.dpdk.org>
List-Unsubscribe: <https://mails.dpdk.org/options/test-report>,
 <mailto:test-report-request@dpdk.org?subject=unsubscribe>
List-Archive: <http://mails.dpdk.org/archives/test-report/>
List-Post: <mailto:test-report@dpdk.org>
List-Help: <mailto:test-report-request@dpdk.org?subject=help>
List-Subscribe: <https://mails.dpdk.org/listinfo/test-report>,
 <mailto:test-report-request@dpdk.org?subject=subscribe>
Errors-To: test-report-bounces@dpdk.org

Test-Label: iol-unit-amd64-testing
Test-Status: SUCCESS
http://dpdk.org/patch/139645

_Testing PASS_

Submitter: Stephen Hemminger <stephen@networkplumber.org>
Date: Wednesday, April 24 2024 03:45:40 
DPDK git baseline: Repo:dpdk
  Branch: master
  CommitID:7e06c0de1952d3109a5b0c4779d7e7d8059c9d78

139645 --> testing pass

Test environment and result as below:

+---------------------+----------------+
|     Environment     | dpdk_unit_test |
+=====================+================+
| Windows Server 2019 | PASS           |
+---------------------+----------------+
| CentOS Stream 8     | PASS           |
+---------------------+----------------+
| CentOS Stream 9     | PASS           |
+---------------------+----------------+
| Debian 12           | PASS           |
+---------------------+----------------+
| Fedora 38           | PASS           |
+---------------------+----------------+
| Windows Server 2022 | PASS           |
+---------------------+----------------+


Windows Server 2019
	Kernel: 10.0.17763
	Compiler: clang 14.0 and gcc 8.1.0 (MinGW)

CentOS Stream 8
	Kernel: 5.4.0-167-generic
	Compiler: gcc 8.5.0 20210514

CentOS Stream 9
	Kernel: 5.4.0-167-generic
	Compiler: gcc 11.4.1 20230605

Debian 12
	Kernel: Container Host Kernel
	Compiler: gcc 10.2.1

Fedora 38
	Kernel: Depends on container host
	Compiler: gcc 13.2.1

Windows Server 2022
	Kernel: 10.0.20348.2031
	Compiler: clang 15.0.7, gcc 8.1.0 (MinGW), and MSVC VS 17.9

To view detailed results, visit:
https://lab.dpdk.org/results/dashboard/patchsets/29848/

UNH-IOL DPDK Community Lab

To manage your email subscriptions, visit: 
https://lab.dpdk.org/results/dashboard/preferences/subscriptions/