From mboxrd@z Thu Jan  1 00:00:00 1970
Return-Path: <test-report-bounces@dpdk.org>
Received: from mails.dpdk.org (mails.dpdk.org [217.70.189.124])
	by inbox.dpdk.org (Postfix) with ESMTP id 2F93543EF7
	for <public@inbox.dpdk.org>; Wed, 24 Apr 2024 17:12:58 +0200 (CEST)
Received: from mails.dpdk.org (localhost [127.0.0.1])
	by mails.dpdk.org (Postfix) with ESMTP id 2A809402D1;
	Wed, 24 Apr 2024 17:12:58 +0200 (CEST)
Received: from mail-oi1-f228.google.com (mail-oi1-f228.google.com
 [209.85.167.228])
 by mails.dpdk.org (Postfix) with ESMTP id A99994025C
 for <test-report@dpdk.org>; Wed, 24 Apr 2024 17:12:56 +0200 (CEST)
Received: by mail-oi1-f228.google.com with SMTP id
 5614622812f47-3c844b6edbbso7844b6e.1
 for <test-report@dpdk.org>; Wed, 24 Apr 2024 08:12:56 -0700 (PDT)
DKIM-Signature: v=1; a=rsa-sha256; c=relaxed/relaxed;
 d=iol.unh.edu; s=unh-iol; t=1713971576; x=1714576376; darn=dpdk.org;
 h=references:in-reply-to:cc:to:from:subject:message-id:date:from:to
 :cc:subject:date:message-id:reply-to;
 bh=0YXv34VJNqlJM5Ak01ZsU6m6ydr6dAEEpOlwtf45NSY=;
 b=iZRObqwr88VkpyRNOaY4kt/LTj7NeqGU9qxPoeDqqHCMjxRHdK54UEqIzZdFJUsH9n
 1hG+IzI8FNvW5TYwdbZBQLNhdxDAouGqHeXhUUL54NXAaW3pxUAUwBDAbwv4cGIDlF6x
 Y3RwhCJ1nFUvDZX68ErWv0t9iOVNwn09zHtPA=
X-Google-DKIM-Signature: v=1; a=rsa-sha256; c=relaxed/relaxed;
 d=1e100.net; s=20230601; t=1713971576; x=1714576376;
 h=references:in-reply-to:cc:to:from:subject:message-id:date
 :x-gm-message-state:from:to:cc:subject:date:message-id:reply-to;
 bh=0YXv34VJNqlJM5Ak01ZsU6m6ydr6dAEEpOlwtf45NSY=;
 b=CRyH19QZRBNNvAhdqN6b9g7GAguVY88uAizQ53saE6UOcxtky+duJRvKPF0s30W4Rg
 1/ExB1BqmTAOmevm9dh+QeHjudOvqy7gTb9QUhRhrdgRgCr3FVLVEkO2qd0WqIuNUY6e
 AHza3EzJmQkx4Sofg54LyCojVxl4YPlyXK+4jJbaWH02AXsWDSzxFK8pizyW5UqlB4Fg
 4bruhJzeirje9Mu643n5+tIVfEOS2c9a4oZJQ8Pek+VCfKgYWj266fAw6EownSPB+Kib
 TiUPG9ZctdZL26sqygCkt0L9M6W6tPEDO9zAC+xveGipfv8HSTSesb5SWJbxKlmfYjb+
 BHZA==
X-Gm-Message-State: AOJu0YzevlBs9EN8C9Cx9p73aUvCIrcW0NXtbRVOTU37KzHS0fzzvoXq
 cNYXwTPL+hF9KOpgEcWGD7YdOcpY4c+d6JH6nmsZb/B0vvBvBPv4g9bds0ShQTkbgVysH9e1puV
 i8Mk3EXX3u1kPf8UNSjAO6p615hddl6PxzB7DyvX/
X-Google-Smtp-Source: AGHT+IHhvyJfrdplRKnJWaAzIPeArsycFQRYfGz543U1n9svI2Qgx18hdsd9ZpDB06SuNNcaltthYVzd5rWX
X-Received: by 2002:a05:6808:179e:b0:3c7:2616:554e with SMTP id
 bg30-20020a056808179e00b003c72616554emr2797295oib.57.1713971575980; 
 Wed, 24 Apr 2024 08:12:55 -0700 (PDT)
Received: from postal.iol.unh.edu (postal.iol.unh.edu. [132.177.123.84])
 by smtp-relay.gmail.com with ESMTPS id
 f14-20020ac85d0e000000b00437b8c6497dsm823114qtx.22.2024.04.24.08.12.55
 (version=TLS1_2 cipher=ECDHE-ECDSA-AES128-GCM-SHA256 bits=128/128);
 Wed, 24 Apr 2024 08:12:55 -0700 (PDT)
X-Relaying-Domain: iol.unh.edu
Date: Wed, 24 Apr 2024 08:12:55 -0700 (PDT)
Message-ID: <66292177.c80a0220.cfcbf.75f4SMTPIN_ADDED_MISSING@mx.google.com>
Received: from [172.21.0.6] (unknown [172.18.0.240])
 by postal.iol.unh.edu (Postfix) with ESMTP id A1A35604D420;
 Wed, 24 Apr 2024 11:12:55 -0400 (EDT)
Subject: |SUCCESS| pw139645 [PATCH] event: fix warning from useless snprintf
From: dpdklab@iol.unh.edu
To: Test Report <test-report@dpdk.org>
Cc: dpdk-test-reports@iol.unh.edu
In-Reply-To: <20240424034541.134335-1-stephen@networkplumber.org>
References: <20240424034541.134335-1-stephen@networkplumber.org>
Content-Type: text/plain
X-BeenThere: test-report@dpdk.org
X-Mailman-Version: 2.1.29
Precedence: list
List-Id: automatic DPDK test reports <test-report.dpdk.org>
List-Unsubscribe: <https://mails.dpdk.org/options/test-report>,
 <mailto:test-report-request@dpdk.org?subject=unsubscribe>
List-Archive: <http://mails.dpdk.org/archives/test-report/>
List-Post: <mailto:test-report@dpdk.org>
List-Help: <mailto:test-report-request@dpdk.org?subject=help>
List-Subscribe: <https://mails.dpdk.org/listinfo/test-report>,
 <mailto:test-report-request@dpdk.org?subject=subscribe>
Errors-To: test-report-bounces@dpdk.org

Test-Label: iol-unit-amd64-testing
Test-Status: SUCCESS
http://dpdk.org/patch/139645

_Testing PASS_

Submitter: Stephen Hemminger <stephen@networkplumber.org>
Date: Wednesday, April 24 2024 03:45:40 
DPDK git baseline: Repo:dpdk
  Branch: master
  CommitID:7e06c0de1952d3109a5b0c4779d7e7d8059c9d78

139645 --> testing pass

Test environment and result as below:

+---------------------+----------------+
|     Environment     | dpdk_unit_test |
+=====================+================+
| Windows Server 2019 | PASS           |
+---------------------+----------------+
| CentOS Stream 8     | PASS           |
+---------------------+----------------+
| CentOS Stream 9     | PASS           |
+---------------------+----------------+
| Debian 12           | PASS           |
+---------------------+----------------+
| Fedora 38           | PASS           |
+---------------------+----------------+
| Windows Server 2022 | PASS           |
+---------------------+----------------+
| Fedora 39           | PASS           |
+---------------------+----------------+


Windows Server 2019
	Kernel: 10.0.17763
	Compiler: clang 14.0 and gcc 8.1.0 (MinGW)

CentOS Stream 8
	Kernel: 5.4.0-167-generic
	Compiler: gcc 8.5.0 20210514

CentOS Stream 9
	Kernel: 5.4.0-167-generic
	Compiler: gcc 11.4.1 20230605

Debian 12
	Kernel: Container Host Kernel
	Compiler: gcc 10.2.1

Fedora 38
	Kernel: Depends on container host
	Compiler: gcc 13.2.1

Windows Server 2022
	Kernel: 10.0.20348.2031
	Compiler: clang 15.0.7, gcc 8.1.0 (MinGW), and MSVC VS 17.9

Fedora 39
	Kernel: Depends on container host
	Compiler: gcc 13.2.1

To view detailed results, visit:
https://lab.dpdk.org/results/dashboard/patchsets/29848/

UNH-IOL DPDK Community Lab

To manage your email subscriptions, visit: 
https://lab.dpdk.org/results/dashboard/preferences/subscriptions/