From mboxrd@z Thu Jan  1 00:00:00 1970
Return-Path: <test-report-bounces@dpdk.org>
Received: from mails.dpdk.org (mails.dpdk.org [217.70.189.124])
	by inbox.dpdk.org (Postfix) with ESMTP id 5E63643EF7
	for <public@inbox.dpdk.org>; Wed, 24 Apr 2024 17:17:15 +0200 (CEST)
Received: from mails.dpdk.org (localhost [127.0.0.1])
	by mails.dpdk.org (Postfix) with ESMTP id 4C86043587;
	Wed, 24 Apr 2024 17:17:15 +0200 (CEST)
Received: from mail-il1-f227.google.com (mail-il1-f227.google.com
 [209.85.166.227])
 by mails.dpdk.org (Postfix) with ESMTP id 168E143581
 for <test-report@dpdk.org>; Wed, 24 Apr 2024 17:17:07 +0200 (CEST)
Received: by mail-il1-f227.google.com with SMTP id
 e9e14a558f8ab-36c1b567676so7691125ab.2
 for <test-report@dpdk.org>; Wed, 24 Apr 2024 08:17:07 -0700 (PDT)
DKIM-Signature: v=1; a=rsa-sha256; c=relaxed/relaxed;
 d=iol.unh.edu; s=unh-iol; t=1713971826; x=1714576626; darn=dpdk.org;
 h=references:in-reply-to:cc:to:from:subject:message-id:date:from:to
 :cc:subject:date:message-id:reply-to;
 bh=Nkl1tOkwwIH2yLibM3RShkcbc0Yho9HzslmTYXGHb6w=;
 b=baqQbHDvww+pUtODMeHJS2B9kw3bacDx82Y+xROb22YuPxk78Cn36mFtiIfzuGdy9C
 oSC0e977wLb9JItGXEqGFtjzpHtZ5UTjUkk3JA6pQCjBBKylpvqw7q1gbJ6oxQJ/UFoO
 FnF0BCAowUxbnBANYeZ2EkwQ7q/PzVR1dQpEs=
X-Google-DKIM-Signature: v=1; a=rsa-sha256; c=relaxed/relaxed;
 d=1e100.net; s=20230601; t=1713971826; x=1714576626;
 h=references:in-reply-to:cc:to:from:subject:message-id:date
 :x-gm-message-state:from:to:cc:subject:date:message-id:reply-to;
 bh=Nkl1tOkwwIH2yLibM3RShkcbc0Yho9HzslmTYXGHb6w=;
 b=ZgfA2OkLx/Y8NoeKQD+H4wiGeJQV0gwjiZ4EozTbBfuZgrXwj3tIIGX4LI3Mu9ZCzj
 u6khS3vYTU33Fdtf45BoyfXhflSYGe/fPuM7d6tc/cr+2FFfP6gZWZe4S0sE2BltiBFn
 DMdChLx+8ZMRXvk+TxPmtkeFG/mIWibL+W4nG5vz5C1QM0eaiPwSWrCeqhbnQbj0Zj6x
 6KS0J+Vb3ooaOwGb6VBTsruMdsYgwAn9WznEGJfNQtRP9P5Hm4Dum5vKNxoDms/5zN1A
 Rfbwoi/DXfrV3lak8z5glQ5O41R9d8H5VPDeWRARDuWS1USCos7GKU08OAfoW/rdmfEd
 /iXg==
X-Gm-Message-State: AOJu0Yw4MHbxdCImL/doV9FFP2A+Jllr/G/4bDeWB59LP6A2ghMCJ3eP
 Zv9/LgeRoPFFTwnMfE4VoPoOboDIGiusw4b9UvCP6UNNh4jfA31cvNovUEqYHzhVSvlTkD/4lC0
 Gi24TkahxoRjvVINhJ52epK4CnWok2woZGtzqv6gyAgotwvw/l4bY8kfM
X-Google-Smtp-Source: AGHT+IEZdBuaJ+fgy6/Ggou60X+Rl6eGcNurnxQvHi0IMfsEbq45canJwBoIrfd847Tle6E+HYQZ1ScDfvdS
X-Received: by 2002:a05:6e02:20e3:b0:36b:e4f:87d1 with SMTP id
 q3-20020a056e0220e300b0036b0e4f87d1mr3800200ilv.31.1713971826513; 
 Wed, 24 Apr 2024 08:17:06 -0700 (PDT)
Received: from postal.iol.unh.edu (postal.iol.unh.edu.
 [2606:4100:3880:1234::84]) by smtp-relay.gmail.com with ESMTPS id
 r15-20020a63514f000000b005f804defa32sm667278pgl.27.2024.04.24.08.17.06
 (version=TLS1_2 cipher=ECDHE-ECDSA-AES128-GCM-SHA256 bits=128/128);
 Wed, 24 Apr 2024 08:17:06 -0700 (PDT)
X-Relaying-Domain: iol.unh.edu
Date: Wed, 24 Apr 2024 08:17:06 -0700 (PDT)
Message-ID: <66292272.630a0220.1badc.0e1fSMTPIN_ADDED_MISSING@mx.google.com>
Received: from [172.21.0.7] (unknown [172.18.0.240])
 by postal.iol.unh.edu (Postfix) with ESMTP id B6FB2604D420;
 Wed, 24 Apr 2024 11:17:05 -0400 (EDT)
Subject: |SUCCESS| pw139645 [PATCH] event: fix warning from useless snprintf
From: dpdklab@iol.unh.edu
To: Test Report <test-report@dpdk.org>
Cc: Stephen Hemminger <stephen@networkplumber.org>
In-Reply-To: <20240424034541.134335-1-stephen@networkplumber.org>
References: <20240424034541.134335-1-stephen@networkplumber.org>
Content-Type: text/plain
X-BeenThere: test-report@dpdk.org
X-Mailman-Version: 2.1.29
Precedence: list
List-Id: automatic DPDK test reports <test-report.dpdk.org>
List-Unsubscribe: <https://mails.dpdk.org/options/test-report>,
 <mailto:test-report-request@dpdk.org?subject=unsubscribe>
List-Archive: <http://mails.dpdk.org/archives/test-report/>
List-Post: <mailto:test-report@dpdk.org>
List-Help: <mailto:test-report-request@dpdk.org?subject=help>
List-Subscribe: <https://mails.dpdk.org/listinfo/test-report>,
 <mailto:test-report-request@dpdk.org?subject=subscribe>
Errors-To: test-report-bounces@dpdk.org

Test-Label: iol-unit-amd64-testing
Test-Status: SUCCESS
http://dpdk.org/patch/139645

_Testing PASS_

Submitter: Stephen Hemminger <stephen@networkplumber.org>
Date: Wednesday, April 24 2024 03:45:40 
DPDK git baseline: Repo:dpdk
  Branch: master
  CommitID:7e06c0de1952d3109a5b0c4779d7e7d8059c9d78

139645 --> testing pass

Test environment and result as below:

+---------------------+----------------+
|     Environment     | dpdk_unit_test |
+=====================+================+
| Windows Server 2019 | PASS           |
+---------------------+----------------+
| CentOS Stream 8     | PASS           |
+---------------------+----------------+
| CentOS Stream 9     | PASS           |
+---------------------+----------------+
| Debian 12           | PASS           |
+---------------------+----------------+
| Fedora 38           | PASS           |
+---------------------+----------------+
| Windows Server 2022 | PASS           |
+---------------------+----------------+
| Fedora 39           | PASS           |
+---------------------+----------------+
| Debian Bullseye     | PASS           |
+---------------------+----------------+


Windows Server 2019
	Kernel: 10.0.17763
	Compiler: clang 14.0 and gcc 8.1.0 (MinGW)

CentOS Stream 8
	Kernel: 5.4.0-167-generic
	Compiler: gcc 8.5.0 20210514

CentOS Stream 9
	Kernel: 5.4.0-167-generic
	Compiler: gcc 11.4.1 20230605

Debian 12
	Kernel: Container Host Kernel
	Compiler: gcc 10.2.1

Fedora 38
	Kernel: Depends on container host
	Compiler: gcc 13.2.1

Windows Server 2022
	Kernel: 10.0.20348.2031
	Compiler: clang 15.0.7, gcc 8.1.0 (MinGW), and MSVC VS 17.9

Fedora 39
	Kernel: Depends on container host
	Compiler: gcc 13.2.1

Debian Bullseye
	Kernel: 5.4.0-167-generic
	Compiler: gcc 10.2.1-6

To view detailed results, visit:
https://lab.dpdk.org/results/dashboard/patchsets/29848/

UNH-IOL DPDK Community Lab

To manage your email subscriptions, visit: 
https://lab.dpdk.org/results/dashboard/preferences/subscriptions/