From mboxrd@z Thu Jan  1 00:00:00 1970
Return-Path: <test-report-bounces@dpdk.org>
Received: from mails.dpdk.org (mails.dpdk.org [217.70.189.124])
	by inbox.dpdk.org (Postfix) with ESMTP id 3593943F05
	for <public@inbox.dpdk.org>; Thu, 25 Apr 2024 13:02:16 +0200 (CEST)
Received: from mails.dpdk.org (localhost [127.0.0.1])
	by mails.dpdk.org (Postfix) with ESMTP id 29C8C435F4;
	Thu, 25 Apr 2024 13:02:16 +0200 (CEST)
Received: from mail-pl1-f227.google.com (mail-pl1-f227.google.com
 [209.85.214.227])
 by mails.dpdk.org (Postfix) with ESMTP id 38A3740284
 for <test-report@dpdk.org>; Thu, 25 Apr 2024 13:02:15 +0200 (CEST)
Received: by mail-pl1-f227.google.com with SMTP id
 d9443c01a7336-1e3ff14f249so6522725ad.1
 for <test-report@dpdk.org>; Thu, 25 Apr 2024 04:02:15 -0700 (PDT)
DKIM-Signature: v=1; a=rsa-sha256; c=relaxed/relaxed;
 d=iol.unh.edu; s=unh-iol; t=1714042934; x=1714647734; darn=dpdk.org;
 h=references:in-reply-to:cc:to:from:subject:message-id:date:from:to
 :cc:subject:date:message-id:reply-to;
 bh=zKkR5+pneITEstueNqGrhgqKDT1vt390PsoFCpS34CU=;
 b=QAT9EWL16kQn5kmdaEfv/ul6fN4Cb/VDYifm4OtswWR56P9SuoZoSaetykDMUqvedZ
 cGxZ2yTGm21JOz2jJiWBMIO4JM4G8/XERS0zWJlK5lTRIY2pyhWkY8JXoyEpNL5KUeUR
 40vdElagWWHJwnwrRo9ByYhXaCsm0pG5B+Zg4=
X-Google-DKIM-Signature: v=1; a=rsa-sha256; c=relaxed/relaxed;
 d=1e100.net; s=20230601; t=1714042934; x=1714647734;
 h=references:in-reply-to:cc:to:from:subject:message-id:date
 :x-gm-message-state:from:to:cc:subject:date:message-id:reply-to;
 bh=zKkR5+pneITEstueNqGrhgqKDT1vt390PsoFCpS34CU=;
 b=Na6IYOZhPB1ul1sFQUQAFD1WuWreDfto2THI/LgFsUQ3qKAw1a2ARVcjv3SD7vNf9Z
 qcihYlFkdYdAZ6r54eM3V5sVexP0AJAjKV+0btS2s0zp67jqy7rtLfoWq27GtUBWOGxk
 MvHLnRmiYosh6c9aBtJ5nOUt9F3/9y526KN/MfJRcqL4PQWhDVZzKhAmyRqK+8ND2DXX
 Vq3FbMHsfg0HfBogkWMkk7OLsGKnK9ROnZLSz0tHZ4T6Nazy8UcGl5I2/bg8BVOaTTSi
 b3vOKxlAc4uqfl53S2M1X4pYLby1M601l7B8VWlmOoRalDCoHAICVmTKT1t/OqGuSnly
 L1MA==
X-Gm-Message-State: AOJu0Yyn51htLOumnciVsFkL/h48MnLx665JiFzTAWuN6iRD47aFcjGy
 PS2GvDLW897+MNNAxPOVAsSseD4H7kVyatdu3CbrdrGQbUSqQSVwhSBqRWFAv9BQ7dGPPyLlb/k
 Gf1F8hC5c0CUOoHWGJrKZhXhBHGp4KZBUFurJvZi8
X-Google-Smtp-Source: AGHT+IHTadgSEFfaNIfSPekFeOXg57kbkd5c5BuJDuCo/Bt1V1ustHP1AUsSs02oUlJUqYftugSL8kg8otiq
X-Received: by 2002:a17:902:a383:b0:1ea:691b:3692 with SMTP id
 x3-20020a170902a38300b001ea691b3692mr3189835pla.17.1714042934399; 
 Thu, 25 Apr 2024 04:02:14 -0700 (PDT)
Received: from postal.iol.unh.edu (postal.iol.unh.edu. [132.177.123.84])
 by smtp-relay.gmail.com with ESMTPS id
 y16-20020a1709027c9000b001e420ab907esm468112pll.54.2024.04.25.04.02.14
 (version=TLS1_2 cipher=ECDHE-ECDSA-AES128-GCM-SHA256 bits=128/128);
 Thu, 25 Apr 2024 04:02:14 -0700 (PDT)
X-Relaying-Domain: iol.unh.edu
Date: Thu, 25 Apr 2024 04:02:14 -0700 (PDT)
Message-ID: <662a3836.170a0220.a2f3b.61e3SMTPIN_ADDED_MISSING@mx.google.com>
Received: from [172.21.0.7] (unknown [172.18.0.240])
 by postal.iol.unh.edu (Postfix) with ESMTP id 78D906052514;
 Thu, 25 Apr 2024 07:02:13 -0400 (EDT)
Subject: |SUCCESS| pw139676-139677 [PATCH] [RFC,v2,6/6] eal: add unit tests f
From: dpdklab@iol.unh.edu
To: Test Report <test-report@dpdk.org>
Cc: dpdk-test-reports@iol.unh.edu
In-Reply-To: <20240425085853.97888-7-mattias.ronnblom@ericsson.com>
References: <20240425085853.97888-7-mattias.ronnblom@ericsson.com>
Content-Type: text/plain
X-BeenThere: test-report@dpdk.org
X-Mailman-Version: 2.1.29
Precedence: list
List-Id: automatic DPDK test reports <test-report.dpdk.org>
List-Unsubscribe: <https://mails.dpdk.org/options/test-report>,
 <mailto:test-report-request@dpdk.org?subject=unsubscribe>
List-Archive: <http://mails.dpdk.org/archives/test-report/>
List-Post: <mailto:test-report@dpdk.org>
List-Help: <mailto:test-report-request@dpdk.org?subject=help>
List-Subscribe: <https://mails.dpdk.org/listinfo/test-report>,
 <mailto:test-report-request@dpdk.org?subject=subscribe>
Errors-To: test-report-bounces@dpdk.org

Test-Label: iol-unit-arm64-testing
Test-Status: SUCCESS
http://dpdk.org/patch/139677

_Testing PASS_

Submitter: Mattias Ronnblom <mattias.ronnblom@ericsson.com>
Date: Thursday, April 25 2024 08:58:53 
DPDK git baseline: Repo:dpdk
  Branch: master
  CommitID:7e06c0de1952d3109a5b0c4779d7e7d8059c9d78

139676-139677 --> testing pass

Test environment and result as below:

+-----------------------------+------------------------------+----------------+--------------+---------------------------+
|         Environment         | cryptodev_sw_snow3g_autotest | dpdk_unit_test | lpm_autotest | cryptodev_sw_zuc_autotest |
+=============================+==============================+================+==============+===========================+
| Debian 12 (arm)             | PASS                         | PASS           | SKIPPED      | PASS                      |
+-----------------------------+------------------------------+----------------+--------------+---------------------------+
| 32-bit Ubuntu 20.04.4 (ARM) | SKIPPED                      | PASS           | SKIPPED      | SKIPPED                   |
+-----------------------------+------------------------------+----------------+--------------+---------------------------+
| Debian 11 (Buster) (ARM)    | SKIPPED                      | PASS           | SKIPPED      | SKIPPED                   |
+-----------------------------+------------------------------+----------------+--------------+---------------------------+
| CentOS Stream 9 (ARM)       | SKIPPED                      | PASS           | SKIPPED      | SKIPPED                   |
+-----------------------------+------------------------------+----------------+--------------+---------------------------+
| Fedora 38 (ARM)             | SKIPPED                      | PASS           | SKIPPED      | SKIPPED                   |
+-----------------------------+------------------------------+----------------+--------------+---------------------------+
| Ubuntu 20.04 ARM SVE        | SKIPPED                      | SKIPPED        | PASS         | SKIPPED                   |
+-----------------------------+------------------------------+----------------+--------------+---------------------------+


Debian 12 (arm)
	Kernel: Container Host Kernel
	Compiler: gcc 12.2.0

32-bit Ubuntu 20.04.4 (ARM)
	Kernel: 5.4.0-155-generic aarch64
	Compiler: gcc 9.4

Debian 11 (Buster) (ARM)
	Kernel: Container Host Kernel
	Compiler: gcc 10.2.1

CentOS Stream 9 (ARM)
	Kernel: Container Host Kernel
	Compiler: gcc 11.4.1

Fedora 38 (ARM)
	Kernel: Depends on container host
	Compiler: gcc 13.2.1

Ubuntu 20.04 ARM SVE
	Kernel: 5.4.0-167-generic
	Compiler: gcc (Ubuntu 10.5.0-1ubuntu1~20.04) 10.5.0

To view detailed results, visit:
https://lab.dpdk.org/results/dashboard/patchsets/29853/

UNH-IOL DPDK Community Lab

To manage your email subscriptions, visit: 
https://lab.dpdk.org/results/dashboard/preferences/subscriptions/