From mboxrd@z Thu Jan  1 00:00:00 1970
Return-Path: <test-report-bounces@dpdk.org>
Received: from mails.dpdk.org (mails.dpdk.org [217.70.189.124])
	by inbox.dpdk.org (Postfix) with ESMTP id 8483943DD5
	for <public@inbox.dpdk.org>; Thu, 25 Apr 2024 13:22:37 +0200 (CEST)
Received: from mails.dpdk.org (localhost [127.0.0.1])
	by mails.dpdk.org (Postfix) with ESMTP id 7EA44435F4;
	Thu, 25 Apr 2024 13:22:37 +0200 (CEST)
Received: from mail-oo1-f99.google.com (mail-oo1-f99.google.com
 [209.85.161.99]) by mails.dpdk.org (Postfix) with ESMTP id 48E7640284
 for <test-report@dpdk.org>; Thu, 25 Apr 2024 13:22:36 +0200 (CEST)
Received: by mail-oo1-f99.google.com with SMTP id
 006d021491bc7-5ad2a15374eso557078eaf.3
 for <test-report@dpdk.org>; Thu, 25 Apr 2024 04:22:36 -0700 (PDT)
DKIM-Signature: v=1; a=rsa-sha256; c=relaxed/relaxed;
 d=iol.unh.edu; s=unh-iol; t=1714044155; x=1714648955; darn=dpdk.org;
 h=references:in-reply-to:cc:to:from:subject:message-id:date:from:to
 :cc:subject:date:message-id:reply-to;
 bh=I4H0hvaAUcgm4Wrz9fRwByfUoEOI6Rq6PQsOOEUozR0=;
 b=bzhQl1uxNsw3sHF61aXvPj9z1d1UP1uGDqd/b2X33En7lM8EmqcxFn7RvQ0C8L/kfs
 0MQJNgXPI/ce7eNxdEEGrweF/CxyBjYuXv8uhiqikGQqMoygvjd1JP0LmCT4Ekqe6YU1
 ReuZif1vGI4n+6hLCOdm9De8gkPDScRnbUl1Q=
X-Google-DKIM-Signature: v=1; a=rsa-sha256; c=relaxed/relaxed;
 d=1e100.net; s=20230601; t=1714044155; x=1714648955;
 h=references:in-reply-to:cc:to:from:subject:message-id:date
 :x-gm-message-state:from:to:cc:subject:date:message-id:reply-to;
 bh=I4H0hvaAUcgm4Wrz9fRwByfUoEOI6Rq6PQsOOEUozR0=;
 b=O12hekwQcNy3T+s0CCz4RpBQDInMhl4ijqlNPywhNBPNN6QfiD3dl9Ps9ERVHLAG5f
 aqCkauRe0HmVAK0cfrw2ymlCe+cXJaWL2g/etSrryDQtSWes92rG7CssRre51RwPyS8P
 qDuCFOpfI47VExVhxI9MWjhC3sC65Ql9O+jhsiLOhsclpkz2gIlh65AMhOBl7vkM22ay
 Oh9FNOB3fYirinqko+TMqogwLxH5R1julvpQuP/ZiyrFYgLwH+0NOiWktkBEk7no+ZtV
 RRus1xUz5lxWNiCFjsHO9h2ofyfgS4n0HgFnpSUjSafdPzaHtqS+qHZnSN4J334bSAVl
 RA7w==
X-Gm-Message-State: AOJu0YyH7miD0xXYX2Xluecp9JG2GnCic0TbkcQS5tXszOaOW5phps6o
 1t1DCa42FZPCRkHMaF5mYIhtmss9b4VRqfDrTbYjdaeVRbyhdaseFEcwL1P9FUYiEtdKYufihQ+
 en+2mJvvt9AjIMkwg4Y1dO6AMiN6UzuaU6e3cmzpC
X-Google-Smtp-Source: AGHT+IHaNJIYeR1fiIVJPUxHAkmSARjNsOe/omvltOt1AkmrVyoQTZN2a0R8RGjWtqtrAbg7jCdLsZK9T0wR
X-Received: by 2002:a05:6358:5b13:b0:184:fdc:2590 with SMTP id
 h19-20020a0563585b1300b001840fdc2590mr6848499rwf.20.1714044155496; 
 Thu, 25 Apr 2024 04:22:35 -0700 (PDT)
Received: from postal.iol.unh.edu (postal.iol.unh.edu. [132.177.123.84])
 by smtp-relay.gmail.com with ESMTPS id
 u16-20020a0ce5d0000000b006a0a527ca4dsm19104qvm.68.2024.04.25.04.22.35
 (version=TLS1_2 cipher=ECDHE-ECDSA-AES128-GCM-SHA256 bits=128/128);
 Thu, 25 Apr 2024 04:22:35 -0700 (PDT)
X-Relaying-Domain: iol.unh.edu
Date: Thu, 25 Apr 2024 04:22:35 -0700 (PDT)
Message-ID: <662a3cfb.0c0a0220.5d1e.114eSMTPIN_ADDED_MISSING@mx.google.com>
Received: from [172.21.0.6] (unknown [172.18.0.240])
 by postal.iol.unh.edu (Postfix) with ESMTP id 39EC26052514;
 Thu, 25 Apr 2024 07:22:35 -0400 (EDT)
Subject: |SUCCESS| pw139676-139677 [PATCH] [RFC,v2,6/6] eal: add unit tests f
From: dpdklab@iol.unh.edu
To: Test Report <test-report@dpdk.org>
Cc: dpdk-test-reports@iol.unh.edu
In-Reply-To: <20240425085853.97888-7-mattias.ronnblom@ericsson.com>
References: <20240425085853.97888-7-mattias.ronnblom@ericsson.com>
Content-Type: text/plain
X-BeenThere: test-report@dpdk.org
X-Mailman-Version: 2.1.29
Precedence: list
List-Id: automatic DPDK test reports <test-report.dpdk.org>
List-Unsubscribe: <https://mails.dpdk.org/options/test-report>,
 <mailto:test-report-request@dpdk.org?subject=unsubscribe>
List-Archive: <http://mails.dpdk.org/archives/test-report/>
List-Post: <mailto:test-report@dpdk.org>
List-Help: <mailto:test-report-request@dpdk.org?subject=help>
List-Subscribe: <https://mails.dpdk.org/listinfo/test-report>,
 <mailto:test-report-request@dpdk.org?subject=subscribe>
Errors-To: test-report-bounces@dpdk.org

Test-Label: iol-compile-arm64-testing
Test-Status: SUCCESS
http://dpdk.org/patch/139677

_Testing PASS_

Submitter: Mattias Ronnblom <mattias.ronnblom@ericsson.com>
Date: Thursday, April 25 2024 08:58:53 
DPDK git baseline: Repo:dpdk
  Branch: master
  CommitID:7e06c0de1952d3109a5b0c4779d7e7d8059c9d78

139676-139677 --> testing pass

Test environment and result as below:

+----------------------------------------+--------------------+
|              Environment               | dpdk_meson_compile |
+========================================+====================+
| Ubuntu 20.04 ARM SVE                   | PASS               |
+----------------------------------------+--------------------+
| Debian 12 with MUSDK                   | PASS               |
+----------------------------------------+--------------------+
| Ubuntu 20.04 aarch32 GCC Cross Compile | PASS               |
+----------------------------------------+--------------------+
| Ubuntu 20.04 ARM Clang Cross Compile   | PASS               |
+----------------------------------------+--------------------+
| Ubuntu 20.04 ARM GCC Cross Compile     | PASS               |
+----------------------------------------+--------------------+
| Fedora 38 (ARM Clang)                  | PASS               |
+----------------------------------------+--------------------+
| Ubuntu 20.04 (ARM)                     | PASS               |
+----------------------------------------+--------------------+
| Fedora 38 (ARM)                        | PASS               |
+----------------------------------------+--------------------+


Ubuntu 20.04 ARM SVE
	Kernel: 5.4.0-167-generic
	Compiler: gcc (Ubuntu 10.5.0-1ubuntu1~20.04) 10.5.0

Debian 12 with MUSDK
	Kernel: Container Host Kernel
	Compiler: gcc 12.2.0

Ubuntu 20.04 aarch32 GCC Cross Compile
	Kernel: 5.4.0-167-generic
	Compiler: gcc 9.4.0

Ubuntu 20.04 ARM Clang Cross Compile
	Kernel: 5.4.0-72-generic
	Compiler: clang 10.0.0-4ubuntu1

Ubuntu 20.04 ARM GCC Cross Compile
	Kernel: 5.4.0-167-generic
	Compiler: aarch64-linux-gnu-gcc (Ubuntu 9.4.0-1ubuntu1~20.04.2) 9.4.0

Fedora 38 (ARM Clang)
	Kernel: Depends on container host
	Compiler: clang 16.0.6

Ubuntu 20.04 (ARM)
	Kernel: Container Host Kernel
	Compiler: gcc 9.4.0

Fedora 38 (ARM)
	Kernel: Depends on container host
	Compiler: gcc 13.2.1

To view detailed results, visit:
https://lab.dpdk.org/results/dashboard/patchsets/29853/

UNH-IOL DPDK Community Lab

To manage your email subscriptions, visit: 
https://lab.dpdk.org/results/dashboard/preferences/subscriptions/