From mboxrd@z Thu Jan  1 00:00:00 1970
Return-Path: <test-report-bounces@dpdk.org>
Received: from mails.dpdk.org (mails.dpdk.org [217.70.189.124])
	by inbox.dpdk.org (Postfix) with ESMTP id 522E543DD5
	for <public@inbox.dpdk.org>; Thu, 25 Apr 2024 13:33:03 +0200 (CEST)
Received: from mails.dpdk.org (localhost [127.0.0.1])
	by mails.dpdk.org (Postfix) with ESMTP id 4E2DE435F4;
	Thu, 25 Apr 2024 13:33:03 +0200 (CEST)
Received: from mail-pf1-f228.google.com (mail-pf1-f228.google.com
 [209.85.210.228])
 by mails.dpdk.org (Postfix) with ESMTP id C666340284
 for <test-report@dpdk.org>; Thu, 25 Apr 2024 13:33:02 +0200 (CEST)
Received: by mail-pf1-f228.google.com with SMTP id
 d2e1a72fcca58-6eff9dc1821so863552b3a.3
 for <test-report@dpdk.org>; Thu, 25 Apr 2024 04:33:02 -0700 (PDT)
DKIM-Signature: v=1; a=rsa-sha256; c=relaxed/relaxed;
 d=iol.unh.edu; s=unh-iol; t=1714044782; x=1714649582; darn=dpdk.org;
 h=references:in-reply-to:cc:to:from:subject:message-id:date:from:to
 :cc:subject:date:message-id:reply-to;
 bh=0ptzd54Vf9gN4HcIEfEczcyp2iUhd+xQmCml0d5qa4U=;
 b=XCAJPL5RMZLt5xMe85AUw8F7Wh5McdvPFt1Ik035QPIbvAbUip00YrN5L8fyTf5PJ5
 RiLFrf/CAE2Qgmy0mBs5OXMl5bz6bIm0JwLmCc1vVZK2kLBpu7nUMUq5Yoa37+De+7cn
 5kdaxkojmesxn+KDE0eXor5IsUpIk4doKUvqQ=
X-Google-DKIM-Signature: v=1; a=rsa-sha256; c=relaxed/relaxed;
 d=1e100.net; s=20230601; t=1714044782; x=1714649582;
 h=references:in-reply-to:cc:to:from:subject:message-id:date
 :x-gm-message-state:from:to:cc:subject:date:message-id:reply-to;
 bh=0ptzd54Vf9gN4HcIEfEczcyp2iUhd+xQmCml0d5qa4U=;
 b=M/FaQYsaQ3c0PBAyQkWkMb8zDERHRoZuZbWwHMEkYa+QhktzCG+0JPELs6u2is76WC
 AlvjIsuuB5RzQZib6iDFwHlKS9qGwl5N9ndyoIOlC7ReyKWAvMQW/uNVpXeIyxSijt27
 Afb9NkjV3hER9hWMZtJKAWn7xXLuBvUe76QWcG7pbcV/3uHqcvbPNpRZrWa65F3hpw3K
 PDMrkSPanrBUmebmt/NPtT3JxalVvMdr1YhoXqNWFHbdmKXbN7xbguNXSH5O+BV4MS3s
 PoL3o4AQeguDBNZTFwY4ULsl29cM50N8giauQk89SPBehfy3rQg+4ZnVamTunnNVSAqS
 pwCw==
X-Gm-Message-State: AOJu0YwhCh3Npk2wtNPSYQqlZBNBMbtt0CbdCgbb+s85U71W6ziR/MOF
 taAKzMnM62xzUoQqjIKsVLv4uhy2Fu0jpTWDJWHM0/wfA2wkzHxhCeUB0PvBEilzZmCLLfWdnGj
 pBjz3hO9T+9Z3Q4dWRmTspYrqe6Pe5pHQnVIC0gRTAT90rD6zgVOo4gLx
X-Google-Smtp-Source: AGHT+IH1NXBM7eYJJb71ViIbcW5rOrc7xqKXIo46ZfqvJpxmdy+L4hVAG3kMl5t7EXlLvnA1zp2dzqypABgt
X-Received: by 2002:a17:90a:bd14:b0:2a7:7a8e:bdc2 with SMTP id
 y20-20020a17090abd1400b002a77a8ebdc2mr5409539pjr.9.1714044782074; 
 Thu, 25 Apr 2024 04:33:02 -0700 (PDT)
Received: from postal.iol.unh.edu (postal.iol.unh.edu.
 [2606:4100:3880:1234::84]) by smtp-relay.gmail.com with ESMTPS id
 br12-20020a17090b0f0c00b002ab75d51b59sm1188472pjb.13.2024.04.25.04.33.01
 (version=TLS1_2 cipher=ECDHE-ECDSA-AES128-GCM-SHA256 bits=128/128);
 Thu, 25 Apr 2024 04:33:02 -0700 (PDT)
X-Relaying-Domain: iol.unh.edu
Date: Thu, 25 Apr 2024 04:33:02 -0700 (PDT)
Message-ID: <662a3f6e.170a0220.582ef.b149SMTPIN_ADDED_MISSING@mx.google.com>
Received: from [172.21.0.6] (unknown [172.18.0.240])
 by postal.iol.unh.edu (Postfix) with ESMTP id 303DF6052514;
 Thu, 25 Apr 2024 07:33:01 -0400 (EDT)
Subject: |SUCCESS| pw139668-139669 [PATCH] [v2,2/2] deque: add unit tests for
From: dpdklab@iol.unh.edu
To: Test Report <test-report@dpdk.org>
Cc: dpdk-test-reports@iol.unh.edu
In-Reply-To: <20240424134233.1336370-3-aditya.ambadipudi@arm.com>
References: <20240424134233.1336370-3-aditya.ambadipudi@arm.com>
Content-Type: text/plain
X-BeenThere: test-report@dpdk.org
X-Mailman-Version: 2.1.29
Precedence: list
List-Id: automatic DPDK test reports <test-report.dpdk.org>
List-Unsubscribe: <https://mails.dpdk.org/options/test-report>,
 <mailto:test-report-request@dpdk.org?subject=unsubscribe>
List-Archive: <http://mails.dpdk.org/archives/test-report/>
List-Post: <mailto:test-report@dpdk.org>
List-Help: <mailto:test-report-request@dpdk.org?subject=help>
List-Subscribe: <https://mails.dpdk.org/listinfo/test-report>,
 <mailto:test-report-request@dpdk.org?subject=subscribe>
Errors-To: test-report-bounces@dpdk.org

Test-Label: iol-abi-testing
Test-Status: SUCCESS
http://dpdk.org/patch/139669

_Testing PASS_

Submitter: Aditya Ambadipudi <aditya.ambadipudi@arm.com>
Date: Wednesday, April 24 2024 13:42:33 
DPDK git baseline: Repo:dpdk
  Branch: master
  CommitID:7e06c0de1952d3109a5b0c4779d7e7d8059c9d78

139668-139669 --> testing pass

Test environment and result as below:

+------------------+----------+
|   Environment    | abi_test |
+==================+==========+
| CentOS Stream 9  | PASS     |
+------------------+----------+
| Debian Bullseye  | PASS     |
+------------------+----------+
| Debian 12        | PASS     |
+------------------+----------+
| Fedora 38        | PASS     |
+------------------+----------+
| Fedora 37        | PASS     |
+------------------+----------+
| Fedora 39        | PASS     |
+------------------+----------+
| CentOS Stream 8  | PASS     |
+------------------+----------+
| openSUSE Leap 15 | PASS     |
+------------------+----------+
| Ubuntu 22.04     | PASS     |
+------------------+----------+
| RHEL8            | PASS     |
+------------------+----------+


CentOS Stream 9
	Kernel: 5.4.0-167-generic
	Compiler: gcc 11.4.1 20230605

Debian Bullseye
	Kernel: 5.4.0-167-generic
	Compiler: gcc 10.2.1-6

Debian 12
	Kernel: Container Host Kernel
	Compiler: gcc 10.2.1

Fedora 38
	Kernel: Depends on container host
	Compiler: clang 16.0.6

Fedora 37
	Kernel: Depends on container host system
	Compiler: gcc 12.3.1

Fedora 39
	Kernel: Depends on container host
	Compiler: gcc 13.2.1

CentOS Stream 8
	Kernel: 5.4.0-167-generic
	Compiler: gcc 8.5.0 20210514

openSUSE Leap 15
	Kernel: 5.4.0-167-generic
	Compiler: gcc 7.5.0

Ubuntu 22.04
	Kernel: 5.4.0-167-generic
	Compiler: gcc 11.4.0

RHEL8
	Kernel: 5.4.0-167-generic
	Compiler: gcc 8.5.0 20210514 (Red Hat 8.5.0-20)

To view detailed results, visit:
https://lab.dpdk.org/results/dashboard/patchsets/29850/

UNH-IOL DPDK Community Lab

To manage your email subscriptions, visit: 
https://lab.dpdk.org/results/dashboard/preferences/subscriptions/