From mboxrd@z Thu Jan  1 00:00:00 1970
Return-Path: <test-report-bounces@dpdk.org>
Received: from mails.dpdk.org (mails.dpdk.org [217.70.189.124])
	by inbox.dpdk.org (Postfix) with ESMTP id 6512E43DD5
	for <public@inbox.dpdk.org>; Thu, 25 Apr 2024 13:33:19 +0200 (CEST)
Received: from mails.dpdk.org (localhost [127.0.0.1])
	by mails.dpdk.org (Postfix) with ESMTP id 602B3435F4;
	Thu, 25 Apr 2024 13:33:19 +0200 (CEST)
Received: from mail-il1-f227.google.com (mail-il1-f227.google.com
 [209.85.166.227])
 by mails.dpdk.org (Postfix) with ESMTP id 42D5740284
 for <test-report@dpdk.org>; Thu, 25 Apr 2024 13:33:18 +0200 (CEST)
Received: by mail-il1-f227.google.com with SMTP id
 e9e14a558f8ab-36c191991e2so3963045ab.0
 for <test-report@dpdk.org>; Thu, 25 Apr 2024 04:33:18 -0700 (PDT)
DKIM-Signature: v=1; a=rsa-sha256; c=relaxed/relaxed;
 d=iol.unh.edu; s=unh-iol; t=1714044797; x=1714649597; darn=dpdk.org;
 h=references:in-reply-to:cc:to:from:subject:message-id:date:from:to
 :cc:subject:date:message-id:reply-to;
 bh=NPQ4L0sS2sndjECBOvMfmWNjwpjSYtBk5YFQoxwxQCk=;
 b=ixoB05sdqdWVL6q4ulMSxPj3OxOZSMA6vvwGIhrXdBu7jgbHjg8Zwy/9BrriA2kM+D
 XNUix+7Oq+VsxwiRZVKPKbWxjXU90UtVOQRJy/+CgOQL4ZZ6jdUj/1SxrLXXyZW1LZ7u
 rV5QaW3VJE6q5jHRJWTgXql8mElMqNLkmnLLo=
X-Google-DKIM-Signature: v=1; a=rsa-sha256; c=relaxed/relaxed;
 d=1e100.net; s=20230601; t=1714044797; x=1714649597;
 h=references:in-reply-to:cc:to:from:subject:message-id:date
 :x-gm-message-state:from:to:cc:subject:date:message-id:reply-to;
 bh=NPQ4L0sS2sndjECBOvMfmWNjwpjSYtBk5YFQoxwxQCk=;
 b=DxVWA21JSIkrKNYyNy/Qfmg5Q9FEJS8Fwagq8inTgFe56mi/2aaAWtyPl88J3p51ST
 8IELmp7q187CQlNtd5DmdSC4L8Z7QtkHoPYdmCXrY/mBCBAn/WF6nL9pgQSb3nUsQLar
 1i4cBkqDqRSbmrXA00SpVVfcrpCOCbiNbm4jvj6AA0nKzRfYFUAL1xxAF51LreM2r5uF
 ifwzZcJdYR3zUwlcRy0OK8a+MHmakHw3+xzZBVFhQgLjaZBKfFjmcsR2CpSCPhm/eRLe
 beGH8rkaIsVeIfuY8Tv/d8R9ZdqmbevfxYwiz4nGugpO/hxqHxNIrlZNzvSyYmqmTiFE
 Wq0A==
X-Gm-Message-State: AOJu0YxiftK0EvYSosfq1hAtZZfmwTuEA5z54vDGHXp0fTgUL+VjetHx
 In8jhtIPprLkxjkRguq16ehooO1om2+EXMGUod/mKfIGoQcRikNAbWL4HkWxl5BQkow54ME0LMD
 KN0J5PPLigMcMO1IMcYeubYvxVM+wVLoYhimfKGD2
X-Google-Smtp-Source: AGHT+IEyTJIWtjEIUnw7Jvq7Zk1s0M60wi2a1jdP926CJeqcpeo04Z/IF3MGuP8t7cDyPZ9eowZFM+9MZ+Aq
X-Received: by 2002:a05:6e02:156e:b0:36a:1e27:1708 with SMTP id
 k14-20020a056e02156e00b0036a1e271708mr6408462ilu.25.1714044797675; 
 Thu, 25 Apr 2024 04:33:17 -0700 (PDT)
Received: from postal.iol.unh.edu (postal.iol.unh.edu. [132.177.123.84])
 by smtp-relay.gmail.com with ESMTPS id
 v5-20020a056e02164500b0036a38310394sm835692ilu.60.2024.04.25.04.33.17
 (version=TLS1_2 cipher=ECDHE-ECDSA-AES128-GCM-SHA256 bits=128/128);
 Thu, 25 Apr 2024 04:33:17 -0700 (PDT)
X-Relaying-Domain: iol.unh.edu
Date: Thu, 25 Apr 2024 04:33:17 -0700 (PDT)
Message-ID: <662a3f7d.050a0220.1dc33.6e3bSMTPIN_ADDED_MISSING@mx.google.com>
Received: from [172.21.0.6] (unknown [172.18.0.240])
 by postal.iol.unh.edu (Postfix) with ESMTP id 3586C6052514;
 Thu, 25 Apr 2024 07:33:17 -0400 (EDT)
Subject: |SUCCESS| pw139676-139677 [PATCH] [RFC,v2,6/6] eal: add unit tests f
From: dpdklab@iol.unh.edu
To: Test Report <test-report@dpdk.org>
Cc: dpdk-test-reports@iol.unh.edu
In-Reply-To: <20240425085853.97888-7-mattias.ronnblom@ericsson.com>
References: <20240425085853.97888-7-mattias.ronnblom@ericsson.com>
Content-Type: text/plain
X-BeenThere: test-report@dpdk.org
X-Mailman-Version: 2.1.29
Precedence: list
List-Id: automatic DPDK test reports <test-report.dpdk.org>
List-Unsubscribe: <https://mails.dpdk.org/options/test-report>,
 <mailto:test-report-request@dpdk.org?subject=unsubscribe>
List-Archive: <http://mails.dpdk.org/archives/test-report/>
List-Post: <mailto:test-report@dpdk.org>
List-Help: <mailto:test-report-request@dpdk.org?subject=help>
List-Subscribe: <https://mails.dpdk.org/listinfo/test-report>,
 <mailto:test-report-request@dpdk.org?subject=subscribe>
Errors-To: test-report-bounces@dpdk.org

Test-Label: iol-unit-arm64-testing
Test-Status: SUCCESS
http://dpdk.org/patch/139677

_Testing PASS_

Submitter: Mattias Ronnblom <mattias.ronnblom@ericsson.com>
Date: Thursday, April 25 2024 08:58:53 
DPDK git baseline: Repo:dpdk
  Branch: master
  CommitID:7e06c0de1952d3109a5b0c4779d7e7d8059c9d78

139676-139677 --> testing pass

Test environment and result as below:

+-----------------------------+------------------------------+----------------+--------------+---------------------------+
|         Environment         | cryptodev_sw_snow3g_autotest | dpdk_unit_test | lpm_autotest | cryptodev_sw_zuc_autotest |
+=============================+==============================+================+==============+===========================+
| Debian 12 (arm)             | PASS                         | PASS           | SKIPPED      | PASS                      |
+-----------------------------+------------------------------+----------------+--------------+---------------------------+
| 32-bit Ubuntu 20.04.4 (ARM) | SKIPPED                      | PASS           | SKIPPED      | SKIPPED                   |
+-----------------------------+------------------------------+----------------+--------------+---------------------------+
| Debian 11 (Buster) (ARM)    | SKIPPED                      | PASS           | SKIPPED      | SKIPPED                   |
+-----------------------------+------------------------------+----------------+--------------+---------------------------+
| CentOS Stream 9 (ARM)       | SKIPPED                      | PASS           | SKIPPED      | SKIPPED                   |
+-----------------------------+------------------------------+----------------+--------------+---------------------------+
| Fedora 38 (ARM)             | SKIPPED                      | PASS           | SKIPPED      | SKIPPED                   |
+-----------------------------+------------------------------+----------------+--------------+---------------------------+
| Ubuntu 20.04 (ARM)          | SKIPPED                      | PASS           | SKIPPED      | SKIPPED                   |
+-----------------------------+------------------------------+----------------+--------------+---------------------------+
| Fedora 39 (ARM)             | SKIPPED                      | PASS           | SKIPPED      | SKIPPED                   |
+-----------------------------+------------------------------+----------------+--------------+---------------------------+
| Ubuntu 20.04 ARM SVE        | SKIPPED                      | SKIPPED        | PASS         | SKIPPED                   |
+-----------------------------+------------------------------+----------------+--------------+---------------------------+


Debian 12 (arm)
	Kernel: Container Host Kernel
	Compiler: gcc 12.2.0

32-bit Ubuntu 20.04.4 (ARM)
	Kernel: 5.4.0-155-generic aarch64
	Compiler: gcc 9.4

Debian 11 (Buster) (ARM)
	Kernel: Container Host Kernel
	Compiler: gcc 10.2.1

CentOS Stream 9 (ARM)
	Kernel: Container Host Kernel
	Compiler: gcc 11.4.1

Fedora 38 (ARM)
	Kernel: Depends on container host
	Compiler: gcc 13.2.1

Ubuntu 20.04 (ARM)
	Kernel: Container Host Kernel
	Compiler: gcc 9.4.0

Fedora 39 (ARM)
	Kernel: Depends on container host
	Compiler: gcc 13.2.1

Ubuntu 20.04 ARM SVE
	Kernel: 5.4.0-167-generic
	Compiler: gcc (Ubuntu 10.5.0-1ubuntu1~20.04) 10.5.0

To view detailed results, visit:
https://lab.dpdk.org/results/dashboard/patchsets/29853/

UNH-IOL DPDK Community Lab

To manage your email subscriptions, visit: 
https://lab.dpdk.org/results/dashboard/preferences/subscriptions/