From mboxrd@z Thu Jan  1 00:00:00 1970
Return-Path: <test-report-bounces@dpdk.org>
Received: from mails.dpdk.org (mails.dpdk.org [217.70.189.124])
	by inbox.dpdk.org (Postfix) with ESMTP id 0804843DD5
	for <public@inbox.dpdk.org>; Thu, 25 Apr 2024 13:39:25 +0200 (CEST)
Received: from mails.dpdk.org (localhost [127.0.0.1])
	by mails.dpdk.org (Postfix) with ESMTP id 020DA435F4;
	Thu, 25 Apr 2024 13:39:25 +0200 (CEST)
Received: from mail-ot1-f97.google.com (mail-ot1-f97.google.com
 [209.85.210.97]) by mails.dpdk.org (Postfix) with ESMTP id 2EC4540284
 for <test-report@dpdk.org>; Thu, 25 Apr 2024 13:39:23 +0200 (CEST)
Received: by mail-ot1-f97.google.com with SMTP id
 46e09a7af769-6eb748a3490so501760a34.1
 for <test-report@dpdk.org>; Thu, 25 Apr 2024 04:39:23 -0700 (PDT)
DKIM-Signature: v=1; a=rsa-sha256; c=relaxed/relaxed;
 d=iol.unh.edu; s=unh-iol; t=1714045162; x=1714649962; darn=dpdk.org;
 h=references:in-reply-to:cc:to:from:subject:message-id:date:from:to
 :cc:subject:date:message-id:reply-to;
 bh=ry1ugyuTIiQKcj96m4/J+AiLDr1F/ZNlpZ0jK1/69SI=;
 b=OLB8d7tob6twePNMEIbjsgLbaZliP8AEzPrOiVOCd0t2NvJgMNyX+S0eCZu/qlDiqa
 ydXqnlU9kuFt+pVjJSJ1uR7IP95seOA7j63W4wQ03PboKnV4jDSsiSGCvTq4Hjs+PFa+
 HYSv4YbiPveSYmiwgwYU9VGFNI6wMNlHfIskg=
X-Google-DKIM-Signature: v=1; a=rsa-sha256; c=relaxed/relaxed;
 d=1e100.net; s=20230601; t=1714045162; x=1714649962;
 h=references:in-reply-to:cc:to:from:subject:message-id:date
 :x-gm-message-state:from:to:cc:subject:date:message-id:reply-to;
 bh=ry1ugyuTIiQKcj96m4/J+AiLDr1F/ZNlpZ0jK1/69SI=;
 b=ocZQgf4sivRvEu0b1Q/nnRECbFy3pN9dLl4vghatOxh2BJ7O9S7K3SWmqR+kZc7o1K
 kqqX7ToQX7rz2idUlhrQRLyTOXWhpT2S2JHsgH6M3/ZY0zr255d+OGbFHfpibE23zdlj
 4DuHDBV8ZnBriR0PW7GqLlCE9wexAW9ZQi6gzUM5CE4vQoRnK7XsGFHRw6jn2dCWKNE4
 kB0WI9qnkFtGTZPNGMe1pl5FlqpzokMKPA/g9yuHacvY/1k0tY0JVz/ib8BynhFR+3Me
 BS/GeiWLTAgRMSjrG7qbYER8Z/Uk0BSHL3CkH8OwltSon+pPgvKm61MpzCw6Vf/BlMMq
 0ghw==
X-Gm-Message-State: AOJu0YxQdB83NLwbeJKzxhBoWZkSUDiSXpm48XhxKepd1GVpcpzdd/Sc
 /jEoEYoAxm2TrsMJ58irZ+yc7k/hmKrOI0aDYqpTrJjYgNkE0LdaQ1TLRpSy6RchrSMgRcFlh6B
 J69hNK8UWpqfkCM0DAJk8zk32HfvrlQSkSGmCrzoF7Kk0ZYzzDsRQ+N/8
X-Google-Smtp-Source: AGHT+IF8b+GrB+L+bHgHpUNRdeKzYccU8gUAZkPn8hxcfFVLZuzVFHblrChCQXamntTV1BDdFbhF75GFYf31
X-Received: by 2002:a05:6830:3d07:b0:6eb:7d54:3584 with SMTP id
 eu7-20020a0568303d0700b006eb7d543584mr5775804otb.18.1714045162581; 
 Thu, 25 Apr 2024 04:39:22 -0700 (PDT)
Received: from postal.iol.unh.edu (postal.iol.unh.edu.
 [2606:4100:3880:1234::84]) by smtp-relay.gmail.com with ESMTPS id
 q40-20020a056830442800b006ebca55467fsm679662otv.7.2024.04.25.04.39.22
 (version=TLS1_2 cipher=ECDHE-ECDSA-AES128-GCM-SHA256 bits=128/128);
 Thu, 25 Apr 2024 04:39:22 -0700 (PDT)
X-Relaying-Domain: iol.unh.edu
Date: Thu, 25 Apr 2024 04:39:22 -0700 (PDT)
Message-ID: <662a40ea.050a0220.55a81.e6f5SMTPIN_ADDED_MISSING@mx.google.com>
Received: from [172.21.0.6] (unknown [172.18.0.240])
 by postal.iol.unh.edu (Postfix) with ESMTP id A617C6052514;
 Thu, 25 Apr 2024 07:39:21 -0400 (EDT)
Subject: |SUCCESS| pw139668-139669 [PATCH] [v2,2/2] deque: add unit tests for
From: dpdklab@iol.unh.edu
To: Test Report <test-report@dpdk.org>
Cc: dpdk-test-reports@iol.unh.edu
In-Reply-To: <20240424134233.1336370-3-aditya.ambadipudi@arm.com>
References: <20240424134233.1336370-3-aditya.ambadipudi@arm.com>
Content-Type: text/plain
X-BeenThere: test-report@dpdk.org
X-Mailman-Version: 2.1.29
Precedence: list
List-Id: automatic DPDK test reports <test-report.dpdk.org>
List-Unsubscribe: <https://mails.dpdk.org/options/test-report>,
 <mailto:test-report-request@dpdk.org?subject=unsubscribe>
List-Archive: <http://mails.dpdk.org/archives/test-report/>
List-Post: <mailto:test-report@dpdk.org>
List-Help: <mailto:test-report-request@dpdk.org?subject=help>
List-Subscribe: <https://mails.dpdk.org/listinfo/test-report>,
 <mailto:test-report-request@dpdk.org?subject=subscribe>
Errors-To: test-report-bounces@dpdk.org

Test-Label: iol-unit-arm64-testing
Test-Status: SUCCESS
http://dpdk.org/patch/139669

_Testing PASS_

Submitter: Aditya Ambadipudi <aditya.ambadipudi@arm.com>
Date: Wednesday, April 24 2024 13:42:33 
DPDK git baseline: Repo:dpdk
  Branch: master
  CommitID:7e06c0de1952d3109a5b0c4779d7e7d8059c9d78

139668-139669 --> testing pass

Test environment and result as below:

+-----------------------------+----------------+
|         Environment         | dpdk_unit_test |
+=============================+================+
| 32-bit Ubuntu 20.04.4 (ARM) | PASS           |
+-----------------------------+----------------+
| Fedora 37 (ARM)             | PASS           |
+-----------------------------+----------------+
| CentOS Stream 9 (ARM)       | PASS           |
+-----------------------------+----------------+


32-bit Ubuntu 20.04.4 (ARM)
	Kernel: 5.4.0-155-generic aarch64
	Compiler: gcc 9.4

Fedora 37 (ARM)
	Kernel: Depends on container host
	Compiler: gcc 12.3.1

CentOS Stream 9 (ARM)
	Kernel: Container Host Kernel
	Compiler: gcc 11.4.1

To view detailed results, visit:
https://lab.dpdk.org/results/dashboard/patchsets/29850/

UNH-IOL DPDK Community Lab

To manage your email subscriptions, visit: 
https://lab.dpdk.org/results/dashboard/preferences/subscriptions/