From mboxrd@z Thu Jan  1 00:00:00 1970
Return-Path: <test-report-bounces@dpdk.org>
Received: from mails.dpdk.org (mails.dpdk.org [217.70.189.124])
	by inbox.dpdk.org (Postfix) with ESMTP id 0835E43F01
	for <public@inbox.dpdk.org>; Thu, 25 Apr 2024 14:05:16 +0200 (CEST)
Received: from mails.dpdk.org (localhost [127.0.0.1])
	by mails.dpdk.org (Postfix) with ESMTP id 03950437A5;
	Thu, 25 Apr 2024 14:05:16 +0200 (CEST)
Received: from mail-io1-f100.google.com (mail-io1-f100.google.com
 [209.85.166.100])
 by mails.dpdk.org (Postfix) with ESMTP id D988240284
 for <test-report@dpdk.org>; Thu, 25 Apr 2024 14:04:58 +0200 (CEST)
Received: by mail-io1-f100.google.com with SMTP id
 ca18e2360f4ac-7da68b46b0dso33737039f.1
 for <test-report@dpdk.org>; Thu, 25 Apr 2024 05:04:58 -0700 (PDT)
DKIM-Signature: v=1; a=rsa-sha256; c=relaxed/relaxed;
 d=iol.unh.edu; s=unh-iol; t=1714046698; x=1714651498; darn=dpdk.org;
 h=references:in-reply-to:cc:to:from:subject:message-id:date:from:to
 :cc:subject:date:message-id:reply-to;
 bh=9EG+0k9Zoi3VgLnmf29VXabA9JyDEjXDA2S6iezNels=;
 b=RMMj3cJ6WhiTsKIrwh7MOeM67i+eNKkwC2HPq/9nhDk5TdtcUuB2oD8Ngy0Miws2uC
 pzArzksqlIiZWbm0ptso1fZD8Vper1K4pXE37V5Qf/I5MF+NkSbwf7aEyc3gEtvybSaP
 nYZjkAHk3sZBSBt99grxgH4tLPwscY1wTEc4o=
X-Google-DKIM-Signature: v=1; a=rsa-sha256; c=relaxed/relaxed;
 d=1e100.net; s=20230601; t=1714046698; x=1714651498;
 h=references:in-reply-to:cc:to:from:subject:message-id:date
 :x-gm-message-state:from:to:cc:subject:date:message-id:reply-to;
 bh=9EG+0k9Zoi3VgLnmf29VXabA9JyDEjXDA2S6iezNels=;
 b=YnNvKnqC6pIsggepN9n+IBUAREboM59bnokDaoahT8u1MvbXwNQiJuSKaPW7Ga37u9
 sSy6D+J9dnFQaIILMvA2voML72OBr1+3UyH29//EmiOx329lfhoucx6Vuge9HcAmRzHB
 D7rEASo/4IoJst+Xmn/U6WcDMfUJshd0b9Ko/3UInpblW4j8/XkNltwodninjCWb41Dj
 6UG3p4oZ3sZMJZ5g9dG05w8Bb1F+oCcFG8hoxBGvGUGmU9s1S83wsbgFlz/dQvtTjAMs
 ON3oGhUjksC3lGL8PhCsOF7QNknOIo0JV7f7mUi0yc+YkAHJ5uWkrmSHfeaHphUfgYmD
 kZ5w==
X-Gm-Message-State: AOJu0YzK38gk9zAnTC1xSRNTgzq8wcOJqqa3I3/e834/CODKjOkHze/n
 uTg1PjvXeCuyOaYIIOl9xXSySJrND7aH3XZVBgSNPYieLp1yJavlBm/riEANWuZCIlwWsXHPrB+
 rKzoqkj6qxFdvAe7XFctkDQwVw24y53PRWsV9A73e
X-Google-Smtp-Source: AGHT+IGe9aP9dPudJOx61J9k8E4UBn8GeABjkSHDGu6Oqb15hFbcKB6VNiPPcpmgAnhw4xCqHGS/TKy2P4Tq
X-Received: by 2002:a05:6e02:13a3:b0:36c:f0b:4f55 with SMTP id
 h3-20020a056e0213a300b0036c0f0b4f55mr6736429ilo.26.1714046698282; 
 Thu, 25 Apr 2024 05:04:58 -0700 (PDT)
Received: from postal.iol.unh.edu (postal.iol.unh.edu. [132.177.123.84])
 by smtp-relay.gmail.com with ESMTPS id
 k6-20020a056e021a8600b0036b15a68c4dsm865492ilv.53.2024.04.25.05.04.58
 (version=TLS1_2 cipher=ECDHE-ECDSA-AES128-GCM-SHA256 bits=128/128);
 Thu, 25 Apr 2024 05:04:58 -0700 (PDT)
X-Relaying-Domain: iol.unh.edu
Date: Thu, 25 Apr 2024 05:04:58 -0700 (PDT)
Message-ID: <662a46ea.050a0220.d1f1f.b724SMTPIN_ADDED_MISSING@mx.google.com>
Received: from [172.21.0.8] (unknown [172.18.0.240])
 by postal.iol.unh.edu (Postfix) with ESMTP id C67676052514;
 Thu, 25 Apr 2024 08:04:57 -0400 (EDT)
Subject: |SUCCESS| pw139668-139669 [PATCH] [v2,2/2] deque: add unit tests for
From: dpdklab@iol.unh.edu
To: Test Report <test-report@dpdk.org>
Cc: dpdk-test-reports@iol.unh.edu
In-Reply-To: <20240424134233.1336370-3-aditya.ambadipudi@arm.com>
References: <20240424134233.1336370-3-aditya.ambadipudi@arm.com>
Content-Type: text/plain
X-BeenThere: test-report@dpdk.org
X-Mailman-Version: 2.1.29
Precedence: list
List-Id: automatic DPDK test reports <test-report.dpdk.org>
List-Unsubscribe: <https://mails.dpdk.org/options/test-report>,
 <mailto:test-report-request@dpdk.org?subject=unsubscribe>
List-Archive: <http://mails.dpdk.org/archives/test-report/>
List-Post: <mailto:test-report@dpdk.org>
List-Help: <mailto:test-report-request@dpdk.org?subject=help>
List-Subscribe: <https://mails.dpdk.org/listinfo/test-report>,
 <mailto:test-report-request@dpdk.org?subject=subscribe>
Errors-To: test-report-bounces@dpdk.org

Test-Label: iol-unit-arm64-testing
Test-Status: SUCCESS
http://dpdk.org/patch/139669

_Testing PASS_

Submitter: Aditya Ambadipudi <aditya.ambadipudi@arm.com>
Date: Wednesday, April 24 2024 13:42:33 
DPDK git baseline: Repo:dpdk
  Branch: master
  CommitID:7e06c0de1952d3109a5b0c4779d7e7d8059c9d78

139668-139669 --> testing pass

Test environment and result as below:

+-----------------------------+----------------+--------------+
|         Environment         | dpdk_unit_test | lpm_autotest |
+=============================+================+==============+
| 32-bit Ubuntu 20.04.4 (ARM) | PASS           | SKIPPED      |
+-----------------------------+----------------+--------------+
| Fedora 37 (ARM)             | PASS           | SKIPPED      |
+-----------------------------+----------------+--------------+
| CentOS Stream 9 (ARM)       | PASS           | SKIPPED      |
+-----------------------------+----------------+--------------+
| Debian 12 (arm)             | PASS           | SKIPPED      |
+-----------------------------+----------------+--------------+
| Fedora 38 (ARM)             | PASS           | SKIPPED      |
+-----------------------------+----------------+--------------+
| Debian 11 (Buster) (ARM)    | PASS           | SKIPPED      |
+-----------------------------+----------------+--------------+
| Fedora 39 (ARM)             | PASS           | SKIPPED      |
+-----------------------------+----------------+--------------+
| Ubuntu 20.04 ARM SVE        | SKIPPED        | PASS         |
+-----------------------------+----------------+--------------+


32-bit Ubuntu 20.04.4 (ARM)
	Kernel: 5.4.0-155-generic aarch64
	Compiler: gcc 9.4

Fedora 37 (ARM)
	Kernel: Depends on container host
	Compiler: gcc 12.3.1

CentOS Stream 9 (ARM)
	Kernel: Container Host Kernel
	Compiler: gcc 11.4.1

Debian 12 (arm)
	Kernel: Container Host Kernel
	Compiler: gcc 12.2.0

Fedora 38 (ARM)
	Kernel: Depends on container host
	Compiler: gcc 13.2.1

Debian 11 (Buster) (ARM)
	Kernel: Container Host Kernel
	Compiler: gcc 10.2.1

Fedora 39 (ARM)
	Kernel: Depends on container host
	Compiler: gcc 13.2.1

Ubuntu 20.04 ARM SVE
	Kernel: 5.4.0-167-generic
	Compiler: gcc (Ubuntu 10.5.0-1ubuntu1~20.04) 10.5.0

To view detailed results, visit:
https://lab.dpdk.org/results/dashboard/patchsets/29850/

UNH-IOL DPDK Community Lab

To manage your email subscriptions, visit: 
https://lab.dpdk.org/results/dashboard/preferences/subscriptions/