From mboxrd@z Thu Jan  1 00:00:00 1970
Return-Path: <test-report-bounces@dpdk.org>
Received: from mails.dpdk.org (mails.dpdk.org [217.70.189.124])
	by inbox.dpdk.org (Postfix) with ESMTP id CBC0E43F01
	for <public@inbox.dpdk.org>; Thu, 25 Apr 2024 14:18:38 +0200 (CEST)
Received: from mails.dpdk.org (localhost [127.0.0.1])
	by mails.dpdk.org (Postfix) with ESMTP id C77BD435F4;
	Thu, 25 Apr 2024 14:18:38 +0200 (CEST)
Received: from mail-yw1-f225.google.com (mail-yw1-f225.google.com
 [209.85.128.225])
 by mails.dpdk.org (Postfix) with ESMTP id 468AB40284
 for <test-report@dpdk.org>; Thu, 25 Apr 2024 14:18:37 +0200 (CEST)
Received: by mail-yw1-f225.google.com with SMTP id
 00721157ae682-6184acc1ef3so8701067b3.0
 for <test-report@dpdk.org>; Thu, 25 Apr 2024 05:18:37 -0700 (PDT)
DKIM-Signature: v=1; a=rsa-sha256; c=relaxed/relaxed;
 d=iol.unh.edu; s=unh-iol; t=1714047516; x=1714652316; darn=dpdk.org;
 h=references:in-reply-to:cc:to:from:subject:message-id:date:from:to
 :cc:subject:date:message-id:reply-to;
 bh=CMrpBl+GZo3GdsX4DTNa4gj8kYzAVb4mVLVuV4VnRoo=;
 b=NACpwTwfiUJb7FrQvXD8raRsNyX+Wox7eXE+a6yAshbXSCPqaDhWNac+FS3WxeC5kL
 Q8ZSAMSNRWOWsVsTVzkf9HT1uuCYLV2vy/vi6EEEcRVrVrf6o5yL4ozheRaeWECXijTQ
 sLPLFIKH6VtfQrIyI30I7NzeosGjWSM4lAFnE=
X-Google-DKIM-Signature: v=1; a=rsa-sha256; c=relaxed/relaxed;
 d=1e100.net; s=20230601; t=1714047516; x=1714652316;
 h=references:in-reply-to:cc:to:from:subject:message-id:date
 :x-gm-message-state:from:to:cc:subject:date:message-id:reply-to;
 bh=CMrpBl+GZo3GdsX4DTNa4gj8kYzAVb4mVLVuV4VnRoo=;
 b=ooJncW7Maw3Wg+U/C05qbBdaA94TeuVCxJVevWt/2KVvAZapFq0VTan4XjL5sI+5n1
 NhrWSH1A/wR7Sx59v8aM98QG2cGuH+KTioqvjWM3EoXoeeMchghxe7ImeXb7p7LJPH5k
 Mq8Z4OcPSA39n9PiMgr/huNKgJINiNgIVmfWCQ6Y3vYZgxDGplYKKNiD40zpcgim4qqd
 Dqu2uu4OOCAYuJkpoHyAr3AJS/mgQ9yypmuKlMa2+yvwjnzQ1aSOrfo1e2b9ntS3L/wW
 1FhAreYRcRgkwHh3cBmEGPGipPykWAIzBEZ+OrUD2xBuFJNECefWhzUKqg7U4+qODjZY
 rtXw==
X-Gm-Message-State: AOJu0YwiGh1ILdAjGyhu2tQ43m64VeQdZ9IaXbMprmenDRnEY5TeXq60
 qmDv6elgjhezCYvbSrk0AQzQElw2WcZc6Mkq7ZctqDjeDbmVoDAhBIyAPmmM7OVniMnJvXHXP4t
 OpV6doQQ76EffTiqYAc+5aHgaCO1wfICc/CdYKJMlGgkFBy+4qPm/UHra
X-Google-Smtp-Source: AGHT+IG+MOIGNN317xsLfCixrnR9Br+ZcMezVUNThsbwIcW/vZsvJ46VWdMCLT+DbT2gkqPERp5sXFaIZJUp
X-Received: by 2002:a05:690c:c1d:b0:61a:db67:b84f with SMTP id
 cl29-20020a05690c0c1d00b0061adb67b84fmr6762384ywb.27.1714047516564; 
 Thu, 25 Apr 2024 05:18:36 -0700 (PDT)
Received: from postal.iol.unh.edu (postal.iol.unh.edu.
 [2606:4100:3880:1234::84]) by smtp-relay.gmail.com with ESMTPS id
 db20-20020a05690c0dd400b0061b32fc73d1sm678987ywb.7.2024.04.25.05.18.36
 (version=TLS1_2 cipher=ECDHE-ECDSA-AES128-GCM-SHA256 bits=128/128);
 Thu, 25 Apr 2024 05:18:36 -0700 (PDT)
X-Relaying-Domain: iol.unh.edu
Date: Thu, 25 Apr 2024 05:18:36 -0700 (PDT)
Message-ID: <662a4a1c.050a0220.32279.9a5eSMTPIN_ADDED_MISSING@mx.google.com>
Received: from [172.21.0.6] (unknown [172.18.0.240])
 by postal.iol.unh.edu (Postfix) with ESMTP id 468D96052514;
 Thu, 25 Apr 2024 08:18:36 -0400 (EDT)
Subject: |SUCCESS| pw139671 [PATCH] [v2] eal/linux: enhanced error handling f
From: dpdklab@iol.unh.edu
To: Test Report <test-report@dpdk.org>
Cc: dpdk-test-reports@iol.unh.edu
In-Reply-To: <20240423052018.81334-1-wujianyue000@163.com>
References: <20240423052018.81334-1-wujianyue000@163.com>
Content-Type: text/plain
X-BeenThere: test-report@dpdk.org
X-Mailman-Version: 2.1.29
Precedence: list
List-Id: automatic DPDK test reports <test-report.dpdk.org>
List-Unsubscribe: <https://mails.dpdk.org/options/test-report>,
 <mailto:test-report-request@dpdk.org?subject=unsubscribe>
List-Archive: <http://mails.dpdk.org/archives/test-report/>
List-Post: <mailto:test-report@dpdk.org>
List-Help: <mailto:test-report-request@dpdk.org?subject=help>
List-Subscribe: <https://mails.dpdk.org/listinfo/test-report>,
 <mailto:test-report-request@dpdk.org?subject=subscribe>
Errors-To: test-report-bounces@dpdk.org

Test-Label: iol-unit-amd64-testing
Test-Status: SUCCESS
http://dpdk.org/patch/139671

_Testing PASS_

Submitter: Wu Jian Yue  <wujianyue000@163.com>
Date: Tuesday, April 23 2024 05:20:18 
DPDK git baseline: Repo:dpdk
  Branch: master
  CommitID:7e06c0de1952d3109a5b0c4779d7e7d8059c9d78

139671 --> testing pass

Test environment and result as below:

+---------------------+----------------+
|     Environment     | dpdk_unit_test |
+=====================+================+
| Windows Server 2019 | PASS           |
+---------------------+----------------+
| CentOS Stream 8     | PASS           |
+---------------------+----------------+
| CentOS Stream 9     | PASS           |
+---------------------+----------------+
| Debian Bullseye     | PASS           |
+---------------------+----------------+
| Fedora 38           | PASS           |
+---------------------+----------------+
| Fedora 37           | PASS           |
+---------------------+----------------+
| Debian 12           | PASS           |
+---------------------+----------------+
| Ubuntu 22.04        | PASS           |
+---------------------+----------------+
| Fedora 39           | PASS           |
+---------------------+----------------+


Windows Server 2019
	Kernel: 10.0.17763
	Compiler: clang 14.0 and gcc 8.1.0 (MinGW)

CentOS Stream 8
	Kernel: 5.4.0-167-generic
	Compiler: gcc 8.5.0 20210514

CentOS Stream 9
	Kernel: 5.4.0-167-generic
	Compiler: gcc 11.4.1 20230605

Debian Bullseye
	Kernel: 5.4.0-167-generic
	Compiler: gcc 10.2.1-6

Fedora 38
	Kernel: Depends on container host
	Compiler: gcc 13.2.1

Fedora 37
	Kernel: Depends on container host system
	Compiler: gcc 12.3.1

Debian 12
	Kernel: Container Host Kernel
	Compiler: gcc 10.2.1

Ubuntu 22.04
	Kernel: 5.4.0-167-generic
	Compiler: gcc 11.4.0

Fedora 39
	Kernel: Depends on container host
	Compiler: gcc 13.2.1

To view detailed results, visit:
https://lab.dpdk.org/results/dashboard/patchsets/29852/

UNH-IOL DPDK Community Lab

To manage your email subscriptions, visit: 
https://lab.dpdk.org/results/dashboard/preferences/subscriptions/