From mboxrd@z Thu Jan  1 00:00:00 1970
Return-Path: <test-report-bounces@dpdk.org>
Received: from mails.dpdk.org (mails.dpdk.org [217.70.189.124])
	by inbox.dpdk.org (Postfix) with ESMTP id 1547043F01
	for <public@inbox.dpdk.org>; Thu, 25 Apr 2024 14:36:51 +0200 (CEST)
Received: from mails.dpdk.org (localhost [127.0.0.1])
	by mails.dpdk.org (Postfix) with ESMTP id 0FA84435F4;
	Thu, 25 Apr 2024 14:36:51 +0200 (CEST)
Received: from mail-il1-f225.google.com (mail-il1-f225.google.com
 [209.85.166.225])
 by mails.dpdk.org (Postfix) with ESMTP id DCA6B40284
 for <test-report@dpdk.org>; Thu, 25 Apr 2024 14:36:49 +0200 (CEST)
Received: by mail-il1-f225.google.com with SMTP id
 e9e14a558f8ab-36c1a6362a4so4290135ab.2
 for <test-report@dpdk.org>; Thu, 25 Apr 2024 05:36:49 -0700 (PDT)
DKIM-Signature: v=1; a=rsa-sha256; c=relaxed/relaxed;
 d=iol.unh.edu; s=unh-iol; t=1714048609; x=1714653409; darn=dpdk.org;
 h=references:in-reply-to:cc:to:from:subject:message-id:date:from:to
 :cc:subject:date:message-id:reply-to;
 bh=zWo6/gRqiigaVrkGzKIVdqH7CbnhygOCIUIvJaBNEGI=;
 b=awHi3USrH8mpKvL9JYHfPBuYVRwJ1k4mFV/hhf9ULKGeJryeqzfLGfvxrhXVIdsDhA
 dr6eOgkq//DWTrA1qc/RB4+JPkYq+RHHn4bzFnMRaWZR/is31y4QZ3pqK/WtN/1lSKvc
 iOK7E6j9M2tcnLH5mS3rXjXc5tSFyKSvltPV4=
X-Google-DKIM-Signature: v=1; a=rsa-sha256; c=relaxed/relaxed;
 d=1e100.net; s=20230601; t=1714048609; x=1714653409;
 h=references:in-reply-to:cc:to:from:subject:message-id:date
 :x-gm-message-state:from:to:cc:subject:date:message-id:reply-to;
 bh=zWo6/gRqiigaVrkGzKIVdqH7CbnhygOCIUIvJaBNEGI=;
 b=ZO1bq8nVCgGcvWVq5ExbeW+p1ttbe7WFiO96GcW1/f1qvLc6ld1m5IdlWP8KCeJhp7
 6D24mjsikwmhbTPPhzkZqWt8QklOhEsnJ/hjmL2iTM8zIMSdsOVigAA14UBlkS/TrFP1
 38Jbifs3HvBOSPrNjYiJnxk7s1n4xbXCS4z3kR6Z5MIFo464UfO2tPltIU/GohIlpSQr
 M3Bn/C8H+qQkdFzGI0/p/Y2BMnhIX042UHGCn2ETzLSyQE+LNWXTi/SZZZewvhY2uELH
 ZcDM2iazPTYyhTwb3+iBpvu3a6lddPXuS83d5d0N0U/w+3S9LLxibCdarpIVYBr7dLCZ
 eXFw==
X-Gm-Message-State: AOJu0YzNNY284VWCdxr5CK2+rY2AdbdB15SydXLYOR1UsPpwN9D6XGuU
 M3wYSkfQNM1B9nRVp/P5cvtu2L1SGkOzEbowamkm4aTCFS6VgkDffbtDdrzhgpqqHcShH9gKbj6
 WaLAViBr1Lfh7vt7ixfFBwRN/6p+yJ9qihkZGWtu5
X-Google-Smtp-Source: AGHT+IFbYSF8waJvG/bJ53nrRrYLBxe+HHzFrg6fHWGe67WYeBn4YEVLUC0IZjJiPCZDqyzBOKFSjKMdOXJR
X-Received: by 2002:a05:6e02:1c27:b0:36c:dd8:63d2 with SMTP id
 m7-20020a056e021c2700b0036c0dd863d2mr6623246ilh.2.1714048609363; 
 Thu, 25 Apr 2024 05:36:49 -0700 (PDT)
Received: from postal.iol.unh.edu (postal.iol.unh.edu. [132.177.123.84])
 by smtp-relay.gmail.com with ESMTPS id
 h5-20020a056e0213a500b0036b246b3effsm844208ilo.7.2024.04.25.05.36.49
 (version=TLS1_2 cipher=ECDHE-ECDSA-AES128-GCM-SHA256 bits=128/128);
 Thu, 25 Apr 2024 05:36:49 -0700 (PDT)
X-Relaying-Domain: iol.unh.edu
Date: Thu, 25 Apr 2024 05:36:49 -0700 (PDT)
Message-ID: <662a4e61.050a0220.c5d08.9bb6SMTPIN_ADDED_MISSING@mx.google.com>
Received: from [172.21.0.7] (unknown [172.18.0.240])
 by postal.iol.unh.edu (Postfix) with ESMTP id 01BB16052514;
 Thu, 25 Apr 2024 08:36:49 -0400 (EDT)
Subject: |SUCCESS| pw139668-139669 [PATCH] [v2,2/2] deque: add unit tests for
From: dpdklab@iol.unh.edu
To: Test Report <test-report@dpdk.org>
Cc: dpdk-test-reports@iol.unh.edu
In-Reply-To: <20240424134233.1336370-3-aditya.ambadipudi@arm.com>
References: <20240424134233.1336370-3-aditya.ambadipudi@arm.com>
Content-Type: text/plain
X-BeenThere: test-report@dpdk.org
X-Mailman-Version: 2.1.29
Precedence: list
List-Id: automatic DPDK test reports <test-report.dpdk.org>
List-Unsubscribe: <https://mails.dpdk.org/options/test-report>,
 <mailto:test-report-request@dpdk.org?subject=unsubscribe>
List-Archive: <http://mails.dpdk.org/archives/test-report/>
List-Post: <mailto:test-report@dpdk.org>
List-Help: <mailto:test-report-request@dpdk.org?subject=help>
List-Subscribe: <https://mails.dpdk.org/listinfo/test-report>,
 <mailto:test-report-request@dpdk.org?subject=subscribe>
Errors-To: test-report-bounces@dpdk.org

Test-Label: iol-compile-arm64-testing
Test-Status: SUCCESS
http://dpdk.org/patch/139669

_Testing PASS_

Submitter: Aditya Ambadipudi <aditya.ambadipudi@arm.com>
Date: Wednesday, April 24 2024 13:42:33 
DPDK git baseline: Repo:dpdk
  Branch: master
  CommitID:7e06c0de1952d3109a5b0c4779d7e7d8059c9d78

139668-139669 --> testing pass

Test environment and result as below:

+----------------------------------------+--------------------+
|              Environment               | dpdk_meson_compile |
+========================================+====================+
| Ubuntu 20.04 ARM SVE                   | PASS               |
+----------------------------------------+--------------------+
| Fedora 38 (ARM)                        | PASS               |
+----------------------------------------+--------------------+
| Debian 12 with MUSDK                   | PASS               |
+----------------------------------------+--------------------+
| Fedora 37 (ARM)                        | PASS               |
+----------------------------------------+--------------------+
| Ubuntu 20.04 (ARM)                     | PASS               |
+----------------------------------------+--------------------+
| Debian 12 (arm)                        | PASS               |
+----------------------------------------+--------------------+
| Debian 11 (Buster) (ARM)               | PASS               |
+----------------------------------------+--------------------+
| CentOS Stream 9 (ARM)                  | PASS               |
+----------------------------------------+--------------------+
| Ubuntu 20.04 aarch32 GCC Cross Compile | PASS               |
+----------------------------------------+--------------------+
| Ubuntu 20.04 ARM Clang Cross Compile   | PASS               |
+----------------------------------------+--------------------+
| Ubuntu 20.04 ARM GCC Cross Compile     | PASS               |
+----------------------------------------+--------------------+
| Fedora 38 (ARM Clang)                  | PASS               |
+----------------------------------------+--------------------+
| Fedora 39 (ARM Clang)                  | PASS               |
+----------------------------------------+--------------------+


Ubuntu 20.04 ARM SVE
	Kernel: 5.4.0-167-generic
	Compiler: gcc (Ubuntu 10.5.0-1ubuntu1~20.04) 10.5.0

Fedora 38 (ARM)
	Kernel: Depends on container host
	Compiler: gcc 13.2.1

Debian 12 with MUSDK
	Kernel: Container Host Kernel
	Compiler: gcc 12.2.0

Fedora 37 (ARM)
	Kernel: Depends on container host
	Compiler: gcc 12.3.1

Ubuntu 20.04 (ARM)
	Kernel: Container Host Kernel
	Compiler: gcc 9.4.0

Debian 12 (arm)
	Kernel: Container Host Kernel
	Compiler: gcc 12.2.0

Debian 11 (Buster) (ARM)
	Kernel: Container Host Kernel
	Compiler: gcc 10.2.1

CentOS Stream 9 (ARM)
	Kernel: Container Host Kernel
	Compiler: gcc 11.4.1

Ubuntu 20.04 aarch32 GCC Cross Compile
	Kernel: 5.4.0-167-generic
	Compiler: gcc 9.4.0

Ubuntu 20.04 ARM Clang Cross Compile
	Kernel: 5.4.0-72-generic
	Compiler: clang 10.0.0-4ubuntu1

Ubuntu 20.04 ARM GCC Cross Compile
	Kernel: 5.4.0-167-generic
	Compiler: aarch64-linux-gnu-gcc (Ubuntu 9.4.0-1ubuntu1~20.04.2) 9.4.0

Fedora 38 (ARM Clang)
	Kernel: Depends on container host
	Compiler: clang 16.0.6

Fedora 39 (ARM Clang)
	Kernel: Depends on container host
	Compiler: clang 17.0.6

To view detailed results, visit:
https://lab.dpdk.org/results/dashboard/patchsets/29850/

UNH-IOL DPDK Community Lab

To manage your email subscriptions, visit: 
https://lab.dpdk.org/results/dashboard/preferences/subscriptions/