From mboxrd@z Thu Jan  1 00:00:00 1970
Return-Path: <test-report-bounces@dpdk.org>
Received: from mails.dpdk.org (mails.dpdk.org [217.70.189.124])
	by inbox.dpdk.org (Postfix) with ESMTP id 1FE8C43F01
	for <public@inbox.dpdk.org>; Thu, 25 Apr 2024 14:39:01 +0200 (CEST)
Received: from mails.dpdk.org (localhost [127.0.0.1])
	by mails.dpdk.org (Postfix) with ESMTP id 195FB435F4;
	Thu, 25 Apr 2024 14:39:01 +0200 (CEST)
Received: from mail-oi1-f225.google.com (mail-oi1-f225.google.com
 [209.85.167.225])
 by mails.dpdk.org (Postfix) with ESMTP id 4BDF240284
 for <test-report@dpdk.org>; Thu, 25 Apr 2024 14:38:59 +0200 (CEST)
Received: by mail-oi1-f225.google.com with SMTP id
 5614622812f47-3c74b27179dso542355b6e.1
 for <test-report@dpdk.org>; Thu, 25 Apr 2024 05:38:59 -0700 (PDT)
DKIM-Signature: v=1; a=rsa-sha256; c=relaxed/relaxed;
 d=iol.unh.edu; s=unh-iol; t=1714048738; x=1714653538; darn=dpdk.org;
 h=references:in-reply-to:cc:to:from:subject:message-id:date:from:to
 :cc:subject:date:message-id:reply-to;
 bh=REoy5k5s4mQOXEhM+OOCL2+WlFWov4VeFE1PR7EOp1M=;
 b=K/WZlY+YFFcW9xEe7nrYafIQZXd9w2uA0o8f3o1FqFebSCX/+nqY/7NX1yYSut5mhH
 5PzM+ixWMjuC1hqXwPdahpGR/EqkGqYPaBTyVBl59Kkgr4pIzyV5cDbjz4yNNHoOxJlh
 0QgRJmwf9/vt+miB3rk5n3TbdVIKMjohaGSnE=
X-Google-DKIM-Signature: v=1; a=rsa-sha256; c=relaxed/relaxed;
 d=1e100.net; s=20230601; t=1714048738; x=1714653538;
 h=references:in-reply-to:cc:to:from:subject:message-id:date
 :x-gm-message-state:from:to:cc:subject:date:message-id:reply-to;
 bh=REoy5k5s4mQOXEhM+OOCL2+WlFWov4VeFE1PR7EOp1M=;
 b=D4hG20M/FHAWlj8DMfH8HDdRofbeEnzrof4iFORCljDys45uE/W7MmGWHHyRk7ZCXG
 i0GJ/QjWOWW5jXLhq4dMzMX7GAAxxP6kiCxk86D2+YzwYXJD85KZGDpzetCyfs4NVoMQ
 akS18CClZdOnFYNVEYKs6LKgDTa36E50w/FQn/hkH6MP7cWxhTAn2+6Xc8424KDA6T29
 m+6Fv7eBS/uc7sfGk1ovZN5BMbql1Zn2BoIwCbshvGrBH746BEytRzmiMlypyb1Zsgrn
 F4buRDWUzx3aUWbFjG6LvxQDgoXDurhIR4M1GqC3MzY+CeGajve0bhfigeqiGubcIyhb
 JgtA==
X-Gm-Message-State: AOJu0Ywymlh6HYxa40QmgvWLavhW6j4bNyHGVBeesHvsvw2J9UHQHE8p
 1pKHzFwY2DmQwahnqNdoRB2HDG3Z6oDaYV/ZalG7fhH5Vp08UT53a2snZI1mYWSx0SbXyAtYtCH
 TGs1IeiAlWDbwvsW0kFQUSJMkNs1pUSfBgylZQSom
X-Google-Smtp-Source: AGHT+IGAADkA66s3sXQCMaG1UFKDC+12aBbZfQqAa/1w4ILefktC8JkcwLbEQ+p5it8fBAs274uO963hwQJb
X-Received: by 2002:a05:6808:429a:b0:3c5:e901:e3ec with SMTP id
 dq26-20020a056808429a00b003c5e901e3ecmr5252668oib.16.1714048738670; 
 Thu, 25 Apr 2024 05:38:58 -0700 (PDT)
Received: from postal.iol.unh.edu (postal.iol.unh.edu. [132.177.123.84])
 by smtp-relay.gmail.com with ESMTPS id
 m62-20020a632641000000b005dc87314070sm819930pgm.4.2024.04.25.05.38.58
 (version=TLS1_2 cipher=ECDHE-ECDSA-AES128-GCM-SHA256 bits=128/128);
 Thu, 25 Apr 2024 05:38:58 -0700 (PDT)
X-Relaying-Domain: iol.unh.edu
Date: Thu, 25 Apr 2024 05:38:58 -0700 (PDT)
Message-ID: <662a4ee2.630a0220.9931b.9ae8SMTPIN_ADDED_MISSING@mx.google.com>
Received: from [172.17.0.3] (unknown [172.18.0.217])
 by postal.iol.unh.edu (Postfix) with ESMTP id DB0EC6052514;
 Thu, 25 Apr 2024 08:38:57 -0400 (EDT)
Subject: |SUCCESS| pw139670 [PATCH] eal/linux: enhanced error handling for af
From: dpdklab@iol.unh.edu
To: Test Report <test-report@dpdk.org>
Cc: dpdk-test-reports@iol.unh.edu
In-Reply-To: <20240423030243.59895-1-wujianyue000@163.com>
References: <20240423030243.59895-1-wujianyue000@163.com>
Content-Type: text/plain
X-BeenThere: test-report@dpdk.org
X-Mailman-Version: 2.1.29
Precedence: list
List-Id: automatic DPDK test reports <test-report.dpdk.org>
List-Unsubscribe: <https://mails.dpdk.org/options/test-report>,
 <mailto:test-report-request@dpdk.org?subject=unsubscribe>
List-Archive: <http://mails.dpdk.org/archives/test-report/>
List-Post: <mailto:test-report@dpdk.org>
List-Help: <mailto:test-report-request@dpdk.org?subject=help>
List-Subscribe: <https://mails.dpdk.org/listinfo/test-report>,
 <mailto:test-report-request@dpdk.org?subject=subscribe>
Errors-To: test-report-bounces@dpdk.org

Test-Label: iol-abi-testing
Test-Status: SUCCESS
http://dpdk.org/patch/139670

_Testing PASS_

Submitter: Wu Jian Yue  <wujianyue000@163.com>
Date: Tuesday, April 23 2024 03:02:43 
DPDK git baseline: Repo:dpdk
  Branch: master
  CommitID:7e06c0de1952d3109a5b0c4779d7e7d8059c9d78

139670 --> testing pass

Test environment and result as below:

+-----------------+----------+
|   Environment   | abi_test |
+=================+==========+
| CentOS Stream 9 | PASS     |
+-----------------+----------+
| Fedora 38       | PASS     |
+-----------------+----------+
| CentOS Stream 8 | PASS     |
+-----------------+----------+
| Fedora 39       | PASS     |
+-----------------+----------+


CentOS Stream 9
	Kernel: 5.4.0-167-generic
	Compiler: gcc 11.4.1 20230605

Fedora 38
	Kernel: Depends on container host
	Compiler: gcc 13.2.1

CentOS Stream 8
	Kernel: 5.4.0-167-generic
	Compiler: gcc 8.5.0 20210514

Fedora 39
	Kernel: Depends on container host
	Compiler: gcc 13.2.1

To view detailed results, visit:
https://lab.dpdk.org/results/dashboard/patchsets/29851/

UNH-IOL DPDK Community Lab

To manage your email subscriptions, visit: 
https://lab.dpdk.org/results/dashboard/preferences/subscriptions/