From mboxrd@z Thu Jan  1 00:00:00 1970
Return-Path: <test-report-bounces@dpdk.org>
Received: from mails.dpdk.org (mails.dpdk.org [217.70.189.124])
	by inbox.dpdk.org (Postfix) with ESMTP id 4BBC843F01
	for <public@inbox.dpdk.org>; Thu, 25 Apr 2024 14:39:44 +0200 (CEST)
Received: from mails.dpdk.org (localhost [127.0.0.1])
	by mails.dpdk.org (Postfix) with ESMTP id 48035435F4;
	Thu, 25 Apr 2024 14:39:44 +0200 (CEST)
Received: from mail-io1-f97.google.com (mail-io1-f97.google.com
 [209.85.166.97]) by mails.dpdk.org (Postfix) with ESMTP id 631A340284
 for <test-report@dpdk.org>; Thu, 25 Apr 2024 14:39:43 +0200 (CEST)
Received: by mail-io1-f97.google.com with SMTP id
 ca18e2360f4ac-7dad4456a99so85718539f.1
 for <test-report@dpdk.org>; Thu, 25 Apr 2024 05:39:43 -0700 (PDT)
DKIM-Signature: v=1; a=rsa-sha256; c=relaxed/relaxed;
 d=iol.unh.edu; s=unh-iol; t=1714048783; x=1714653583; darn=dpdk.org;
 h=references:in-reply-to:cc:to:from:subject:message-id:date:from:to
 :cc:subject:date:message-id:reply-to;
 bh=+zdI6vxFh3XOkQmz9Tec3Tv5ikthM+om326cV3qVHPY=;
 b=cqwM/5X68YRIAuqp0E0/TOXBQb94C8l6/RqKTFgY4HUu+BXy3p7baXuCYnsNtSQs4r
 5zBThQWA+AL3zRLXWRwSNIJh4VVzg38+YRQwlsph0bobaDufJxbr5SB37NXgoQe1ooQI
 dDY6Pqmhbf24Cgbprq/S67q/8O45p0DIvBQBE=
X-Google-DKIM-Signature: v=1; a=rsa-sha256; c=relaxed/relaxed;
 d=1e100.net; s=20230601; t=1714048783; x=1714653583;
 h=references:in-reply-to:cc:to:from:subject:message-id:date
 :x-gm-message-state:from:to:cc:subject:date:message-id:reply-to;
 bh=+zdI6vxFh3XOkQmz9Tec3Tv5ikthM+om326cV3qVHPY=;
 b=CHpFqqY5Qxle1pt66nt9Dmn8sjUvBNqLhOcICMouq272y9QKg9kg6ovSHdTljKSsU4
 x7BjHfOrvp9D/tXEbRoJDfjQi6xWGqrx8feAxjR9kaVg+CVVrwcEADkB5bF5vD3gBqIl
 /HrEbAYR4mrBr4pIgXqMXUA5Hh1i1WIL7Ja8CGmDKyCTPS/4TciL9O7pc8XbtCs5a+rY
 df9a23pFW8JYU9MZDI3jWZv8VTZdxua+E3JJ6HSLKQPEvn7DvPaT3ikuP10Vyrwwhr5W
 Myg+QiSqxtTuxHU0Q1QwgI32b76aoI5Jvc2i4LSk7PeafCdG+1GA6OAyF8D8VDT4NfEL
 YXLg==
X-Gm-Message-State: AOJu0YxcqjYwpU19UW3ct9C7C6pWMtWqri5rnBRKH2X8OKT4V5Pq8YFf
 cqwYd87EATxQMCsKTEL+NiZkUK3lFyyA9RAdAu6y2if+Ln81J2Kqgqh/suK44ncAGid5BpHx+yL
 nBxXxuc7lMb2y/86YaizboZzSU4yVobl62daAxUqEYH39SuVpClmx3r0A
X-Google-Smtp-Source: AGHT+IHemN2E3YNO35WKXZrHy7lIQOusOVUsEF9OTq2UloWvoVtuDQIdXkeMSff4oRV0ashJ1GouapYBYDAH
X-Received: by 2002:a05:6e02:1d9d:b0:36b:147c:f7b1 with SMTP id
 h29-20020a056e021d9d00b0036b147cf7b1mr3483753ila.12.1714048782835; 
 Thu, 25 Apr 2024 05:39:42 -0700 (PDT)
Received: from postal.iol.unh.edu (postal.iol.unh.edu.
 [2606:4100:3880:1234::84]) by smtp-relay.gmail.com with ESMTPS id
 hc8-20020a0566386c8800b00486e9aed3c8sm270659jab.27.2024.04.25.05.39.42
 (version=TLS1_2 cipher=ECDHE-ECDSA-AES128-GCM-SHA256 bits=128/128);
 Thu, 25 Apr 2024 05:39:42 -0700 (PDT)
X-Relaying-Domain: iol.unh.edu
Date: Thu, 25 Apr 2024 05:39:42 -0700 (PDT)
Message-ID: <662a4f0e.050a0220.c00b4.a7c3SMTPIN_ADDED_MISSING@mx.google.com>
Received: from [172.17.0.3] (unknown [172.18.0.217])
 by postal.iol.unh.edu (Postfix) with ESMTP id 58E346052514;
 Thu, 25 Apr 2024 08:39:42 -0400 (EDT)
Subject: |SUCCESS| pw139671 [PATCH] [v2] eal/linux: enhanced error handling f
From: dpdklab@iol.unh.edu
To: Test Report <test-report@dpdk.org>
Cc: dpdk-test-reports@iol.unh.edu
In-Reply-To: <20240423052018.81334-1-wujianyue000@163.com>
References: <20240423052018.81334-1-wujianyue000@163.com>
Content-Type: text/plain
X-BeenThere: test-report@dpdk.org
X-Mailman-Version: 2.1.29
Precedence: list
List-Id: automatic DPDK test reports <test-report.dpdk.org>
List-Unsubscribe: <https://mails.dpdk.org/options/test-report>,
 <mailto:test-report-request@dpdk.org?subject=unsubscribe>
List-Archive: <http://mails.dpdk.org/archives/test-report/>
List-Post: <mailto:test-report@dpdk.org>
List-Help: <mailto:test-report-request@dpdk.org?subject=help>
List-Subscribe: <https://mails.dpdk.org/listinfo/test-report>,
 <mailto:test-report-request@dpdk.org?subject=subscribe>
Errors-To: test-report-bounces@dpdk.org

Test-Label: iol-unit-amd64-testing
Test-Status: SUCCESS
http://dpdk.org/patch/139671

_Testing PASS_

Submitter: Wu Jian Yue  <wujianyue000@163.com>
Date: Tuesday, April 23 2024 05:20:18 
DPDK git baseline: Repo:dpdk
  Branch: master
  CommitID:7e06c0de1952d3109a5b0c4779d7e7d8059c9d78

139671 --> testing pass

Test environment and result as below:

+---------------------+----------------+
|     Environment     | dpdk_unit_test |
+=====================+================+
| Windows Server 2019 | PASS           |
+---------------------+----------------+
| CentOS Stream 8     | PASS           |
+---------------------+----------------+
| CentOS Stream 9     | PASS           |
+---------------------+----------------+
| Debian Bullseye     | PASS           |
+---------------------+----------------+
| Fedora 38           | PASS           |
+---------------------+----------------+
| Fedora 37           | PASS           |
+---------------------+----------------+
| Debian 12           | PASS           |
+---------------------+----------------+
| Ubuntu 22.04        | PASS           |
+---------------------+----------------+
| Fedora 39           | PASS           |
+---------------------+----------------+
| Windows Server 2022 | PASS           |
+---------------------+----------------+
| Ubuntu 20.04        | PASS           |
+---------------------+----------------+
| RHEL8               | PASS           |
+---------------------+----------------+
| openSUSE Leap 15    | PASS           |
+---------------------+----------------+


Windows Server 2019
	Kernel: 10.0.17763
	Compiler: clang 14.0 and gcc 8.1.0 (MinGW)

CentOS Stream 8
	Kernel: 5.4.0-167-generic
	Compiler: gcc 8.5.0 20210514

CentOS Stream 9
	Kernel: 5.4.0-167-generic
	Compiler: gcc 11.4.1 20230605

Debian Bullseye
	Kernel: 5.4.0-167-generic
	Compiler: gcc 10.2.1-6

Fedora 38
	Kernel: Depends on container host
	Compiler: gcc 13.2.1

Fedora 37
	Kernel: Depends on container host system
	Compiler: gcc 12.3.1

Debian 12
	Kernel: Container Host Kernel
	Compiler: gcc 10.2.1

Ubuntu 22.04
	Kernel: 5.4.0-167-generic
	Compiler: gcc 11.4.0

Fedora 39
	Kernel: Depends on container host
	Compiler: gcc 13.2.1

Windows Server 2022
	Kernel: 10.0.20348.2031
	Compiler: clang 15.0.7, gcc 8.1.0 (MinGW), and MSVC VS 17.9

Ubuntu 20.04
	Kernel: 5.4.0-167-generic
	Compiler: gcc 9.4.0-1ubuntu1~20.04.1

RHEL8
	Kernel: 5.4.0-167-generic
	Compiler: gcc 8.5.0 20210514 (Red Hat 8.5.0-20)

openSUSE Leap 15
	Kernel: 5.4.0-167-generic
	Compiler: gcc 7.5.0

To view detailed results, visit:
https://lab.dpdk.org/results/dashboard/patchsets/29852/

UNH-IOL DPDK Community Lab

To manage your email subscriptions, visit: 
https://lab.dpdk.org/results/dashboard/preferences/subscriptions/