From mboxrd@z Thu Jan  1 00:00:00 1970
Return-Path: <test-report-bounces@dpdk.org>
Received: from mails.dpdk.org (mails.dpdk.org [217.70.189.124])
	by inbox.dpdk.org (Postfix) with ESMTP id 6C05543D99
	for <public@inbox.dpdk.org>; Thu, 25 Apr 2024 15:08:22 +0200 (CEST)
Received: from mails.dpdk.org (localhost [127.0.0.1])
	by mails.dpdk.org (Postfix) with ESMTP id 66B46435F4;
	Thu, 25 Apr 2024 15:08:22 +0200 (CEST)
Received: from mail-yb1-f225.google.com (mail-yb1-f225.google.com
 [209.85.219.225])
 by mails.dpdk.org (Postfix) with ESMTP id 09B0040284
 for <test-report@dpdk.org>; Thu, 25 Apr 2024 15:08:09 +0200 (CEST)
Received: by mail-yb1-f225.google.com with SMTP id
 3f1490d57ef6-de56d4bb72bso1141997276.2
 for <test-report@dpdk.org>; Thu, 25 Apr 2024 06:08:08 -0700 (PDT)
DKIM-Signature: v=1; a=rsa-sha256; c=relaxed/relaxed;
 d=iol.unh.edu; s=unh-iol; t=1714050488; x=1714655288; darn=dpdk.org;
 h=references:in-reply-to:cc:to:from:subject:message-id:date:from:to
 :cc:subject:date:message-id:reply-to;
 bh=oRPhjfax1C4ek7WxUsJpI19b+hlkxFOcaEhTIQcafYg=;
 b=Q4r8dDw3qBtAUC7VdqkbueDwV6WwkKQee4mHEbLUBRtuZlJW0CstRTLSSZmYr2ISnp
 AqQiktpRYtPE3dGgE8MgM8erM5MpweuCbmsc/FC7UxJ8okGzXlt22++bhKap4u/wY+Gj
 ouDPGp9KhBh+Xuf6iS091aWuZzj9LRaqcGUUc=
X-Google-DKIM-Signature: v=1; a=rsa-sha256; c=relaxed/relaxed;
 d=1e100.net; s=20230601; t=1714050488; x=1714655288;
 h=references:in-reply-to:cc:to:from:subject:message-id:date
 :x-gm-message-state:from:to:cc:subject:date:message-id:reply-to;
 bh=oRPhjfax1C4ek7WxUsJpI19b+hlkxFOcaEhTIQcafYg=;
 b=U/jjbX9kJ30QxL4gof5+4Em6gmvEHH5oiziMdat/c57EK+VVx2rHpKfZdlJ1r7rsUc
 xxum2o07SeuYC5KhmVRwMCLFayfzu53hgImzyExuqUgfRJ3vHmhJMe19BIHXESx/MEbU
 QGguSMOGkcworuzabfiprY4dYAzgEZUWHes02ISQlElo6EdWz+mpvNr3VZWKjBDCNDhZ
 aXpT+ojYaDY/mLeBVYa6fkG1kJEb4qbcJnffWgiMBXLzCmcfxKsHpFShtfkgu9QBo8Hu
 JZiQilDunnRND6rSPVGk28hqpafkrnJ+G7lIt9W9R7GOrzP617wbCXFJ1emcRlo3uF6x
 AJZA==
X-Gm-Message-State: AOJu0YzsfG9mJjUQA2mDZcgndKJuzffASeQXKTzxOAxhn2om7WRPxewb
 rL/QhIqbdyrnZox78JZbkv8aPWMgTtlH/G2vOzlIJOCAiMB98+XNVaWHh37B44fjqynB6Ifk7xz
 keAMv5jojRT//ozQRMUxpgK+cmBT0nICR+l3dN304Rjsa+chZMtw5RajS
X-Google-Smtp-Source: AGHT+IHc1PF8jukHEZp33r/0b9dAyvM2Vui3anaUc9ul8TeovH778FRM1cA510s3AxgF4ha6ZyhGVd9VHmnB
X-Received: by 2002:a5b:e85:0:b0:dcc:8f97:4c42 with SMTP id
 z5-20020a5b0e85000000b00dcc8f974c42mr5446378ybr.13.1714050488384; 
 Thu, 25 Apr 2024 06:08:08 -0700 (PDT)
Received: from postal.iol.unh.edu (postal.iol.unh.edu.
 [2606:4100:3880:1234::84]) by smtp-relay.gmail.com with ESMTPS id
 ft4-20020a0569020f8400b00de53517c33bsm492104ybb.9.2024.04.25.06.08.08
 (version=TLS1_2 cipher=ECDHE-ECDSA-AES128-GCM-SHA256 bits=128/128);
 Thu, 25 Apr 2024 06:08:08 -0700 (PDT)
X-Relaying-Domain: iol.unh.edu
Date: Thu, 25 Apr 2024 06:08:08 -0700 (PDT)
Message-ID: <662a55b8.050a0220.51bff.49f9SMTPIN_ADDED_MISSING@mx.google.com>
Received: from [172.17.0.4] (unknown [172.18.0.217])
 by postal.iol.unh.edu (Postfix) with ESMTP id 67CEA6052514;
 Thu, 25 Apr 2024 09:08:07 -0400 (EDT)
Subject: |SUCCESS| pw138797-138810 [PATCH] [v7,14/14] examples/ipsec-secgw: f
From: dpdklab@iol.unh.edu
To: Test Report <test-report@dpdk.org>
Cc: dpdk-test-reports@iol.unh.edu
In-Reply-To: <20240326125554.138840-15-sivaprasad.tummala@amd.com>
References: <20240326125554.138840-15-sivaprasad.tummala@amd.com>
Content-Type: text/plain
X-BeenThere: test-report@dpdk.org
X-Mailman-Version: 2.1.29
Precedence: list
List-Id: automatic DPDK test reports <test-report.dpdk.org>
List-Unsubscribe: <https://mails.dpdk.org/options/test-report>,
 <mailto:test-report-request@dpdk.org?subject=unsubscribe>
List-Archive: <http://mails.dpdk.org/archives/test-report/>
List-Post: <mailto:test-report@dpdk.org>
List-Help: <mailto:test-report-request@dpdk.org?subject=help>
List-Subscribe: <https://mails.dpdk.org/listinfo/test-report>,
 <mailto:test-report-request@dpdk.org?subject=subscribe>
Errors-To: test-report-bounces@dpdk.org

Test-Label: iol-unit-amd64-testing
Test-Status: SUCCESS
http://dpdk.org/patch/138810

_Testing PASS_

Submitter: Sivaprasad Tummala <Sivaprasad.Tummala@amd.com>
Date: Tuesday, March 26 2024 12:55:53 
DPDK git baseline: Repo:dpdk
  Branch: master
  CommitID:ded4d4765171b88470e59307f10625e942f22fca

138797-138810 --> testing pass

Test environment and result as below:

+---------------------+----------------+
|     Environment     | dpdk_unit_test |
+=====================+================+
| CentOS Stream 8     | PASS           |
+---------------------+----------------+
| CentOS Stream 9     | PASS           |
+---------------------+----------------+
| Debian Bullseye     | PASS           |
+---------------------+----------------+
| Windows Server 2019 | PASS           |
+---------------------+----------------+
| Fedora 37           | PASS           |
+---------------------+----------------+
| Debian 12           | PASS           |
+---------------------+----------------+
| Ubuntu 20.04        | PASS           |
+---------------------+----------------+
| openSUSE Leap 15    | PASS           |
+---------------------+----------------+
| Fedora 38           | PASS           |
+---------------------+----------------+
| Windows Server 2022 | PASS           |
+---------------------+----------------+
| RHEL8               | PASS           |
+---------------------+----------------+
| Ubuntu 22.04        | PASS           |
+---------------------+----------------+


CentOS Stream 8
	Kernel: 5.4.0-167-generic
	Compiler: gcc 8.5.0 20210514

CentOS Stream 9
	Kernel: 5.4.0-167-generic
	Compiler: gcc 11.4.1 20230605

Debian Bullseye
	Kernel: 5.4.0-167-generic
	Compiler: gcc 10.2.1-6

Windows Server 2019
	Kernel: 10.0.17763
	Compiler: clang 14.0 and gcc 8.1.0 (MinGW)

Fedora 37
	Kernel: Depends on container host system
	Compiler: gcc 12.3.1

Debian 12
	Kernel: Container Host Kernel
	Compiler: gcc 10.2.1

Ubuntu 20.04
	Kernel: 5.4.0-167-generic
	Compiler: gcc 9.4.0-1ubuntu1~20.04.1

openSUSE Leap 15
	Kernel: 5.4.0-167-generic
	Compiler: gcc 7.5.0

Fedora 38
	Kernel: Depends on container host
	Compiler: clang 16.0.6

Windows Server 2022
	Kernel: 10.0.20348.2031
	Compiler: clang 15.0.7, gcc 8.1.0 (MinGW), and MSVC VS 17.9

RHEL8
	Kernel: 5.4.0-167-generic
	Compiler: gcc 8.5.0 20210514 (Red Hat 8.5.0-20)

Ubuntu 22.04
	Kernel: 5.4.0-167-generic
	Compiler: gcc 11.4.0

To view detailed results, visit:
https://lab.dpdk.org/results/dashboard/patchsets/29656/

UNH-IOL DPDK Community Lab

To manage your email subscriptions, visit: 
https://lab.dpdk.org/results/dashboard/preferences/subscriptions/