From mboxrd@z Thu Jan  1 00:00:00 1970
Return-Path: <test-report-bounces@dpdk.org>
Received: from mails.dpdk.org (mails.dpdk.org [217.70.189.124])
	by inbox.dpdk.org (Postfix) with ESMTP id 7D43A43F01
	for <public@inbox.dpdk.org>; Thu, 25 Apr 2024 15:59:08 +0200 (CEST)
Received: from mails.dpdk.org (localhost [127.0.0.1])
	by mails.dpdk.org (Postfix) with ESMTP id 798C7435F4;
	Thu, 25 Apr 2024 15:59:08 +0200 (CEST)
Received: from mail-il1-f226.google.com (mail-il1-f226.google.com
 [209.85.166.226])
 by mails.dpdk.org (Postfix) with ESMTP id 74AB340284
 for <test-report@dpdk.org>; Thu, 25 Apr 2024 15:59:05 +0200 (CEST)
Received: by mail-il1-f226.google.com with SMTP id
 e9e14a558f8ab-36c0ef5f7ebso4572455ab.0
 for <test-report@dpdk.org>; Thu, 25 Apr 2024 06:59:05 -0700 (PDT)
DKIM-Signature: v=1; a=rsa-sha256; c=relaxed/relaxed;
 d=iol.unh.edu; s=unh-iol; t=1714053545; x=1714658345; darn=dpdk.org;
 h=references:in-reply-to:cc:to:from:subject:message-id:date:from:to
 :cc:subject:date:message-id:reply-to;
 bh=FWYhYqQ7uTLKYyQaHjFbMPq3BjusSCGK+67JbpiOlHg=;
 b=h0+JFBfCH1ONl7vPhY1m9tjaexez0CWF6HKpEYoSLbJ2xxlDbqWoFjYWQxLOjvGKOf
 B7fF+58xckgPy8cEua4z8HJmwVZiW2/CWighoI4VJXwf+RyT6LYS4j4FAg+erdTQkozM
 KrkFQZMoecD/HV2ZfZab0dUFOBvIGSxmvGdD0=
X-Google-DKIM-Signature: v=1; a=rsa-sha256; c=relaxed/relaxed;
 d=1e100.net; s=20230601; t=1714053545; x=1714658345;
 h=references:in-reply-to:cc:to:from:subject:message-id:date
 :x-gm-message-state:from:to:cc:subject:date:message-id:reply-to;
 bh=FWYhYqQ7uTLKYyQaHjFbMPq3BjusSCGK+67JbpiOlHg=;
 b=d4DFVFFZouYYALjnU2dUvilpipdQDNS4DZHxn3P4SE4BKnPhurlsMl0JhNXEXouxXs
 aEriGfeUKXF17LO1c37jZ9JxM+oXXn1Mt3CkKEWqHVNaZfgMvK9wuALZz0+BfXPonstF
 wU9mGCCGavYpMSpiSZNVuksAeLe+i6pw57zxD4eddEbrLLyJnnSBef3WQyZsMOR9PR9y
 xuTaacsl5Go/B6x/vX7NlTdx6VTknhyU09LiTdqbi0O0SQsIXeCsa4sytppjFYTZWQAB
 pnBvleomcDFDDg+Gceo3oJtcayCRk+qF/rk6JrG4UXSeMDpzbl4qWO7UyF9jR7nUOHvC
 4CIg==
X-Gm-Message-State: AOJu0YyqVFb9WcElj8SYyIqb3Jh338oG7lJbNlbY6dVON6prNlRipYmq
 /FSyQGVPw25AYDP++MhcdAtICcP6dT34oJvs5zgAMerHV2HWYsaaeIjx6Fd8qp6arrMOuMqz0o/
 A2bwRPfCyqXHBYRZdWGue4CLTJVlDhlGxuYgX6uwc
X-Google-Smtp-Source: AGHT+IEA9eWZkQpBXfrtTylyn0IoKrX2IVckG7zy5Qtlx4aoc12ivcFkPe89DfJppbNsjLMMfmfO9u3vQnKl
X-Received: by 2002:a92:cda5:0:b0:36b:24c5:eee5 with SMTP id
 g5-20020a92cda5000000b0036b24c5eee5mr6370135ild.27.1714053544855; 
 Thu, 25 Apr 2024 06:59:04 -0700 (PDT)
Received: from postal.iol.unh.edu (postal.iol.unh.edu. [132.177.123.84])
 by smtp-relay.gmail.com with ESMTPS id
 hs12-20020a056638708c00b00486ea85f1c9sm286123jab.11.2024.04.25.06.59.04
 (version=TLS1_2 cipher=ECDHE-ECDSA-AES128-GCM-SHA256 bits=128/128);
 Thu, 25 Apr 2024 06:59:04 -0700 (PDT)
X-Relaying-Domain: iol.unh.edu
Date: Thu, 25 Apr 2024 06:59:04 -0700 (PDT)
Message-ID: <662a61a8.050a0220.be26e.bcc4SMTPIN_ADDED_MISSING@mx.google.com>
Received: from [172.17.0.2] (unknown [172.18.0.217])
 by postal.iol.unh.edu (Postfix) with ESMTP id 608046052514;
 Thu, 25 Apr 2024 09:59:04 -0400 (EDT)
Subject: |SUCCESS| pw139671 [PATCH] [v2] eal/linux: enhanced error handling f
From: dpdklab@iol.unh.edu
To: Test Report <test-report@dpdk.org>
Cc: dpdk-test-reports@iol.unh.edu
In-Reply-To: <20240423052018.81334-1-wujianyue000@163.com>
References: <20240423052018.81334-1-wujianyue000@163.com>
Content-Type: text/plain
X-BeenThere: test-report@dpdk.org
X-Mailman-Version: 2.1.29
Precedence: list
List-Id: automatic DPDK test reports <test-report.dpdk.org>
List-Unsubscribe: <https://mails.dpdk.org/options/test-report>,
 <mailto:test-report-request@dpdk.org?subject=unsubscribe>
List-Archive: <http://mails.dpdk.org/archives/test-report/>
List-Post: <mailto:test-report@dpdk.org>
List-Help: <mailto:test-report-request@dpdk.org?subject=help>
List-Subscribe: <https://mails.dpdk.org/listinfo/test-report>,
 <mailto:test-report-request@dpdk.org?subject=subscribe>
Errors-To: test-report-bounces@dpdk.org

Test-Label: iol-unit-arm64-testing
Test-Status: SUCCESS
http://dpdk.org/patch/139671

_Testing PASS_

Submitter: Wu Jian Yue  <wujianyue000@163.com>
Date: Tuesday, April 23 2024 05:20:18 
DPDK git baseline: Repo:dpdk
  Branch: master
  CommitID:7e06c0de1952d3109a5b0c4779d7e7d8059c9d78

139671 --> testing pass

Test environment and result as below:

+-----------------------------+----------------+--------------+---------------------------+------------------------------+
|         Environment         | dpdk_unit_test | lpm_autotest | cryptodev_sw_zuc_autotest | cryptodev_sw_snow3g_autotest |
+=============================+================+==============+===========================+==============================+
| 32-bit Ubuntu 20.04.4 (ARM) | PASS           | SKIPPED      | SKIPPED                   | SKIPPED                      |
+-----------------------------+----------------+--------------+---------------------------+------------------------------+
| Fedora 37 (ARM)             | PASS           | SKIPPED      | SKIPPED                   | SKIPPED                      |
+-----------------------------+----------------+--------------+---------------------------+------------------------------+
| CentOS Stream 9 (ARM)       | PASS           | SKIPPED      | SKIPPED                   | SKIPPED                      |
+-----------------------------+----------------+--------------+---------------------------+------------------------------+
| Debian 12 (arm)             | PASS           | SKIPPED      | PASS                      | PASS                         |
+-----------------------------+----------------+--------------+---------------------------+------------------------------+
| Debian 11 (Buster) (ARM)    | PASS           | SKIPPED      | SKIPPED                   | SKIPPED                      |
+-----------------------------+----------------+--------------+---------------------------+------------------------------+
| Fedora 38 (ARM)             | PASS           | SKIPPED      | SKIPPED                   | SKIPPED                      |
+-----------------------------+----------------+--------------+---------------------------+------------------------------+
| Fedora 38 (ARM Clang)       | PASS           | SKIPPED      | SKIPPED                   | SKIPPED                      |
+-----------------------------+----------------+--------------+---------------------------+------------------------------+
| Ubuntu 20.04 (ARM)          | PASS           | SKIPPED      | SKIPPED                   | SKIPPED                      |
+-----------------------------+----------------+--------------+---------------------------+------------------------------+
| Fedora 39 (ARM Clang)       | PASS           | SKIPPED      | SKIPPED                   | SKIPPED                      |
+-----------------------------+----------------+--------------+---------------------------+------------------------------+
| Ubuntu 20.04 ARM SVE        | SKIPPED        | PASS         | SKIPPED                   | SKIPPED                      |
+-----------------------------+----------------+--------------+---------------------------+------------------------------+


32-bit Ubuntu 20.04.4 (ARM)
	Kernel: 5.4.0-155-generic aarch64
	Compiler: gcc 9.4

Fedora 37 (ARM)
	Kernel: Depends on container host
	Compiler: gcc 12.3.1

CentOS Stream 9 (ARM)
	Kernel: Container Host Kernel
	Compiler: gcc 11.4.1

Debian 12 (arm)
	Kernel: Container Host Kernel
	Compiler: gcc 12.2.0

Debian 11 (Buster) (ARM)
	Kernel: Container Host Kernel
	Compiler: gcc 10.2.1

Fedora 38 (ARM)
	Kernel: Depends on container host
	Compiler: gcc 13.2.1

Fedora 38 (ARM Clang)
	Kernel: Depends on container host
	Compiler: clang 16.0.6

Ubuntu 20.04 (ARM)
	Kernel: Container Host Kernel
	Compiler: gcc 9.4.0

Fedora 39 (ARM Clang)
	Kernel: Depends on container host
	Compiler: clang 17.0.6

Ubuntu 20.04 ARM SVE
	Kernel: 5.4.0-167-generic
	Compiler: gcc (Ubuntu 10.5.0-1ubuntu1~20.04) 10.5.0

To view detailed results, visit:
https://lab.dpdk.org/results/dashboard/patchsets/29852/

UNH-IOL DPDK Community Lab

To manage your email subscriptions, visit: 
https://lab.dpdk.org/results/dashboard/preferences/subscriptions/