From mboxrd@z Thu Jan  1 00:00:00 1970
Return-Path: <test-report-bounces@dpdk.org>
Received: from mails.dpdk.org (mails.dpdk.org [217.70.189.124])
	by inbox.dpdk.org (Postfix) with ESMTP id 2B65B43F07
	for <public@inbox.dpdk.org>; Thu, 25 Apr 2024 17:29:45 +0200 (CEST)
Received: from mails.dpdk.org (localhost [127.0.0.1])
	by mails.dpdk.org (Postfix) with ESMTP id 24B39402EE;
	Thu, 25 Apr 2024 17:29:45 +0200 (CEST)
Received: from mail-il1-f225.google.com (mail-il1-f225.google.com
 [209.85.166.225])
 by mails.dpdk.org (Postfix) with ESMTP id 4764340284
 for <test-report@dpdk.org>; Thu, 25 Apr 2024 17:29:44 +0200 (CEST)
Received: by mail-il1-f225.google.com with SMTP id
 e9e14a558f8ab-36b21e8c6ccso4912595ab.2
 for <test-report@dpdk.org>; Thu, 25 Apr 2024 08:29:44 -0700 (PDT)
DKIM-Signature: v=1; a=rsa-sha256; c=relaxed/relaxed;
 d=iol.unh.edu; s=unh-iol; t=1714058983; x=1714663783; darn=dpdk.org;
 h=references:in-reply-to:cc:to:from:subject:message-id:date:from:to
 :cc:subject:date:message-id:reply-to;
 bh=AH0Za7v4XKnbrBJKROI4Y3DOoK3Ftw84Dl8MBhBn/PI=;
 b=DSp5kkWp7LFgLf3zPceK2LWs7HsWnNQImPMGqCcz6K8b1konFqift+yHhIczVVvaL4
 vUKUiPkAG1dQS9R+FkGeJgWy3v4N9DdzjejDs2N4YGbuQPsvMj6dLbMx/lRj8rIVijan
 hq6bxC4rOQ5DDZD+6axypOlQ0amP81DI8/p6M=
X-Google-DKIM-Signature: v=1; a=rsa-sha256; c=relaxed/relaxed;
 d=1e100.net; s=20230601; t=1714058983; x=1714663783;
 h=references:in-reply-to:cc:to:from:subject:message-id:date
 :x-gm-message-state:from:to:cc:subject:date:message-id:reply-to;
 bh=AH0Za7v4XKnbrBJKROI4Y3DOoK3Ftw84Dl8MBhBn/PI=;
 b=Dqu6R7niVlL5SO+ri9tOitNhNHiVVJDvP4DlGfrfkxAswHf0YgexbFNDosS38imhyS
 PN7vV7nEITuFneF5oc/fknGCdBY6ph2PInwvVQ6ZlYvVgJUpnNdNtEDwdRLvVnDU4ym2
 5pphuKek1s8OKnUi8OwAUj+xKxtmaV1D8m16N7Jjd+BjWNvzgNCb8bnBw3OVf9HnFP9f
 bzz4ioFl0vNN3JC4ZFIVpiYZZC8obv1bP8ABrCGM+Qh50PAo/dg/cltCHY/8iCq79Snx
 O3Id9StxdmXk6/ufX97e4oqaTg0xLHSi8ZeChlDgejxnxiLEgg3cqu4oQS5J4pELfBD+
 311g==
X-Gm-Message-State: AOJu0Yx0bOBDkl8dq2YSPxOIaD7xKDTqA96L0am1IRM0wmSX4VziDwFj
 tKbmlny+m6G2byID1hw3HSNYf7gbPLpcb/xub31Am9k2Sc4UU8X1IkgiWuMoPzYkTTjNOw1YWLU
 IalSqmSMIhEEvJvFUKfrMBlnPuoazJkge7GgI3U0j
X-Google-Smtp-Source: AGHT+IEY94ux7wKZkoJpB4IZ3TlNEwDa58ofr/l3VGB2UhsN3ihIWQUlIzBnc167L993gR7y8m7e7SkxP0en
X-Received: by 2002:a05:6e02:214c:b0:36b:3991:c8e2 with SMTP id
 d12-20020a056e02214c00b0036b3991c8e2mr124318ilv.1.1714058983687; 
 Thu, 25 Apr 2024 08:29:43 -0700 (PDT)
Received: from postal.iol.unh.edu (postal.iol.unh.edu. [132.177.123.84])
 by smtp-relay.gmail.com with ESMTPS id
 dt11-20020a056e021feb00b0036880efc6cesm823041ilb.54.2024.04.25.08.29.43
 (version=TLS1_2 cipher=ECDHE-ECDSA-AES128-GCM-SHA256 bits=128/128);
 Thu, 25 Apr 2024 08:29:43 -0700 (PDT)
X-Relaying-Domain: iol.unh.edu
Date: Thu, 25 Apr 2024 08:29:43 -0700 (PDT)
Message-ID: <662a76e7.050a0220.2a56c.6e2fSMTPIN_ADDED_MISSING@mx.google.com>
Received: from [172.21.0.6] (unknown [172.18.0.240])
 by postal.iol.unh.edu (Postfix) with ESMTP id 4C8FD6052514;
 Thu, 25 Apr 2024 11:29:43 -0400 (EDT)
Subject: |SUCCESS| pw139678 [PATCH] [v1,1/1] MAINTAINERS: add another AF_XDP 
From: dpdklab@iol.unh.edu
To: Test Report <test-report@dpdk.org>
Cc: dpdk-test-reports@iol.unh.edu
In-Reply-To: <20240425144843.1014029-1-mtahhan@redhat.com>
References: <20240425144843.1014029-1-mtahhan@redhat.com>
Content-Type: text/plain
X-BeenThere: test-report@dpdk.org
X-Mailman-Version: 2.1.29
Precedence: list
List-Id: automatic DPDK test reports <test-report.dpdk.org>
List-Unsubscribe: <https://mails.dpdk.org/options/test-report>,
 <mailto:test-report-request@dpdk.org?subject=unsubscribe>
List-Archive: <http://mails.dpdk.org/archives/test-report/>
List-Post: <mailto:test-report@dpdk.org>
List-Help: <mailto:test-report-request@dpdk.org?subject=help>
List-Subscribe: <https://mails.dpdk.org/listinfo/test-report>,
 <mailto:test-report-request@dpdk.org?subject=subscribe>
Errors-To: test-report-bounces@dpdk.org

Test-Label: iol-compile-amd64-testing
Test-Status: SUCCESS
http://dpdk.org/patch/139678

_Testing PASS_

Submitter: Maryam Tahhan <mtahhan@redhat.com>
Date: Thursday, April 25 2024 14:48:31 
DPDK git baseline: Repo:dpdk
  Branch: master
  CommitID:7e06c0de1952d3109a5b0c4779d7e7d8059c9d78

139678 --> testing pass

Test environment and result as below:

+---------------------+-------------------+--------------------+----------------------+
|     Environment     | dpdk_msvc_compile | dpdk_meson_compile | dpdk_mingw64_compile |
+=====================+===================+====================+======================+
| Windows Server 2022 | PASS              | PASS               | PASS                 |
+---------------------+-------------------+--------------------+----------------------+
| FreeBSD 13.3        | SKIPPED           | PASS               | SKIPPED              |
+---------------------+-------------------+--------------------+----------------------+
| CentOS Stream 9     | SKIPPED           | PASS               | SKIPPED              |
+---------------------+-------------------+--------------------+----------------------+
| CentOS Stream 8     | SKIPPED           | PASS               | SKIPPED              |
+---------------------+-------------------+--------------------+----------------------+
| Windows Server 2019 | SKIPPED           | PASS               | PASS                 |
+---------------------+-------------------+--------------------+----------------------+
| Fedora 38           | SKIPPED           | PASS               | SKIPPED              |
+---------------------+-------------------+--------------------+----------------------+
| Debian 12           | SKIPPED           | PASS               | SKIPPED              |
+---------------------+-------------------+--------------------+----------------------+
| Fedora 37           | SKIPPED           | PASS               | SKIPPED              |
+---------------------+-------------------+--------------------+----------------------+
| Fedora 39           | SKIPPED           | PASS               | SKIPPED              |
+---------------------+-------------------+--------------------+----------------------+
| Ubuntu 22.04        | SKIPPED           | PASS               | SKIPPED              |
+---------------------+-------------------+--------------------+----------------------+


Windows Server 2022
	Kernel: 10.0.20348.2031
	Compiler: clang 15.0.7, gcc 8.1.0 (MinGW), and MSVC VS 17.9

FreeBSD 13.3
	Kernel: 13.3-RELEASE-p1
	Compiler: clang 17.0.6

CentOS Stream 9
	Kernel: 5.4.0-167-generic
	Compiler: gcc 11.4.1 20230605

CentOS Stream 8
	Kernel: 5.4.0-167-generic
	Compiler: gcc 8.5.0 20210514

Windows Server 2019
	Kernel: 10.0.17763
	Compiler: clang 14.0 and gcc 8.1.0 (MinGW)

Fedora 38
	Kernel: Depends on container host
	Compiler: gcc 13.2.1

Debian 12
	Kernel: Container Host Kernel
	Compiler: gcc 10.2.1

Fedora 37
	Kernel: Depends on container host system
	Compiler: gcc 12.3.1

Fedora 39
	Kernel: Depends on container host
	Compiler: gcc 13.2.1

Ubuntu 22.04
	Kernel: 5.4.0-167-generic
	Compiler: gcc 11.4.0

To view detailed results, visit:
https://lab.dpdk.org/results/dashboard/patchsets/29854/

UNH-IOL DPDK Community Lab

To manage your email subscriptions, visit: 
https://lab.dpdk.org/results/dashboard/preferences/subscriptions/