From mboxrd@z Thu Jan  1 00:00:00 1970
Return-Path: <test-report-bounces@dpdk.org>
Received: from mails.dpdk.org (mails.dpdk.org [217.70.189.124])
	by inbox.dpdk.org (Postfix) with ESMTP id 43C6843F07
	for <public@inbox.dpdk.org>; Thu, 25 Apr 2024 17:30:02 +0200 (CEST)
Received: from mails.dpdk.org (localhost [127.0.0.1])
	by mails.dpdk.org (Postfix) with ESMTP id 3F2E0402EE;
	Thu, 25 Apr 2024 17:30:02 +0200 (CEST)
Received: from mail-il1-f226.google.com (mail-il1-f226.google.com
 [209.85.166.226])
 by mails.dpdk.org (Postfix) with ESMTP id 8C0D940284
 for <test-report@dpdk.org>; Thu, 25 Apr 2024 17:30:00 +0200 (CEST)
Received: by mail-il1-f226.google.com with SMTP id
 e9e14a558f8ab-36c0ef5f7ebso5130685ab.0
 for <test-report@dpdk.org>; Thu, 25 Apr 2024 08:30:00 -0700 (PDT)
DKIM-Signature: v=1; a=rsa-sha256; c=relaxed/relaxed;
 d=iol.unh.edu; s=unh-iol; t=1714059000; x=1714663800; darn=dpdk.org;
 h=references:in-reply-to:cc:to:from:subject:message-id:date:from:to
 :cc:subject:date:message-id:reply-to;
 bh=PQRAPzmnQcMYQTAlB7M/c8tqDT7YI9tt37NRPib6EbQ=;
 b=JTiYt/p76sICX/I0FZ7tbgov+wTbxInMaNCarzBecVmUF4rX/fIN2kN8EhHk9W9LpO
 snke9lIcfovpIqf/wX2e1AoXaM8ONZdC6iPev+q94sXgIpWlF3NebbIQKlkziYmt+5P3
 8NufSKoNBbCorzPAHCnseXAo7Kv5EnQtJGOaM=
X-Google-DKIM-Signature: v=1; a=rsa-sha256; c=relaxed/relaxed;
 d=1e100.net; s=20230601; t=1714059000; x=1714663800;
 h=references:in-reply-to:cc:to:from:subject:message-id:date
 :x-gm-message-state:from:to:cc:subject:date:message-id:reply-to;
 bh=PQRAPzmnQcMYQTAlB7M/c8tqDT7YI9tt37NRPib6EbQ=;
 b=jQOnMOdJFETwuZ81VhEjeWtmtfO4/OdhdAtSEPKDfwUfMJosf3pMiHjzHl/ViePQya
 koAzJpZ8IYVZaVdHmnZCLzcfVB7Pgnd4KmTTF6YoXq1lzkYIkEbex2Dn/0hBJABBSDzy
 ch0BF/f2B2k1tM34BFeR/2NvJ6+vf3lgdVyCIr0lgiVy8IFNmpo2UrgtVorJLXLqk2x/
 TI9ZF4Ikkr3SD04gy3Mt/rnXTrLNjwJcc7r1DlgTTQQ+WqrYA6rQyOhYqvnTFECKoW/0
 Q1Mzu6Yzw12Qhm4pAdopG8maRdQLKNLT1LysoHnQpLG/rtsmw5mNWtxJIl8eQ9jbU5K6
 N8sQ==
X-Gm-Message-State: AOJu0YwVosGXYm2Aut45z2dCWsW3XEn1un1Ox5uXcJOrghYvEGUA+STP
 GBBgy9h87+SMvEH7xAqa1nhmn/MiZunESdeJg9R0v3oJD6jnN/ld9U+vacLSHaTX+AyzCAKsc/Z
 nYfQkOZAUSyNeyPVpH6W3oVPsChUKCZ4V7+a3GHBpnW717Q5E5EQGBwYf
X-Google-Smtp-Source: AGHT+IFFL1agUwWsci4qf13ySy4fsxz1PG07Zt3rS7MedT6CT8wnstmLfQ0D8NAEOvJxGlXDAa0C2E6OaEF1
X-Received: by 2002:a92:c24f:0:b0:369:bc7f:512a with SMTP id
 k15-20020a92c24f000000b00369bc7f512amr128314ilo.1.1714059000030; 
 Thu, 25 Apr 2024 08:30:00 -0700 (PDT)
Received: from postal.iol.unh.edu (postal.iol.unh.edu.
 [2606:4100:3880:1234::84]) by smtp-relay.gmail.com with ESMTPS id
 q10-20020a92ca4a000000b0036894786b27sm885376ilo.4.2024.04.25.08.29.59
 (version=TLS1_2 cipher=ECDHE-ECDSA-AES128-GCM-SHA256 bits=128/128);
 Thu, 25 Apr 2024 08:30:00 -0700 (PDT)
X-Relaying-Domain: iol.unh.edu
Date: Thu, 25 Apr 2024 08:30:00 -0700 (PDT)
Message-ID: <662a76f8.920a0220.435ba.c499SMTPIN_ADDED_MISSING@mx.google.com>
Received: from [172.21.0.6] (unknown [172.18.0.240])
 by postal.iol.unh.edu (Postfix) with ESMTP id 860356052514;
 Thu, 25 Apr 2024 11:29:59 -0400 (EDT)
Subject: |SUCCESS| pw139678 [PATCH] [v1,1/1] MAINTAINERS: add another AF_XDP 
From: dpdklab@iol.unh.edu
To: Test Report <test-report@dpdk.org>
Cc: dpdk-test-reports@iol.unh.edu
In-Reply-To: <20240425144843.1014029-1-mtahhan@redhat.com>
References: <20240425144843.1014029-1-mtahhan@redhat.com>
Content-Type: text/plain
X-BeenThere: test-report@dpdk.org
X-Mailman-Version: 2.1.29
Precedence: list
List-Id: automatic DPDK test reports <test-report.dpdk.org>
List-Unsubscribe: <https://mails.dpdk.org/options/test-report>,
 <mailto:test-report-request@dpdk.org?subject=unsubscribe>
List-Archive: <http://mails.dpdk.org/archives/test-report/>
List-Post: <mailto:test-report@dpdk.org>
List-Help: <mailto:test-report-request@dpdk.org?subject=help>
List-Subscribe: <https://mails.dpdk.org/listinfo/test-report>,
 <mailto:test-report-request@dpdk.org?subject=subscribe>
Errors-To: test-report-bounces@dpdk.org

Test-Label: iol-unit-arm64-testing
Test-Status: SUCCESS
http://dpdk.org/patch/139678

_Testing PASS_

Submitter: Maryam Tahhan <mtahhan@redhat.com>
Date: Thursday, April 25 2024 14:48:31 
DPDK git baseline: Repo:dpdk
  Branch: master
  CommitID:7e06c0de1952d3109a5b0c4779d7e7d8059c9d78

139678 --> testing pass

Test environment and result as below:

+--------------------------+------------------------------+---------------------------+----------------+
|       Environment        | cryptodev_sw_snow3g_autotest | cryptodev_sw_zuc_autotest | dpdk_unit_test |
+==========================+==============================+===========================+================+
| Debian 12 (arm)          | PASS                         | PASS                      | PASS           |
+--------------------------+------------------------------+---------------------------+----------------+
| Debian 11 (Buster) (ARM) | SKIPPED                      | SKIPPED                   | PASS           |
+--------------------------+------------------------------+---------------------------+----------------+


Debian 12 (arm)
	Kernel: Container Host Kernel
	Compiler: gcc 12.2.0

Debian 11 (Buster) (ARM)
	Kernel: Container Host Kernel
	Compiler: gcc 10.2.1

To view detailed results, visit:
https://lab.dpdk.org/results/dashboard/patchsets/29854/

UNH-IOL DPDK Community Lab

To manage your email subscriptions, visit: 
https://lab.dpdk.org/results/dashboard/preferences/subscriptions/