From mboxrd@z Thu Jan  1 00:00:00 1970
Return-Path: <test-report-bounces@dpdk.org>
Received: from mails.dpdk.org (mails.dpdk.org [217.70.189.124])
	by inbox.dpdk.org (Postfix) with ESMTP id 3463F43F07
	for <public@inbox.dpdk.org>; Thu, 25 Apr 2024 17:31:56 +0200 (CEST)
Received: from mails.dpdk.org (localhost [127.0.0.1])
	by mails.dpdk.org (Postfix) with ESMTP id 31241402EE;
	Thu, 25 Apr 2024 17:31:56 +0200 (CEST)
Received: from mail-pf1-f226.google.com (mail-pf1-f226.google.com
 [209.85.210.226])
 by mails.dpdk.org (Postfix) with ESMTP id 8CFCC40284
 for <test-report@dpdk.org>; Thu, 25 Apr 2024 17:31:54 +0200 (CEST)
Received: by mail-pf1-f226.google.com with SMTP id
 d2e1a72fcca58-6ed691fb83eso983334b3a.1
 for <test-report@dpdk.org>; Thu, 25 Apr 2024 08:31:54 -0700 (PDT)
DKIM-Signature: v=1; a=rsa-sha256; c=relaxed/relaxed;
 d=iol.unh.edu; s=unh-iol; t=1714059114; x=1714663914; darn=dpdk.org;
 h=references:in-reply-to:cc:to:from:subject:message-id:date:from:to
 :cc:subject:date:message-id:reply-to;
 bh=O46Hp05RVAsvEUbv0JgPooVQi6mvY5gIZokttJKCd0w=;
 b=Em/a4fgzFn47JBt0K5bwvqdEtbi3CEslW2Vk5BcnGSDlsAbjOuayePU3po3Nh5qUTr
 Ln22roQGFreF3NpP0FquehAjNzu/ttSV4+KSSJHpTY04+Onji/tHTL3svrYkWjCdkLKX
 6yoqWife+UpiZoCgC7jejalEGRBAC7T4eYAuU=
X-Google-DKIM-Signature: v=1; a=rsa-sha256; c=relaxed/relaxed;
 d=1e100.net; s=20230601; t=1714059114; x=1714663914;
 h=references:in-reply-to:cc:to:from:subject:message-id:date
 :x-gm-message-state:from:to:cc:subject:date:message-id:reply-to;
 bh=O46Hp05RVAsvEUbv0JgPooVQi6mvY5gIZokttJKCd0w=;
 b=ixW6ggndg1UdneciJ0s2nlCiFtOx016TELc1VR+AmUhKaBgdxnAHveh2UzHq+pFQXf
 637v3exOSJphCD2bCKwKHxbxAX5lgoxR/2cOQMgRZC0myaQbHtCWaFtZNyFitfpqYwbf
 JC56rVZelm4hy1iTyp9pq/9/qV9lRWRouM5JQFYlXzERHcq1zVQ4G7LVHKhs5WPrNgZs
 xgrRmZIIFxfwbEzyu+AEtqeX2Z5882kXecWf6A+t8QLjXBLlBs2/dzQ8fpi5YHY+z7Gk
 Ba+DdV+xmZxpxcGQC+D5hZkc6h+2+Pslh8X/lVRxPbopHEah1SQ8U83a85O4LMiI/tHZ
 sWQg==
X-Gm-Message-State: AOJu0Yxo8d8RoXIA9zAjE/4/h4OmTvARHhF4MBAGsDV36/wQZUh9nF6I
 FN8So3okRosdNAZhKHjLXOha92npAmJWlJw62EAzFbvOYcgPGYKpRV8OEInqXafHSBawKcyzXh+
 7lVwuvahazQSYvSXXeBou2/Ect8f7fhhfz4WN+XhEAcIzksCo1qcx3aK8
X-Google-Smtp-Source: AGHT+IGVR8dVR2uxRYsvFnsp10BLJiFtQGVBbqytx9u7C3gOVu37oB7Z0hAQet3x2WOYEY5x8HQrN44vNrF4
X-Received: by 2002:a17:903:32ce:b0:1e4:24cc:e021 with SMTP id
 i14-20020a17090332ce00b001e424cce021mr7056441plr.50.1714059113749; 
 Thu, 25 Apr 2024 08:31:53 -0700 (PDT)
Received: from postal.iol.unh.edu (postal.iol.unh.edu.
 [2606:4100:3880:1234::84]) by smtp-relay.gmail.com with ESMTPS id
 lh15-20020a170903290f00b001e5a2f0b604sm503966plb.122.2024.04.25.08.31.53
 (version=TLS1_2 cipher=ECDHE-ECDSA-AES128-GCM-SHA256 bits=128/128);
 Thu, 25 Apr 2024 08:31:53 -0700 (PDT)
X-Relaying-Domain: iol.unh.edu
Date: Thu, 25 Apr 2024 08:31:53 -0700 (PDT)
Message-ID: <662a7769.170a0220.54bf7.a020SMTPIN_ADDED_MISSING@mx.google.com>
Received: from [172.21.0.6] (unknown [172.18.0.240])
 by postal.iol.unh.edu (Postfix) with ESMTP id EA1B86052514;
 Thu, 25 Apr 2024 11:31:52 -0400 (EDT)
Subject: |SUCCESS| pw139678 [PATCH] [v1,1/1] MAINTAINERS: add another AF_XDP 
From: dpdklab@iol.unh.edu
To: Test Report <test-report@dpdk.org>
Cc: dpdk-test-reports@iol.unh.edu
In-Reply-To: <20240425144843.1014029-1-mtahhan@redhat.com>
References: <20240425144843.1014029-1-mtahhan@redhat.com>
Content-Type: text/plain
X-BeenThere: test-report@dpdk.org
X-Mailman-Version: 2.1.29
Precedence: list
List-Id: automatic DPDK test reports <test-report.dpdk.org>
List-Unsubscribe: <https://mails.dpdk.org/options/test-report>,
 <mailto:test-report-request@dpdk.org?subject=unsubscribe>
List-Archive: <http://mails.dpdk.org/archives/test-report/>
List-Post: <mailto:test-report@dpdk.org>
List-Help: <mailto:test-report-request@dpdk.org?subject=help>
List-Subscribe: <https://mails.dpdk.org/listinfo/test-report>,
 <mailto:test-report-request@dpdk.org?subject=subscribe>
Errors-To: test-report-bounces@dpdk.org

Test-Label: iol-compile-amd64-testing
Test-Status: SUCCESS
http://dpdk.org/patch/139678

_Testing PASS_

Submitter: Maryam Tahhan <mtahhan@redhat.com>
Date: Thursday, April 25 2024 14:48:31 
DPDK git baseline: Repo:dpdk
  Branch: master
  CommitID:7e06c0de1952d3109a5b0c4779d7e7d8059c9d78

139678 --> testing pass

Test environment and result as below:

+---------------------+-------------------+--------------------+----------------------+
|     Environment     | dpdk_msvc_compile | dpdk_meson_compile | dpdk_mingw64_compile |
+=====================+===================+====================+======================+
| Windows Server 2022 | PASS              | PASS               | PASS                 |
+---------------------+-------------------+--------------------+----------------------+
| FreeBSD 13.3        | SKIPPED           | PASS               | SKIPPED              |
+---------------------+-------------------+--------------------+----------------------+
| CentOS Stream 9     | SKIPPED           | PASS               | SKIPPED              |
+---------------------+-------------------+--------------------+----------------------+
| CentOS Stream 8     | SKIPPED           | PASS               | SKIPPED              |
+---------------------+-------------------+--------------------+----------------------+
| Windows Server 2019 | SKIPPED           | PASS               | PASS                 |
+---------------------+-------------------+--------------------+----------------------+
| Fedora 38           | SKIPPED           | PASS               | SKIPPED              |
+---------------------+-------------------+--------------------+----------------------+
| Debian 12           | SKIPPED           | PASS               | SKIPPED              |
+---------------------+-------------------+--------------------+----------------------+
| Fedora 37           | SKIPPED           | PASS               | SKIPPED              |
+---------------------+-------------------+--------------------+----------------------+
| Fedora 39           | SKIPPED           | PASS               | SKIPPED              |
+---------------------+-------------------+--------------------+----------------------+
| Ubuntu 22.04        | SKIPPED           | PASS               | SKIPPED              |
+---------------------+-------------------+--------------------+----------------------+
| Ubuntu 20.04        | SKIPPED           | PASS               | SKIPPED              |
+---------------------+-------------------+--------------------+----------------------+


Windows Server 2022
	Kernel: 10.0.20348.2031
	Compiler: clang 15.0.7, gcc 8.1.0 (MinGW), and MSVC VS 17.9

FreeBSD 13.3
	Kernel: 13.3-RELEASE-p1
	Compiler: clang 17.0.6

CentOS Stream 9
	Kernel: 5.4.0-167-generic
	Compiler: gcc 11.4.1 20230605

CentOS Stream 8
	Kernel: 5.4.0-167-generic
	Compiler: gcc 8.5.0 20210514

Windows Server 2019
	Kernel: 10.0.17763
	Compiler: clang 14.0 and gcc 8.1.0 (MinGW)

Fedora 38
	Kernel: Depends on container host
	Compiler: gcc 13.2.1

Debian 12
	Kernel: Container Host Kernel
	Compiler: gcc 10.2.1

Fedora 37
	Kernel: Depends on container host system
	Compiler: gcc 12.3.1

Fedora 39
	Kernel: Depends on container host
	Compiler: gcc 13.2.1

Ubuntu 22.04
	Kernel: 5.4.0-167-generic
	Compiler: gcc 11.4.0

Ubuntu 20.04
	Kernel: 5.4.0-167-generic
	Compiler: gcc 9.4.0-1ubuntu1~20.04.1

To view detailed results, visit:
https://lab.dpdk.org/results/dashboard/patchsets/29854/

UNH-IOL DPDK Community Lab

To manage your email subscriptions, visit: 
https://lab.dpdk.org/results/dashboard/preferences/subscriptions/