From mboxrd@z Thu Jan  1 00:00:00 1970
Return-Path: <test-report-bounces@dpdk.org>
Received: from mails.dpdk.org (mails.dpdk.org [217.70.189.124])
	by inbox.dpdk.org (Postfix) with ESMTP id CAA8643F07
	for <public@inbox.dpdk.org>; Thu, 25 Apr 2024 17:33:35 +0200 (CEST)
Received: from mails.dpdk.org (localhost [127.0.0.1])
	by mails.dpdk.org (Postfix) with ESMTP id C418B402EE;
	Thu, 25 Apr 2024 17:33:35 +0200 (CEST)
Received: from mail-yb1-f226.google.com (mail-yb1-f226.google.com
 [209.85.219.226])
 by mails.dpdk.org (Postfix) with ESMTP id 07FD140284
 for <test-report@dpdk.org>; Thu, 25 Apr 2024 17:33:34 +0200 (CEST)
Received: by mail-yb1-f226.google.com with SMTP id
 3f1490d57ef6-de466c64161so1292687276.3
 for <test-report@dpdk.org>; Thu, 25 Apr 2024 08:33:33 -0700 (PDT)
DKIM-Signature: v=1; a=rsa-sha256; c=relaxed/relaxed;
 d=iol.unh.edu; s=unh-iol; t=1714059213; x=1714664013; darn=dpdk.org;
 h=references:in-reply-to:cc:to:from:subject:message-id:date:from:to
 :cc:subject:date:message-id:reply-to;
 bh=FkZAi1/WcFV6L9IJSsQ2Ja2nmf9uJgQRTHURW/U/65M=;
 b=ftvP1vXie+4BoXjJoyr0k+gfCS/NgKYEpNdhBwM80QuijKh49Iolb0de5CMUrAUdw3
 g+ObjPIZFE11zTBSKycRiX92BAOuehi0Kign9P/H0ifvep94XAuOmaYuEePFVetB+msy
 yqFg6LWbNtmfYikkEQnmQVOvbfDcXgDFpMNlk=
X-Google-DKIM-Signature: v=1; a=rsa-sha256; c=relaxed/relaxed;
 d=1e100.net; s=20230601; t=1714059213; x=1714664013;
 h=references:in-reply-to:cc:to:from:subject:message-id:date
 :x-gm-message-state:from:to:cc:subject:date:message-id:reply-to;
 bh=FkZAi1/WcFV6L9IJSsQ2Ja2nmf9uJgQRTHURW/U/65M=;
 b=jf7btEXC7C7553FIEfLVNoGyQWC97yMn7wG/JJAN74SCw0QPXY8WdslFdnv+XcHhIW
 M8LaQ6aG7GU/O7GgTdJxOBdoXb9Op3AQ0fJR0/7kz0cZqcO5DPAqM9rTTjnhtWgnmUHs
 pEmAubUawZHVfGMND4+4SyiGxMmomm6/mywnC3pfnLq+b00pNZf9VzAaGufoeDavI1aX
 TqYoTB5WM0JVbHy6YgrIApdcBS9E1F9hp4PmWbdmb755yFEGUDbQ9kvD350wwn5Tchh0
 pcw+1VlrSnbX4mhtyjjfnJiIZhIEC/FVKU8jTBa1i9FwTHDmnXfnaShxQ6ME9zjCFwg5
 7WWg==
X-Gm-Message-State: AOJu0YwCwPr3tBCH/R7LLrK1wF62R7+bhbyS2utsdRJQEflJWeJb/fmg
 7K9LVEBNEQiVxHsX0L8+qsPvh+Q+3C0sgURo14aQ1rWJ6LTTdZMbSWnJ2vS2fn360wzgASfVMSY
 PsQVp/uKCUaLmgDmNnWTJ4lZteWnL+wD2COf2bPn5
X-Google-Smtp-Source: AGHT+IE0WhDcoUhPJatWBLtO1U3/pGUn8PCEkckzN7i0Tid6UW5N21hzS8jNsD2MUyHlqFyT68hd0Xrebt9H
X-Received: by 2002:a25:2e0b:0:b0:de5:5872:88fd with SMTP id
 u11-20020a252e0b000000b00de5587288fdmr6231000ybu.46.1714059213410; 
 Thu, 25 Apr 2024 08:33:33 -0700 (PDT)
Received: from postal.iol.unh.edu (postal.iol.unh.edu. [132.177.123.84])
 by smtp-relay.gmail.com with ESMTPS id
 cq9-20020a0569020cc900b00de483e073d2sm755694ybb.12.2024.04.25.08.33.33
 (version=TLS1_2 cipher=ECDHE-ECDSA-AES128-GCM-SHA256 bits=128/128);
 Thu, 25 Apr 2024 08:33:33 -0700 (PDT)
X-Relaying-Domain: iol.unh.edu
Date: Thu, 25 Apr 2024 08:33:33 -0700 (PDT)
Message-ID: <662a77cd.050a0220.512b7.3df1SMTPIN_ADDED_MISSING@mx.google.com>
Received: from [172.21.0.6] (unknown [172.18.0.240])
 by postal.iol.unh.edu (Postfix) with ESMTP id 0D1516052514;
 Thu, 25 Apr 2024 11:33:33 -0400 (EDT)
Subject: |SUCCESS| pw139678 [PATCH] [v1,1/1] MAINTAINERS: add another AF_XDP 
From: dpdklab@iol.unh.edu
To: Test Report <test-report@dpdk.org>
Cc: dpdk-test-reports@iol.unh.edu
In-Reply-To: <20240425144843.1014029-1-mtahhan@redhat.com>
References: <20240425144843.1014029-1-mtahhan@redhat.com>
Content-Type: text/plain
X-BeenThere: test-report@dpdk.org
X-Mailman-Version: 2.1.29
Precedence: list
List-Id: automatic DPDK test reports <test-report.dpdk.org>
List-Unsubscribe: <https://mails.dpdk.org/options/test-report>,
 <mailto:test-report-request@dpdk.org?subject=unsubscribe>
List-Archive: <http://mails.dpdk.org/archives/test-report/>
List-Post: <mailto:test-report@dpdk.org>
List-Help: <mailto:test-report-request@dpdk.org?subject=help>
List-Subscribe: <https://mails.dpdk.org/listinfo/test-report>,
 <mailto:test-report-request@dpdk.org?subject=subscribe>
Errors-To: test-report-bounces@dpdk.org

Test-Label: iol-unit-arm64-testing
Test-Status: SUCCESS
http://dpdk.org/patch/139678

_Testing PASS_

Submitter: Maryam Tahhan <mtahhan@redhat.com>
Date: Thursday, April 25 2024 14:48:31 
DPDK git baseline: Repo:dpdk
  Branch: master
  CommitID:7e06c0de1952d3109a5b0c4779d7e7d8059c9d78

139678 --> testing pass

Test environment and result as below:

+--------------------------+------------------------------+---------------------------+----------------+
|       Environment        | cryptodev_sw_snow3g_autotest | cryptodev_sw_zuc_autotest | dpdk_unit_test |
+==========================+==============================+===========================+================+
| Debian 12 (arm)          | PASS                         | PASS                      | PASS           |
+--------------------------+------------------------------+---------------------------+----------------+
| Debian 11 (Buster) (ARM) | SKIPPED                      | SKIPPED                   | PASS           |
+--------------------------+------------------------------+---------------------------+----------------+
| CentOS Stream 9 (ARM)    | SKIPPED                      | SKIPPED                   | PASS           |
+--------------------------+------------------------------+---------------------------+----------------+


Debian 12 (arm)
	Kernel: Container Host Kernel
	Compiler: gcc 12.2.0

Debian 11 (Buster) (ARM)
	Kernel: Container Host Kernel
	Compiler: gcc 10.2.1

CentOS Stream 9 (ARM)
	Kernel: Container Host Kernel
	Compiler: gcc 11.4.1

To view detailed results, visit:
https://lab.dpdk.org/results/dashboard/patchsets/29854/

UNH-IOL DPDK Community Lab

To manage your email subscriptions, visit: 
https://lab.dpdk.org/results/dashboard/preferences/subscriptions/