From mboxrd@z Thu Jan  1 00:00:00 1970
Return-Path: <test-report-bounces@dpdk.org>
Received: from mails.dpdk.org (mails.dpdk.org [217.70.189.124])
	by inbox.dpdk.org (Postfix) with ESMTP id 3AD3443F07
	for <public@inbox.dpdk.org>; Thu, 25 Apr 2024 17:34:35 +0200 (CEST)
Received: from mails.dpdk.org (localhost [127.0.0.1])
	by mails.dpdk.org (Postfix) with ESMTP id 35514402EE;
	Thu, 25 Apr 2024 17:34:35 +0200 (CEST)
Received: from mail-pf1-f225.google.com (mail-pf1-f225.google.com
 [209.85.210.225])
 by mails.dpdk.org (Postfix) with ESMTP id 856BA40284
 for <test-report@dpdk.org>; Thu, 25 Apr 2024 17:34:33 +0200 (CEST)
Received: by mail-pf1-f225.google.com with SMTP id
 d2e1a72fcca58-6ed0e9ccca1so1115349b3a.0
 for <test-report@dpdk.org>; Thu, 25 Apr 2024 08:34:33 -0700 (PDT)
DKIM-Signature: v=1; a=rsa-sha256; c=relaxed/relaxed;
 d=iol.unh.edu; s=unh-iol; t=1714059272; x=1714664072; darn=dpdk.org;
 h=references:in-reply-to:cc:to:from:subject:message-id:date:from:to
 :cc:subject:date:message-id:reply-to;
 bh=TQM1od6vnYwICfsB8yvZFXrXaysQhfta5xe/RdMJ7+o=;
 b=AuNtZxie20zHK0dtsWouWv1OY0n8FZXfsbb/yLzOHtdLwJ9tqIfM35yOhB+hFFwlYT
 VNApgwSCWNMgOq7fmh8idSYi3Qj6/2N3trLJVMcdssKqb0Lbibi1CQSVfR5NbTzbFPty
 76d6NfvRbeITVPXn/lu4INhx57LFgzW2+KPOI=
X-Google-DKIM-Signature: v=1; a=rsa-sha256; c=relaxed/relaxed;
 d=1e100.net; s=20230601; t=1714059272; x=1714664072;
 h=references:in-reply-to:cc:to:from:subject:message-id:date
 :x-gm-message-state:from:to:cc:subject:date:message-id:reply-to;
 bh=TQM1od6vnYwICfsB8yvZFXrXaysQhfta5xe/RdMJ7+o=;
 b=C2xErqrbHl/TzwXiJ7CcRjnjoOVSVAWlsiuTefUTYVwH5BqXzHTxlx1ZS9DOvs9qvY
 MTHK6IrBMzCrszaglynfdPhqhucsZ3XRdcX4HsX4AFniAPOGIwUDKYTfaniKP3y5TqKQ
 1ga70K5JOee+woGgfk3i9qkDFXAopultR1nAWd3YKyg5fV2BJ9BzxJxZ+odwLysSzTYG
 dYT3DEnCdLwfiI4hd+WyTy6OXoDQSdgingHUKhQCDF8Fv4Ca7eaIRGzkJF9Doc5HZ1s4
 5DJbDERGj1I0PhNF/lYrz1G0oyv/Xb9NVgzxp4axue1ZcFV/coI51MEEWeRukiIRiSsf
 AtUw==
X-Gm-Message-State: AOJu0YwBCKPSN2r6/2+WSjXZ3PweLjvP7WNHg0qpUhMf2vLP8qHEE88X
 JKFknVP9j6O8xolb8KQ4CPQmT7qa4rY2eOlVXGcsw/nvWY+aLfspuqNEd2xvBTiw5s2rnor7j4A
 PFjkd2N3gQH8nQ00LxBMXNiktTTVUuS63xIcdD+7KjUfGEK0nnGZdmku0
X-Google-Smtp-Source: AGHT+IGmXg54kI8kfT7uddWLQB1x0nFXO+DajP8lRaJOuhEMc/VAZgA5n7RlEq58aJI4DFami3I661BRYufU
X-Received: by 2002:a17:903:2290:b0:1e5:2a20:2d68 with SMTP id
 b16-20020a170903229000b001e52a202d68mr8418352plh.47.1714059272572; 
 Thu, 25 Apr 2024 08:34:32 -0700 (PDT)
Received: from postal.iol.unh.edu (postal.iol.unh.edu.
 [2606:4100:3880:1234::84]) by smtp-relay.gmail.com with ESMTPS id
 w19-20020a1709029a9300b001e4253bcfb8sm486671plp.109.2024.04.25.08.34.32
 (version=TLS1_2 cipher=ECDHE-ECDSA-AES128-GCM-SHA256 bits=128/128);
 Thu, 25 Apr 2024 08:34:32 -0700 (PDT)
X-Relaying-Domain: iol.unh.edu
Date: Thu, 25 Apr 2024 08:34:32 -0700 (PDT)
Message-ID: <662a7808.170a0220.2edc6.9b31SMTPIN_ADDED_MISSING@mx.google.com>
Received: from [172.21.0.6] (unknown [172.18.0.240])
 by postal.iol.unh.edu (Postfix) with ESMTP id BC4B76052514;
 Thu, 25 Apr 2024 11:34:31 -0400 (EDT)
Subject: |SUCCESS| pw139678 [PATCH] [v1,1/1] MAINTAINERS: add another AF_XDP 
From: dpdklab@iol.unh.edu
To: Test Report <test-report@dpdk.org>
Cc: dpdk-test-reports@iol.unh.edu
In-Reply-To: <20240425144843.1014029-1-mtahhan@redhat.com>
References: <20240425144843.1014029-1-mtahhan@redhat.com>
Content-Type: text/plain
X-BeenThere: test-report@dpdk.org
X-Mailman-Version: 2.1.29
Precedence: list
List-Id: automatic DPDK test reports <test-report.dpdk.org>
List-Unsubscribe: <https://mails.dpdk.org/options/test-report>,
 <mailto:test-report-request@dpdk.org?subject=unsubscribe>
List-Archive: <http://mails.dpdk.org/archives/test-report/>
List-Post: <mailto:test-report@dpdk.org>
List-Help: <mailto:test-report-request@dpdk.org?subject=help>
List-Subscribe: <https://mails.dpdk.org/listinfo/test-report>,
 <mailto:test-report-request@dpdk.org?subject=subscribe>
Errors-To: test-report-bounces@dpdk.org

Test-Label: iol-compile-amd64-testing
Test-Status: SUCCESS
http://dpdk.org/patch/139678

_Testing PASS_

Submitter: Maryam Tahhan <mtahhan@redhat.com>
Date: Thursday, April 25 2024 14:48:31 
DPDK git baseline: Repo:dpdk
  Branch: master
  CommitID:7e06c0de1952d3109a5b0c4779d7e7d8059c9d78

139678 --> testing pass

Test environment and result as below:

+---------------------+-------------------+--------------------+----------------------+
|     Environment     | dpdk_msvc_compile | dpdk_meson_compile | dpdk_mingw64_compile |
+=====================+===================+====================+======================+
| Windows Server 2022 | PASS              | PASS               | PASS                 |
+---------------------+-------------------+--------------------+----------------------+
| FreeBSD 13.3        | SKIPPED           | PASS               | SKIPPED              |
+---------------------+-------------------+--------------------+----------------------+
| CentOS Stream 9     | SKIPPED           | PASS               | SKIPPED              |
+---------------------+-------------------+--------------------+----------------------+
| CentOS Stream 8     | SKIPPED           | PASS               | SKIPPED              |
+---------------------+-------------------+--------------------+----------------------+
| Windows Server 2019 | SKIPPED           | PASS               | PASS                 |
+---------------------+-------------------+--------------------+----------------------+
| Fedora 38           | SKIPPED           | PASS               | SKIPPED              |
+---------------------+-------------------+--------------------+----------------------+
| Debian 12           | SKIPPED           | PASS               | SKIPPED              |
+---------------------+-------------------+--------------------+----------------------+
| Fedora 37           | SKIPPED           | PASS               | SKIPPED              |
+---------------------+-------------------+--------------------+----------------------+
| Fedora 39           | SKIPPED           | PASS               | SKIPPED              |
+---------------------+-------------------+--------------------+----------------------+
| Ubuntu 22.04        | SKIPPED           | PASS               | SKIPPED              |
+---------------------+-------------------+--------------------+----------------------+
| Ubuntu 20.04        | SKIPPED           | PASS               | SKIPPED              |
+---------------------+-------------------+--------------------+----------------------+
| Debian Bullseye     | SKIPPED           | PASS               | SKIPPED              |
+---------------------+-------------------+--------------------+----------------------+


Windows Server 2022
	Kernel: 10.0.20348.2031
	Compiler: clang 15.0.7, gcc 8.1.0 (MinGW), and MSVC VS 17.9

FreeBSD 13.3
	Kernel: 13.3-RELEASE-p1
	Compiler: clang 17.0.6

CentOS Stream 9
	Kernel: 5.4.0-167-generic
	Compiler: gcc 11.4.1 20230605

CentOS Stream 8
	Kernel: 5.4.0-167-generic
	Compiler: gcc 8.5.0 20210514

Windows Server 2019
	Kernel: 10.0.17763
	Compiler: clang 14.0 and gcc 8.1.0 (MinGW)

Fedora 38
	Kernel: Depends on container host
	Compiler: gcc 13.2.1

Debian 12
	Kernel: Container Host Kernel
	Compiler: gcc 10.2.1

Fedora 37
	Kernel: Depends on container host system
	Compiler: gcc 12.3.1

Fedora 39
	Kernel: Depends on container host
	Compiler: gcc 13.2.1

Ubuntu 22.04
	Kernel: 5.4.0-167-generic
	Compiler: gcc 11.4.0

Ubuntu 20.04
	Kernel: 5.4.0-167-generic
	Compiler: gcc 9.4.0-1ubuntu1~20.04.1

Debian Bullseye
	Kernel: 5.4.0-167-generic
	Compiler: gcc 10.2.1-6

To view detailed results, visit:
https://lab.dpdk.org/results/dashboard/patchsets/29854/

UNH-IOL DPDK Community Lab

To manage your email subscriptions, visit: 
https://lab.dpdk.org/results/dashboard/preferences/subscriptions/