From mboxrd@z Thu Jan  1 00:00:00 1970
Return-Path: <test-report-bounces@dpdk.org>
Received: from mails.dpdk.org (mails.dpdk.org [217.70.189.124])
	by inbox.dpdk.org (Postfix) with ESMTP id 6EFBC43D99
	for <public@inbox.dpdk.org>; Thu, 25 Apr 2024 17:37:12 +0200 (CEST)
Received: from mails.dpdk.org (localhost [127.0.0.1])
	by mails.dpdk.org (Postfix) with ESMTP id 68E39402EE;
	Thu, 25 Apr 2024 17:37:12 +0200 (CEST)
Received: from mail-il1-f228.google.com (mail-il1-f228.google.com
 [209.85.166.228])
 by mails.dpdk.org (Postfix) with ESMTP id 1A17E40284
 for <test-report@dpdk.org>; Thu, 25 Apr 2024 17:37:05 +0200 (CEST)
Received: by mail-il1-f228.google.com with SMTP id
 e9e14a558f8ab-36c1b567676so4773765ab.2
 for <test-report@dpdk.org>; Thu, 25 Apr 2024 08:37:05 -0700 (PDT)
DKIM-Signature: v=1; a=rsa-sha256; c=relaxed/relaxed;
 d=iol.unh.edu; s=unh-iol; t=1714059424; x=1714664224; darn=dpdk.org;
 h=references:in-reply-to:cc:to:from:subject:message-id:date:from:to
 :cc:subject:date:message-id:reply-to;
 bh=RCX9hTFpkdq/IzmUKPpBjLaKbqMLRQjvd1ciIKrrqps=;
 b=fyCl4+uV8zDQZ9s14E89edLxrgQj/tBWG/mzvyKJQP6D5GHPTp7h3iCqxGbcm0c29l
 h21FCT5eI6+CcDJESW2v3c7AHUkIStcSImmNQhD99O+rr+qWBHzcb/o/qN/2MaC4QF7C
 y8IHibVOrwcELGJl4+DvBHxtt36WejVDtg97o=
X-Google-DKIM-Signature: v=1; a=rsa-sha256; c=relaxed/relaxed;
 d=1e100.net; s=20230601; t=1714059424; x=1714664224;
 h=references:in-reply-to:cc:to:from:subject:message-id:date
 :x-gm-message-state:from:to:cc:subject:date:message-id:reply-to;
 bh=RCX9hTFpkdq/IzmUKPpBjLaKbqMLRQjvd1ciIKrrqps=;
 b=M2JJ2mkdm7hXTZa1iGPcY49c0Naom6cdd3drfE4X62TB2syEZQ6JSgwPprQI6Gz+a+
 B7eUUTTBTyhcupmlbpGp7dHV1Oyrt8QbplHXly0uVJIsL9Q3z25J6CjWp+vapMMlQdSq
 IGMHyg9vjK/Af1HetbD+3jRxiapofoHrBJ1vGvALDaS25Yr11DacT1bak8Ke4T0vRM3v
 VYvAbM77sa4GYG6R7b4nqx+yZeHgRQ6ifYQ1zLSiz3JEEMy38hrWY/c7hkUDCyVR2FTu
 54Iun21xCU7e60Q2MqnhleBKCMQ313a8jtuegkrEJ6CgbclXwsotJEnNjKXOnk/6W1hW
 ASBg==
X-Gm-Message-State: AOJu0YxjHAajCkXQY/FkOco0vgCfUjXxYEkKiIyYouTXl64nJaJ5D8gP
 XhWU2zs0AJ1mNXxZ4a4XnPuJMDFKdW3zkUkPZ55HvA/9aoYNBjTlE1sORFeJxqQKXl25eyKxH2Z
 ML54MlOBO8iMxpLQrdWSPk9DxmT8XV0ZDncPM0nhpfGtqEUO0w9JEWCCn
X-Google-Smtp-Source: AGHT+IFDasIu7gslnTQMM4LhGJVpnM27kbqHrSjgROingS7ewtz2PFqdd4Bb/qO/2t45XrI10g/bN13P7be2
X-Received: by 2002:a05:6e02:219c:b0:36c:f20:91bd with SMTP id
 j28-20020a056e02219c00b0036c0f2091bdmr107862ila.22.1714059424486; 
 Thu, 25 Apr 2024 08:37:04 -0700 (PDT)
Received: from postal.iol.unh.edu (postal.iol.unh.edu.
 [2606:4100:3880:1234::84]) by smtp-relay.gmail.com with ESMTPS id
 q10-20020a92ca4a000000b0036894786b27sm885868ilo.4.2024.04.25.08.37.04
 (version=TLS1_2 cipher=ECDHE-ECDSA-AES128-GCM-SHA256 bits=128/128);
 Thu, 25 Apr 2024 08:37:04 -0700 (PDT)
X-Relaying-Domain: iol.unh.edu
Date: Thu, 25 Apr 2024 08:37:04 -0700 (PDT)
Message-ID: <662a78a0.920a0220.435ba.c5d6SMTPIN_ADDED_MISSING@mx.google.com>
Received: from [172.21.0.6] (unknown [172.18.0.240])
 by postal.iol.unh.edu (Postfix) with ESMTP id 2526D6052514;
 Thu, 25 Apr 2024 11:37:04 -0400 (EDT)
Subject: |SUCCESS| pw139678 [PATCH] [v1,1/1] MAINTAINERS: add another AF_XDP 
From: dpdklab@iol.unh.edu
To: Test Report <test-report@dpdk.org>
Cc: dpdk-test-reports@iol.unh.edu
In-Reply-To: <20240425144843.1014029-1-mtahhan@redhat.com>
References: <20240425144843.1014029-1-mtahhan@redhat.com>
Content-Type: text/plain
X-BeenThere: test-report@dpdk.org
X-Mailman-Version: 2.1.29
Precedence: list
List-Id: automatic DPDK test reports <test-report.dpdk.org>
List-Unsubscribe: <https://mails.dpdk.org/options/test-report>,
 <mailto:test-report-request@dpdk.org?subject=unsubscribe>
List-Archive: <http://mails.dpdk.org/archives/test-report/>
List-Post: <mailto:test-report@dpdk.org>
List-Help: <mailto:test-report-request@dpdk.org?subject=help>
List-Subscribe: <https://mails.dpdk.org/listinfo/test-report>,
 <mailto:test-report-request@dpdk.org?subject=subscribe>
Errors-To: test-report-bounces@dpdk.org

Test-Label: iol-unit-arm64-testing
Test-Status: SUCCESS
http://dpdk.org/patch/139678

_Testing PASS_

Submitter: Maryam Tahhan <mtahhan@redhat.com>
Date: Thursday, April 25 2024 14:48:31 
DPDK git baseline: Repo:dpdk
  Branch: master
  CommitID:7e06c0de1952d3109a5b0c4779d7e7d8059c9d78

139678 --> testing pass

Test environment and result as below:

+--------------------------+------------------------------+---------------------------+----------------+
|       Environment        | cryptodev_sw_snow3g_autotest | cryptodev_sw_zuc_autotest | dpdk_unit_test |
+==========================+==============================+===========================+================+
| Debian 12 (arm)          | PASS                         | PASS                      | PASS           |
+--------------------------+------------------------------+---------------------------+----------------+
| Debian 11 (Buster) (ARM) | SKIPPED                      | SKIPPED                   | PASS           |
+--------------------------+------------------------------+---------------------------+----------------+
| CentOS Stream 9 (ARM)    | SKIPPED                      | SKIPPED                   | PASS           |
+--------------------------+------------------------------+---------------------------+----------------+
| Fedora 37 (ARM)          | SKIPPED                      | SKIPPED                   | PASS           |
+--------------------------+------------------------------+---------------------------+----------------+
| Fedora 38 (ARM)          | SKIPPED                      | SKIPPED                   | PASS           |
+--------------------------+------------------------------+---------------------------+----------------+


Debian 12 (arm)
	Kernel: Container Host Kernel
	Compiler: gcc 12.2.0

Debian 11 (Buster) (ARM)
	Kernel: Container Host Kernel
	Compiler: gcc 10.2.1

CentOS Stream 9 (ARM)
	Kernel: Container Host Kernel
	Compiler: gcc 11.4.1

Fedora 37 (ARM)
	Kernel: Depends on container host
	Compiler: gcc 12.3.1

Fedora 38 (ARM)
	Kernel: Depends on container host
	Compiler: gcc 13.2.1

To view detailed results, visit:
https://lab.dpdk.org/results/dashboard/patchsets/29854/

UNH-IOL DPDK Community Lab

To manage your email subscriptions, visit: 
https://lab.dpdk.org/results/dashboard/preferences/subscriptions/