From mboxrd@z Thu Jan  1 00:00:00 1970
Return-Path: <test-report-bounces@dpdk.org>
Received: from mails.dpdk.org (mails.dpdk.org [217.70.189.124])
	by inbox.dpdk.org (Postfix) with ESMTP id BE40643D99
	for <public@inbox.dpdk.org>; Thu, 25 Apr 2024 17:44:42 +0200 (CEST)
Received: from mails.dpdk.org (localhost [127.0.0.1])
	by mails.dpdk.org (Postfix) with ESMTP id B99BE402EE;
	Thu, 25 Apr 2024 17:44:42 +0200 (CEST)
Received: from mail-io1-f97.google.com (mail-io1-f97.google.com
 [209.85.166.97]) by mails.dpdk.org (Postfix) with ESMTP id CEB3F40284
 for <test-report@dpdk.org>; Thu, 25 Apr 2024 17:44:40 +0200 (CEST)
Received: by mail-io1-f97.google.com with SMTP id
 ca18e2360f4ac-7d6a772af5bso40562239f.1
 for <test-report@dpdk.org>; Thu, 25 Apr 2024 08:44:40 -0700 (PDT)
DKIM-Signature: v=1; a=rsa-sha256; c=relaxed/relaxed;
 d=iol.unh.edu; s=unh-iol; t=1714059880; x=1714664680; darn=dpdk.org;
 h=references:in-reply-to:cc:to:from:subject:message-id:date:from:to
 :cc:subject:date:message-id:reply-to;
 bh=tYpMHIeZ/KO6qxkm5jVD5cC2R8uyfixYoS/AoWe8IdY=;
 b=KQoWZ2lbu/yaHhFmMLFT5tkHBT8Vjl8KGPnxosuBexvu11nhcwGqAXPx1szTYzI1Of
 wlHNxiDy0s0l0uMPojkK4KvafJFAZbHmqhuuPMVRZX6A0SPiFfM+5x/2NRq318s1PVUv
 x3ddSNYkH4qln7IDK9BPc3CkjPrtzQsg68EnA=
X-Google-DKIM-Signature: v=1; a=rsa-sha256; c=relaxed/relaxed;
 d=1e100.net; s=20230601; t=1714059880; x=1714664680;
 h=references:in-reply-to:cc:to:from:subject:message-id:date
 :x-gm-message-state:from:to:cc:subject:date:message-id:reply-to;
 bh=tYpMHIeZ/KO6qxkm5jVD5cC2R8uyfixYoS/AoWe8IdY=;
 b=CiRZq1JGaA+WYQmhlVzlDv//3SON0UkyPp7e51qFzSxg6xist/6WtlTaDc0hUfRd6V
 Jenxh27xTTOUMLycXGvuBqiRocBu5WVdyRTUezP+I4fCjomKY5JCAxK9ldNiOy1u5OZ2
 z3LwYXfafdatnX8UdPXE38/T4Ein9I71PYKIsi178bsXbXl76ELkVZfobQbtCw5Qmo9+
 PiTIW3Y+0pBBfuBo8Wp+Ho+BrpezcuxBKpXKj9opHnP616R/6xTG0W7cxfHssLRC4Etz
 iRUer8e3hsW1yFwIPK7vNlnssneLdIlCLKewH/ndfnae5Aeb/AvHgIsnVM2hyB2vnXQK
 EzDg==
X-Gm-Message-State: AOJu0YxcZw9jKkSI+8NbCCUgAV2lEnzlNvtLUzMx1pI0iCa5dQIZaQH/
 O71Zi14JrduLoiFHI0nCXu+VmysENahh+YGQuL0Cl1//wGcVPyZNPBwsQZiWgkMS4sDn9GDAYOK
 tQ1yUsjVdqKbTJDG6/wMF+fuu8XjsKY18wIO6O7IO
X-Google-Smtp-Source: AGHT+IEG9GEafRHysGkb5oPk4gHNf7IO5JkW024eCTWMdGqnxhkPIE1aTvBCKfF5ktP6VYwx9j9DETSvKm0I
X-Received: by 2002:a05:6e02:154e:b0:36b:3af2:2349 with SMTP id
 j14-20020a056e02154e00b0036b3af22349mr167357ilu.15.1714059879760; 
 Thu, 25 Apr 2024 08:44:39 -0700 (PDT)
Received: from postal.iol.unh.edu (postal.iol.unh.edu. [132.177.123.84])
 by smtp-relay.gmail.com with ESMTPS id
 r5-20020a056638300500b00482aff108f6sm1147095jak.55.2024.04.25.08.44.39
 (version=TLS1_2 cipher=ECDHE-ECDSA-AES128-GCM-SHA256 bits=128/128);
 Thu, 25 Apr 2024 08:44:39 -0700 (PDT)
X-Relaying-Domain: iol.unh.edu
Date: Thu, 25 Apr 2024 08:44:39 -0700 (PDT)
Message-ID: <662a7a67.050a0220.4c5d7.c39aSMTPIN_ADDED_MISSING@mx.google.com>
Received: from [172.21.0.6] (unknown [172.18.0.240])
 by postal.iol.unh.edu (Postfix) with ESMTP id 4B0656052514;
 Thu, 25 Apr 2024 11:44:39 -0400 (EDT)
Subject: |SUCCESS| pw139678 [PATCH] [v1,1/1] MAINTAINERS: add another AF_XDP 
From: dpdklab@iol.unh.edu
To: Test Report <test-report@dpdk.org>
Cc: dpdk-test-reports@iol.unh.edu
In-Reply-To: <20240425144843.1014029-1-mtahhan@redhat.com>
References: <20240425144843.1014029-1-mtahhan@redhat.com>
Content-Type: text/plain
X-BeenThere: test-report@dpdk.org
X-Mailman-Version: 2.1.29
Precedence: list
List-Id: automatic DPDK test reports <test-report.dpdk.org>
List-Unsubscribe: <https://mails.dpdk.org/options/test-report>,
 <mailto:test-report-request@dpdk.org?subject=unsubscribe>
List-Archive: <http://mails.dpdk.org/archives/test-report/>
List-Post: <mailto:test-report@dpdk.org>
List-Help: <mailto:test-report-request@dpdk.org?subject=help>
List-Subscribe: <https://mails.dpdk.org/listinfo/test-report>,
 <mailto:test-report-request@dpdk.org?subject=subscribe>
Errors-To: test-report-bounces@dpdk.org

Test-Label: iol-abi-testing
Test-Status: SUCCESS
http://dpdk.org/patch/139678

_Testing PASS_

Submitter: Maryam Tahhan <mtahhan@redhat.com>
Date: Thursday, April 25 2024 14:48:31 
DPDK git baseline: Repo:dpdk
  Branch: master
  CommitID:7e06c0de1952d3109a5b0c4779d7e7d8059c9d78

139678 --> testing pass

Test environment and result as below:

+------------------+----------+
|   Environment    | abi_test |
+==================+==========+
| Debian Bullseye  | PASS     |
+------------------+----------+
| Fedora 39        | PASS     |
+------------------+----------+
| RHEL8            | PASS     |
+------------------+----------+
| openSUSE Leap 15 | PASS     |
+------------------+----------+
| Fedora 38        | PASS     |
+------------------+----------+
| CentOS Stream 9  | PASS     |
+------------------+----------+
| Ubuntu 22.04     | PASS     |
+------------------+----------+
| CentOS Stream 8  | PASS     |
+------------------+----------+


Debian Bullseye
	Kernel: 5.4.0-167-generic
	Compiler: gcc 10.2.1-6

Fedora 39
	Kernel: Depends on container host
	Compiler: gcc 13.2.1

RHEL8
	Kernel: 5.4.0-167-generic
	Compiler: gcc 8.5.0 20210514 (Red Hat 8.5.0-20)

openSUSE Leap 15
	Kernel: 5.4.0-167-generic
	Compiler: gcc 7.5.0

Fedora 38
	Kernel: Depends on container host
	Compiler: clang 16.0.6

CentOS Stream 9
	Kernel: 5.4.0-167-generic
	Compiler: gcc 11.4.1 20230605

Ubuntu 22.04
	Kernel: 5.4.0-167-generic
	Compiler: gcc 11.4.0

CentOS Stream 8
	Kernel: 5.4.0-167-generic
	Compiler: gcc 8.5.0 20210514

To view detailed results, visit:
https://lab.dpdk.org/results/dashboard/patchsets/29854/

UNH-IOL DPDK Community Lab

To manage your email subscriptions, visit: 
https://lab.dpdk.org/results/dashboard/preferences/subscriptions/