From mboxrd@z Thu Jan  1 00:00:00 1970
Return-Path: <test-report-bounces@dpdk.org>
Received: from mails.dpdk.org (mails.dpdk.org [217.70.189.124])
	by inbox.dpdk.org (Postfix) with ESMTP id 1A36243D99
	for <public@inbox.dpdk.org>; Thu, 25 Apr 2024 17:53:53 +0200 (CEST)
Received: from mails.dpdk.org (localhost [127.0.0.1])
	by mails.dpdk.org (Postfix) with ESMTP id 11DD4438CF;
	Thu, 25 Apr 2024 17:53:53 +0200 (CEST)
Received: from mail-yw1-f226.google.com (mail-yw1-f226.google.com
 [209.85.128.226])
 by mails.dpdk.org (Postfix) with ESMTP id AB858402EE
 for <test-report@dpdk.org>; Thu, 25 Apr 2024 17:53:51 +0200 (CEST)
Received: by mail-yw1-f226.google.com with SMTP id
 00721157ae682-61b92a83216so13552387b3.2
 for <test-report@dpdk.org>; Thu, 25 Apr 2024 08:53:51 -0700 (PDT)
DKIM-Signature: v=1; a=rsa-sha256; c=relaxed/relaxed;
 d=iol.unh.edu; s=unh-iol; t=1714060431; x=1714665231; darn=dpdk.org;
 h=references:in-reply-to:cc:to:from:subject:message-id:date:from:to
 :cc:subject:date:message-id:reply-to;
 bh=9MY8wZd2WmS8IXascH7g5JgCkA4wiaW5jVWU9cwF7NA=;
 b=Mb6Vkz6TMeMaXOgjvrIoJuwpwa2bWW90uuq9U2W+aA85cinAdn/1s/33wgpmC73kQn
 6GG+zn3X37CJnCl+I25bepI49EFSwic8yts9k0D4+2Cgf34SSNwIqNMEBvlbgoajp1Vb
 ycmSGeE1f68sVxgotod8bHeW14spYijAPLd2Y=
X-Google-DKIM-Signature: v=1; a=rsa-sha256; c=relaxed/relaxed;
 d=1e100.net; s=20230601; t=1714060431; x=1714665231;
 h=references:in-reply-to:cc:to:from:subject:message-id:date
 :x-gm-message-state:from:to:cc:subject:date:message-id:reply-to;
 bh=9MY8wZd2WmS8IXascH7g5JgCkA4wiaW5jVWU9cwF7NA=;
 b=c+WD1TNr5BfbXNw0cj1l6fQQgbxd8ICd3Mmq9nb1mNZMsFJA5ReaJAb1ZSjjTLyr8P
 FX2pJcbQ6ATF4btd7y9gWwdAVn2ttbp9PP9t99GSDoNCvF2Mlu3/faWBQl9LHziAf6lz
 q51exM2oV/rKLueFMdTbaKbXNox6c7DQj2khB7/cg2nTrq5Uhi2TMYxUjUy6bhyNoAXP
 JmaEfCcZ0DjcpUbvsfcWzPIDocZqh825Gr2acQJBj5JGRlcj33e6M450DStOTks2cQEL
 O+Fu4hMpeNrHQvSGbu6Ioxgqk/vlKrTJhP6JSDO6K7EZ43qaJHBn0DHYgcT/lHrFHZ4u
 YZZQ==
X-Gm-Message-State: AOJu0YyXzh6w7mHTX203uTV+0qaLTiQVf1RS4wAmFO3U4D6mPyM58uYn
 Z21z7WqHdx89XE6kIdOoLh6vXsneWplT9nuZ/pW4Bk+lkIiO6FrpLLgAzBsXgNhNVJPrSFtwpEf
 ApDNU8WeLhi+mB3onY7cQyP95bN/iTrO6AQguhE2h
X-Google-Smtp-Source: AGHT+IE+zYSJOSvctKHtj6MFH8WozzHf7CJMWbTmeJxodth+u+vTMPYapP9cugJSajQSXbEc94X+WexPU6FX
X-Received: by 2002:a05:690c:108:b0:61a:af28:ed1a with SMTP id
 bd8-20020a05690c010800b0061aaf28ed1amr7434578ywb.31.1714060431064; 
 Thu, 25 Apr 2024 08:53:51 -0700 (PDT)
Received: from postal.iol.unh.edu (postal.iol.unh.edu. [132.177.123.84])
 by smtp-relay.gmail.com with ESMTPS id
 m74-20020a0dca4d000000b0061577675e70sm1229121ywd.11.2024.04.25.08.53.50
 (version=TLS1_2 cipher=ECDHE-ECDSA-AES128-GCM-SHA256 bits=128/128);
 Thu, 25 Apr 2024 08:53:51 -0700 (PDT)
X-Relaying-Domain: iol.unh.edu
Date: Thu, 25 Apr 2024 08:53:51 -0700 (PDT)
Message-ID: <662a7c8f.0d0a0220.65b27.1f92SMTPIN_ADDED_MISSING@mx.google.com>
Received: from [172.17.0.5] (unknown [172.18.0.217])
 by postal.iol.unh.edu (Postfix) with ESMTP id AD90E6052514;
 Thu, 25 Apr 2024 11:53:50 -0400 (EDT)
Subject: |SUCCESS| pw139678 [PATCH] [v1,1/1] MAINTAINERS: add another AF_XDP 
From: dpdklab@iol.unh.edu
To: Test Report <test-report@dpdk.org>
Cc: dpdk-test-reports@iol.unh.edu
In-Reply-To: <20240425144843.1014029-1-mtahhan@redhat.com>
References: <20240425144843.1014029-1-mtahhan@redhat.com>
Content-Type: text/plain
X-BeenThere: test-report@dpdk.org
X-Mailman-Version: 2.1.29
Precedence: list
List-Id: automatic DPDK test reports <test-report.dpdk.org>
List-Unsubscribe: <https://mails.dpdk.org/options/test-report>,
 <mailto:test-report-request@dpdk.org?subject=unsubscribe>
List-Archive: <http://mails.dpdk.org/archives/test-report/>
List-Post: <mailto:test-report@dpdk.org>
List-Help: <mailto:test-report-request@dpdk.org?subject=help>
List-Subscribe: <https://mails.dpdk.org/listinfo/test-report>,
 <mailto:test-report-request@dpdk.org?subject=subscribe>
Errors-To: test-report-bounces@dpdk.org

Test-Label: iol-unit-amd64-testing
Test-Status: SUCCESS
http://dpdk.org/patch/139678

_Testing PASS_

Submitter: Maryam Tahhan <mtahhan@redhat.com>
Date: Thursday, April 25 2024 14:48:31 
DPDK git baseline: Repo:dpdk
  Branch: master
  CommitID:7e06c0de1952d3109a5b0c4779d7e7d8059c9d78

139678 --> testing pass

Test environment and result as below:

+---------------------+----------------+
|     Environment     | dpdk_unit_test |
+=====================+================+
| Windows Server 2019 | PASS           |
+---------------------+----------------+
| Windows Server 2022 | PASS           |
+---------------------+----------------+
| CentOS Stream 9     | PASS           |
+---------------------+----------------+
| Debian Bullseye     | PASS           |
+---------------------+----------------+
| Debian 12           | PASS           |
+---------------------+----------------+
| CentOS Stream 8     | PASS           |
+---------------------+----------------+


Windows Server 2019
	Kernel: 10.0.17763
	Compiler: clang 14.0 and gcc 8.1.0 (MinGW)

Windows Server 2022
	Kernel: 10.0.20348.2031
	Compiler: clang 15.0.7, gcc 8.1.0 (MinGW), and MSVC VS 17.9

CentOS Stream 9
	Kernel: 5.4.0-167-generic
	Compiler: gcc 11.4.1 20230605

Debian Bullseye
	Kernel: 5.4.0-167-generic
	Compiler: gcc 10.2.1-6

Debian 12
	Kernel: Container Host Kernel
	Compiler: gcc 10.2.1

CentOS Stream 8
	Kernel: 5.4.0-167-generic
	Compiler: gcc 8.5.0 20210514

To view detailed results, visit:
https://lab.dpdk.org/results/dashboard/patchsets/29854/

UNH-IOL DPDK Community Lab

To manage your email subscriptions, visit: 
https://lab.dpdk.org/results/dashboard/preferences/subscriptions/