From mboxrd@z Thu Jan  1 00:00:00 1970
Return-Path: <test-report-bounces@dpdk.org>
Received: from mails.dpdk.org (mails.dpdk.org [217.70.189.124])
	by inbox.dpdk.org (Postfix) with ESMTP id B818D43F08
	for <public@inbox.dpdk.org>; Thu, 25 Apr 2024 18:03:02 +0200 (CEST)
Received: from mails.dpdk.org (localhost [127.0.0.1])
	by mails.dpdk.org (Postfix) with ESMTP id 9E6CB438DA;
	Thu, 25 Apr 2024 18:03:02 +0200 (CEST)
Received: from mail-oa1-f97.google.com (mail-oa1-f97.google.com
 [209.85.160.97]) by mails.dpdk.org (Postfix) with ESMTP id 099BA438CF
 for <test-report@dpdk.org>; Thu, 25 Apr 2024 18:03:02 +0200 (CEST)
Received: by mail-oa1-f97.google.com with SMTP id
 586e51a60fabf-22f746c56a2so501828fac.0
 for <test-report@dpdk.org>; Thu, 25 Apr 2024 09:03:01 -0700 (PDT)
DKIM-Signature: v=1; a=rsa-sha256; c=relaxed/relaxed;
 d=iol.unh.edu; s=unh-iol; t=1714060981; x=1714665781; darn=dpdk.org;
 h=references:in-reply-to:cc:to:from:subject:message-id:date:from:to
 :cc:subject:date:message-id:reply-to;
 bh=wj9G9UaL1o7PT4KrrOgOB3akarQtHfC/RgduW0QTc8M=;
 b=OfRF4sk7WI5AmWpTLtBOMGiqe9srS1O8if2upfnSgXJWUSLxXBe3YpHrUPcs5iNDa4
 V/08GPm+ztkxJW4U5JmT9X9msSlPdkXjAKcILBRJNoDKsqecf/y71pHrOLYrV6N0oG0P
 fRkpBi6mN01zdCIIW2jcgBBOC5J42kqNAktBA=
X-Google-DKIM-Signature: v=1; a=rsa-sha256; c=relaxed/relaxed;
 d=1e100.net; s=20230601; t=1714060981; x=1714665781;
 h=references:in-reply-to:cc:to:from:subject:message-id:date
 :x-gm-message-state:from:to:cc:subject:date:message-id:reply-to;
 bh=wj9G9UaL1o7PT4KrrOgOB3akarQtHfC/RgduW0QTc8M=;
 b=Jtpm1FKalJrx88mSghgSb2Y5ONDjr1kyO7C/lvmc6QBkga/BQ0mjTq7mYnw12trP2f
 b9uicTGm2MrAR2FTx1cKTrVWnFyIhYIpjcl5D7Z4VjaCyNvNbeA5SdatIxsQ0uCC7dup
 DutRbeiNTj8U4f6+5uYv9RQ+s7IONmnoPZRVNTYiLb7fnWtiyUrY4NlzQEfiMEhn7FUN
 PR6RS/hcLKij5MQnBrWvC9a+ODx6jUXz4JgM+XshVqVPZ3s+/gYNS+uViT0e2Pphhz+z
 ar8NjRlBusxuRmVcdBBoVtUoIEouA62KoS6rN9w+kJhUzA18vszVSH+DmZL5bR8RgBG9
 psdw==
X-Gm-Message-State: AOJu0YymB1PfqIhCk3yQy3JZDR84Fyzbvulitc8shrURMEkjaqhjbVr7
 Hs1keNMfsH8rrsmJEfFo8tZ9ZOHYGDYOLKOs/R0oJj8jKcw5fIk/so6ggE/BzK09a2ZIt6jIEr8
 3Qx22PfcvBJ1Ae1TVk3mJcjccMCZnVD510mI8VHTHdHKv0/sTiNbILYsD
X-Google-Smtp-Source: AGHT+IGedYgtXBrzEiOQqn0XCnnQjYQUV8BSW1Usflcm/O6dACC3PHgnnvuWYikuF556vpAUTnI6Mh/LxnhW
X-Received: by 2002:a05:6870:55d1:b0:221:9157:b587 with SMTP id
 qk17-20020a05687055d100b002219157b587mr7514487oac.35.1714060981326; 
 Thu, 25 Apr 2024 09:03:01 -0700 (PDT)
Received: from postal.iol.unh.edu (postal.iol.unh.edu.
 [2606:4100:3880:1234::84]) by smtp-relay.gmail.com with ESMTPS id
 zv40-20020a0568714fa800b0023433f8ba7csm342999oab.43.2024.04.25.09.03.01
 (version=TLS1_2 cipher=ECDHE-ECDSA-AES128-GCM-SHA256 bits=128/128);
 Thu, 25 Apr 2024 09:03:01 -0700 (PDT)
X-Relaying-Domain: iol.unh.edu
Date: Thu, 25 Apr 2024 09:03:01 -0700 (PDT)
Message-ID: <662a7eb5.050a0220.92f51.f98dSMTPIN_ADDED_MISSING@mx.google.com>
Received: from [172.17.0.2] (unknown [172.18.0.217])
 by postal.iol.unh.edu (Postfix) with ESMTP id A97346052523;
 Thu, 25 Apr 2024 12:03:00 -0400 (EDT)
Subject: |SUCCESS| pw139678 [PATCH] [v1,1/1] MAINTAINERS: add another AF_XDP 
From: dpdklab@iol.unh.edu
To: Test Report <test-report@dpdk.org>
Cc: dpdk-test-reports@iol.unh.edu
In-Reply-To: <20240425144843.1014029-1-mtahhan@redhat.com>
References: <20240425144843.1014029-1-mtahhan@redhat.com>
Content-Type: text/plain
X-BeenThere: test-report@dpdk.org
X-Mailman-Version: 2.1.29
Precedence: list
List-Id: automatic DPDK test reports <test-report.dpdk.org>
List-Unsubscribe: <https://mails.dpdk.org/options/test-report>,
 <mailto:test-report-request@dpdk.org?subject=unsubscribe>
List-Archive: <http://mails.dpdk.org/archives/test-report/>
List-Post: <mailto:test-report@dpdk.org>
List-Help: <mailto:test-report-request@dpdk.org?subject=help>
List-Subscribe: <https://mails.dpdk.org/listinfo/test-report>,
 <mailto:test-report-request@dpdk.org?subject=subscribe>
Errors-To: test-report-bounces@dpdk.org

Test-Label: iol-unit-amd64-testing
Test-Status: SUCCESS
http://dpdk.org/patch/139678

_Testing PASS_

Submitter: Maryam Tahhan <mtahhan@redhat.com>
Date: Thursday, April 25 2024 14:48:31 
DPDK git baseline: Repo:dpdk
  Branch: master
  CommitID:7e06c0de1952d3109a5b0c4779d7e7d8059c9d78

139678 --> testing pass

Test environment and result as below:

+---------------------+----------------+
|     Environment     | dpdk_unit_test |
+=====================+================+
| Windows Server 2019 | PASS           |
+---------------------+----------------+
| Windows Server 2022 | PASS           |
+---------------------+----------------+
| CentOS Stream 9     | PASS           |
+---------------------+----------------+
| Debian Bullseye     | PASS           |
+---------------------+----------------+
| Debian 12           | PASS           |
+---------------------+----------------+
| CentOS Stream 8     | PASS           |
+---------------------+----------------+
| Fedora 37           | PASS           |
+---------------------+----------------+
| Fedora 39           | PASS           |
+---------------------+----------------+
| RHEL8               | PASS           |
+---------------------+----------------+


Windows Server 2019
	Kernel: 10.0.17763
	Compiler: clang 14.0 and gcc 8.1.0 (MinGW)

Windows Server 2022
	Kernel: 10.0.20348.2031
	Compiler: clang 15.0.7, gcc 8.1.0 (MinGW), and MSVC VS 17.9

CentOS Stream 9
	Kernel: 5.4.0-167-generic
	Compiler: gcc 11.4.1 20230605

Debian Bullseye
	Kernel: 5.4.0-167-generic
	Compiler: gcc 10.2.1-6

Debian 12
	Kernel: Container Host Kernel
	Compiler: gcc 10.2.1

CentOS Stream 8
	Kernel: 5.4.0-167-generic
	Compiler: gcc 8.5.0 20210514

Fedora 37
	Kernel: Depends on container host system
	Compiler: gcc 12.3.1

Fedora 39
	Kernel: Depends on container host
	Compiler: gcc 13.2.1

RHEL8
	Kernel: 5.4.0-167-generic
	Compiler: gcc 8.5.0 20210514 (Red Hat 8.5.0-20)

To view detailed results, visit:
https://lab.dpdk.org/results/dashboard/patchsets/29854/

UNH-IOL DPDK Community Lab

To manage your email subscriptions, visit: 
https://lab.dpdk.org/results/dashboard/preferences/subscriptions/