From mboxrd@z Thu Jan  1 00:00:00 1970
Return-Path: <test-report-bounces@dpdk.org>
Received: from mails.dpdk.org (mails.dpdk.org [217.70.189.124])
	by inbox.dpdk.org (Postfix) with ESMTP id B5A4E43F08
	for <public@inbox.dpdk.org>; Thu, 25 Apr 2024 19:33:23 +0200 (CEST)
Received: from mails.dpdk.org (localhost [127.0.0.1])
	by mails.dpdk.org (Postfix) with ESMTP id AFD5F438F3;
	Thu, 25 Apr 2024 19:33:23 +0200 (CEST)
Received: from mail-yw1-f226.google.com (mail-yw1-f226.google.com
 [209.85.128.226])
 by mails.dpdk.org (Postfix) with ESMTP id 1D558438DA
 for <test-report@dpdk.org>; Thu, 25 Apr 2024 19:33:23 +0200 (CEST)
Received: by mail-yw1-f226.google.com with SMTP id
 00721157ae682-61816fc256dso12703667b3.0
 for <test-report@dpdk.org>; Thu, 25 Apr 2024 10:33:23 -0700 (PDT)
DKIM-Signature: v=1; a=rsa-sha256; c=relaxed/relaxed;
 d=iol.unh.edu; s=unh-iol; t=1714066402; x=1714671202; darn=dpdk.org;
 h=references:in-reply-to:cc:to:from:subject:message-id:date:from:to
 :cc:subject:date:message-id:reply-to;
 bh=ol3LjUwrapHjL51hGYv9piLSIWXizFS+RNbUv6vwaHY=;
 b=aN2RX/oR4RXvQvG/PxnInag06+X61YOREwwoSMZXhMDI8zMe4SpSWhW4CeCHAWd7SA
 MZJb1HZcxguOcM4mItlOqSmEMrmJJp4/yUOmZSqa38e4POQGOT80iagY2o4CIaDL7AvS
 zEO+RzmtuVN0u1KM3QExkbZ1lvMEbLAjIoi74=
X-Google-DKIM-Signature: v=1; a=rsa-sha256; c=relaxed/relaxed;
 d=1e100.net; s=20230601; t=1714066402; x=1714671202;
 h=references:in-reply-to:cc:to:from:subject:message-id:date
 :x-gm-message-state:from:to:cc:subject:date:message-id:reply-to;
 bh=ol3LjUwrapHjL51hGYv9piLSIWXizFS+RNbUv6vwaHY=;
 b=ewljuUT1ipxAOumtRKPkED6Z0O8lyfNx5rUb+MHP7SurIPpLMmEtYHLZlK+JXuX4AU
 vKh2huN7HxbsNcyhY2WRld2AVvkomfa5LcdKaiULhHLBm6w2wFme+B1/CrpvXtMkf5Sx
 evZcNFCpLJqhW/MSRSeGPtfmr9gS9Dg6ZVXwguILkiqlEvLIr29cJhz8jTkGJpRYNTCz
 kY0vNBwEkjj4PlW4es8vA8CPQnuDyDvvmwY07YqvN5RfghpcKpJN0tijkqBl3he7Ictq
 go9XlnSVM3SdL21Zjw30oeiAPPVPYKx+P/qYJvnDHFpeRL4gNXpq23VNb57Bxqk2+QWh
 944g==
X-Gm-Message-State: AOJu0Yy1HVYisKXCOZMI6rPHJbu/cNdioFNvCW9s9NKMPBa/r2VymU58
 dW+A5aC/sK2fPUpemNUjvjTD4YdFivQX6IhAKF+/OYCgRqObGaXe0nkv/plsKiqn1XmmUQyjKZP
 Kt1RNU/sod1Z5EE95xlJULP6uhv1v1hyKyRLwybLW
X-Google-Smtp-Source: AGHT+IEgjuV9HvjpN7ynF50z2EbG2KgC3U+Omxr3nvEJxFnv4y5rNGT/d57J//E3tWfFlOcMOY9SDSF+stJp
X-Received: by 2002:a05:690c:6401:b0:615:48ee:246a with SMTP id
 hr1-20020a05690c640100b0061548ee246amr245092ywb.39.1714066402292; 
 Thu, 25 Apr 2024 10:33:22 -0700 (PDT)
Received: from postal.iol.unh.edu (postal.iol.unh.edu. [132.177.123.84])
 by smtp-relay.gmail.com with ESMTPS id
 cw7-20020a056130220700b007eb706056d6sm817343uab.14.2024.04.25.10.33.22
 (version=TLS1_2 cipher=ECDHE-ECDSA-AES128-GCM-SHA256 bits=128/128);
 Thu, 25 Apr 2024 10:33:22 -0700 (PDT)
X-Relaying-Domain: iol.unh.edu
Date: Thu, 25 Apr 2024 10:33:22 -0700 (PDT)
Message-ID: <662a93e2.050a0220.1614d.5b30SMTPIN_ADDED_MISSING@mx.google.com>
Received: from [172.21.0.7] (unknown [172.18.0.240])
 by postal.iol.unh.edu (Postfix) with ESMTP id D16D96052514;
 Thu, 25 Apr 2024 13:33:21 -0400 (EDT)
Subject: |SUCCESS| pw139681 [PATCH] ethdev: document that stats reset APIs ar
From: dpdklab@iol.unh.edu
To: Test Report <test-report@dpdk.org>
Cc: dpdk-test-reports@iol.unh.edu
In-Reply-To: <20240425165308.1078454-1-ferruh.yigit@amd.com>
References: <20240425165308.1078454-1-ferruh.yigit@amd.com>
Content-Type: text/plain
X-BeenThere: test-report@dpdk.org
X-Mailman-Version: 2.1.29
Precedence: list
List-Id: automatic DPDK test reports <test-report.dpdk.org>
List-Unsubscribe: <https://mails.dpdk.org/options/test-report>,
 <mailto:test-report-request@dpdk.org?subject=unsubscribe>
List-Archive: <http://mails.dpdk.org/archives/test-report/>
List-Post: <mailto:test-report@dpdk.org>
List-Help: <mailto:test-report-request@dpdk.org?subject=help>
List-Subscribe: <https://mails.dpdk.org/listinfo/test-report>,
 <mailto:test-report-request@dpdk.org?subject=subscribe>
Errors-To: test-report-bounces@dpdk.org

Test-Label: iol-compile-amd64-testing
Test-Status: SUCCESS
http://dpdk.org/patch/139681

_Testing PASS_

Submitter: Ferruh Yigit <ferruh.yigit@amd.com>
Date: Thursday, April 25 2024 16:53:08 
DPDK git baseline: Repo:dpdk
  Branch: master
  CommitID:8841786ab4aa72d205f97528af8708a13a851f4f

139681 --> testing pass

Test environment and result as below:

+---------------------+--------------------+-------------------+
|     Environment     | dpdk_meson_compile | dpdk_msvc_compile |
+=====================+====================+===================+
| FreeBSD 13.3        | PASS               | SKIPPED           |
+---------------------+--------------------+-------------------+
| Windows Server 2019 | PASS               | SKIPPED           |
+---------------------+--------------------+-------------------+
| Windows Server 2022 | PASS               | PASS              |
+---------------------+--------------------+-------------------+
| CentOS Stream 8     | PASS               | SKIPPED           |
+---------------------+--------------------+-------------------+


FreeBSD 13.3
	Kernel: 13.3-RELEASE-p1
	Compiler: clang 17.0.6

Windows Server 2019
	Kernel: 10.0.17763
	Compiler: clang 14.0 and gcc 8.1.0 (MinGW)

Windows Server 2022
	Kernel: 10.0.20348.2031
	Compiler: clang 15.0.7, gcc 8.1.0 (MinGW), and MSVC VS 17.9

CentOS Stream 8
	Kernel: 5.4.0-167-generic
	Compiler: gcc 8.5.0 20210514

To view detailed results, visit:
https://lab.dpdk.org/results/dashboard/patchsets/29857/

UNH-IOL DPDK Community Lab

To manage your email subscriptions, visit: 
https://lab.dpdk.org/results/dashboard/preferences/subscriptions/