From mboxrd@z Thu Jan  1 00:00:00 1970
Return-Path: <test-report-bounces@dpdk.org>
Received: from mails.dpdk.org (mails.dpdk.org [217.70.189.124])
	by inbox.dpdk.org (Postfix) with ESMTP id 4CE3243F09
	for <public@inbox.dpdk.org>; Thu, 25 Apr 2024 20:09:03 +0200 (CEST)
Received: from mails.dpdk.org (localhost [127.0.0.1])
	by mails.dpdk.org (Postfix) with ESMTP id 471DD40A67;
	Thu, 25 Apr 2024 20:09:03 +0200 (CEST)
Received: from mail-pf1-f226.google.com (mail-pf1-f226.google.com
 [209.85.210.226])
 by mails.dpdk.org (Postfix) with ESMTP id 8715C40282
 for <test-report@dpdk.org>; Thu, 25 Apr 2024 20:08:51 +0200 (CEST)
Received: by mail-pf1-f226.google.com with SMTP id
 d2e1a72fcca58-6ed691fb83eso1145875b3a.1
 for <test-report@dpdk.org>; Thu, 25 Apr 2024 11:08:51 -0700 (PDT)
DKIM-Signature: v=1; a=rsa-sha256; c=relaxed/relaxed;
 d=iol.unh.edu; s=unh-iol; t=1714068531; x=1714673331; darn=dpdk.org;
 h=references:in-reply-to:cc:to:from:subject:message-id:date:from:to
 :cc:subject:date:message-id:reply-to;
 bh=u1u2IB4r/YqBEbyIOK931e4axCoaUU9V4OAaTntwQ1k=;
 b=DZOMvRoTdYjvulmQTePekG00HuSgj8MzhsovpNvISnVvGtji6lD0S99XLpenw6bNar
 OF9cVPWWQGZIZXMxuEhf3RpRdvg4+AhFoVarr+/IyR9Jc9kx4koyNl2aJmWRDbMEpNH7
 4v5dzj8ItDdCDVH60XKrHqRX+cYTa3qwEd854=
X-Google-DKIM-Signature: v=1; a=rsa-sha256; c=relaxed/relaxed;
 d=1e100.net; s=20230601; t=1714068531; x=1714673331;
 h=references:in-reply-to:cc:to:from:subject:message-id:date
 :x-gm-message-state:from:to:cc:subject:date:message-id:reply-to;
 bh=u1u2IB4r/YqBEbyIOK931e4axCoaUU9V4OAaTntwQ1k=;
 b=P/SyCvbR85KyptM+M3UIPm5Pbs3q9Myv0Tas1AUIN8+zV6EoX23T2ubekBrLUDYoEP
 80YxYB/9w4tnoQDfp0z5Tii+rfY1IvE3mwNCFlkbA6jmFuf+gbA6kTFs9AkCCCzAw+29
 pUqMyAFkeae9+lDpuS7Wi50hLhh4kEpb2tOdNC30Fg37b+5a+YGuUodobyza8ncrO6Ag
 ijY6gbYQwyly87eSTfRWsFFCn12SyhX/WbHq5Jn5j+fpyo0DRWKXTgs7Hb0VKug+a0lt
 mKnVqj7EeGJkU1JrJBTpDUYM/SCqalSIPUxp2wPEHUgZNK9UvnsJleFd6a5GyRSjD25y
 ULWg==
X-Gm-Message-State: AOJu0YyC6LBAnauQ2Ygc4bBiDb/c+pICfPmVIGz4MhE4UNGWaErmZLid
 RjU/wxGEAS4p8qYwYQdZciaCT+VyEaVKPTjBGLlvD0yqpHT/ZA69+MssTKVDynj6CJy1EoTfUPe
 VLJYhK7e1Z98I1gb7fWn9t/CYJBuSnffLN9KfXgXnXepWX/6ZqF2AUHNL
X-Google-Smtp-Source: AGHT+IFcb9nh3cgv719tl2pA72LvlntzZBPwdOnKh6cLF5AVMMfO77xyeAGP5o7aVdcScdRUiBoqm8983nJS
X-Received: by 2002:a05:6a00:1784:b0:6ec:f2e7:21a8 with SMTP id
 s4-20020a056a00178400b006ecf2e721a8mr653157pfg.21.1714068530710; 
 Thu, 25 Apr 2024 11:08:50 -0700 (PDT)
Received: from postal.iol.unh.edu (postal.iol.unh.edu.
 [2606:4100:3880:1234::84]) by smtp-relay.gmail.com with ESMTPS id
 z1-20020a056a00240100b006eac41e9676sm1103856pfh.11.2024.04.25.11.08.50
 (version=TLS1_2 cipher=ECDHE-ECDSA-AES128-GCM-SHA256 bits=128/128);
 Thu, 25 Apr 2024 11:08:50 -0700 (PDT)
X-Relaying-Domain: iol.unh.edu
Date: Thu, 25 Apr 2024 11:08:50 -0700 (PDT)
Message-ID: <662a9c32.050a0220.74c1f.7314SMTPIN_ADDED_MISSING@mx.google.com>
Received: from [172.21.0.7] (unknown [172.18.0.240])
 by postal.iol.unh.edu (Postfix) with ESMTP id E2F3F6052514;
 Thu, 25 Apr 2024 14:08:49 -0400 (EDT)
Subject: |SUCCESS| pw139681 [PATCH] ethdev: document that stats reset APIs ar
From: dpdklab@iol.unh.edu
To: Test Report <test-report@dpdk.org>
Cc: dpdk-test-reports@iol.unh.edu
In-Reply-To: <20240425165308.1078454-1-ferruh.yigit@amd.com>
References: <20240425165308.1078454-1-ferruh.yigit@amd.com>
Content-Type: text/plain
X-BeenThere: test-report@dpdk.org
X-Mailman-Version: 2.1.29
Precedence: list
List-Id: automatic DPDK test reports <test-report.dpdk.org>
List-Unsubscribe: <https://mails.dpdk.org/options/test-report>,
 <mailto:test-report-request@dpdk.org?subject=unsubscribe>
List-Archive: <http://mails.dpdk.org/archives/test-report/>
List-Post: <mailto:test-report@dpdk.org>
List-Help: <mailto:test-report-request@dpdk.org?subject=help>
List-Subscribe: <https://mails.dpdk.org/listinfo/test-report>,
 <mailto:test-report-request@dpdk.org?subject=subscribe>
Errors-To: test-report-bounces@dpdk.org

Test-Label: iol-unit-amd64-testing
Test-Status: SUCCESS
http://dpdk.org/patch/139681

_Testing PASS_

Submitter: Ferruh Yigit <ferruh.yigit@amd.com>
Date: Thursday, April 25 2024 16:53:08 
DPDK git baseline: Repo:dpdk
  Branch: master
  CommitID:8841786ab4aa72d205f97528af8708a13a851f4f

139681 --> testing pass

Test environment and result as below:

+---------------------+----------------+
|     Environment     | dpdk_unit_test |
+=====================+================+
| Windows Server 2019 | PASS           |
+---------------------+----------------+
| CentOS Stream 9     | PASS           |
+---------------------+----------------+
| Windows Server 2022 | PASS           |
+---------------------+----------------+


Windows Server 2019
	Kernel: 10.0.17763
	Compiler: clang 14.0 and gcc 8.1.0 (MinGW)

CentOS Stream 9
	Kernel: 5.4.0-167-generic
	Compiler: gcc 11.4.1 20230605

Windows Server 2022
	Kernel: 10.0.20348.2031
	Compiler: clang 15.0.7, gcc 8.1.0 (MinGW), and MSVC VS 17.9

To view detailed results, visit:
https://lab.dpdk.org/results/dashboard/patchsets/29857/

UNH-IOL DPDK Community Lab

To manage your email subscriptions, visit: 
https://lab.dpdk.org/results/dashboard/preferences/subscriptions/